BEGIN:VCALENDAR
VERSION:2.0
PRODID:-//PARENTGUIDENEWS - ECPv6.15.12.2//NONSGML v1.0//EN
CALSCALE:GREGORIAN
METHOD:PUBLISH
X-ORIGINAL-URL:https://parentguidenews.com
X-WR-CALDESC:Events for PARENTGUIDENEWS
REFRESH-INTERVAL;VALUE=DURATION:PT1H
X-Robots-Tag:noindex
X-PUBLISHED-TTL:PT1H
BEGIN:VTIMEZONE
TZID:America/New_York
BEGIN:DAYLIGHT
TZOFFSETFROM:-0500
TZOFFSETTO:-0400
TZNAME:EDT
DTSTART:20240310T070000
END:DAYLIGHT
BEGIN:STANDARD
TZOFFSETFROM:-0400
TZOFFSETTO:-0500
TZNAME:EST
DTSTART:20241103T060000
END:STANDARD
BEGIN:DAYLIGHT
TZOFFSETFROM:-0500
TZOFFSETTO:-0400
TZNAME:EDT
DTSTART:20250309T070000
END:DAYLIGHT
BEGIN:STANDARD
TZOFFSETFROM:-0400
TZOFFSETTO:-0500
TZNAME:EST
DTSTART:20251102T060000
END:STANDARD
BEGIN:DAYLIGHT
TZOFFSETFROM:-0500
TZOFFSETTO:-0400
TZNAME:EDT
DTSTART:20260308T070000
END:DAYLIGHT
BEGIN:STANDARD
TZOFFSETFROM:-0400
TZOFFSETTO:-0500
TZNAME:EST
DTSTART:20261101T060000
END:STANDARD
END:VTIMEZONE
BEGIN:VEVENT
DTSTART;TZID=America/New_York:20251229T160000
DTEND;TZID=America/New_York:20251229T203000
DTSTAMP:20260419T200835
CREATED:20251221T174237Z
LAST-MODIFIED:20251221T174237Z
UID:10035711-1767024000-1767040200@parentguidenews.com
SUMMARY:NYC & Westchester Holiday Lights Helicopter Tour
DESCRIPTION:Soar through the season. Departing from Westchester County Airport\, participants will fly over New York City and Westchester\, creating unforgettable memories with friends and family. This once-in-a-lifetime opportunity showcases the breathtaking views of the iconic Manhattan skyline and familiar landmarks beautifully adorned in holiday lights. Tours take place Dec. 1 – 31 (closed Dec. 25).
URL:https://parentguidenews.com/event/nyc-westchester-holiday-lights-helicopter-tour-7/
LOCATION:Wings Air Helicopters
CATEGORIES:Westchester
ATTACH;FMTTYPE=image/jpeg:https://parentguidenews.com/wp-content/uploads/2025/12/Wings-Air-Holiday-Lights-scaled-thrHIe.jpe
GEO:41.0637761;-73.7147139
END:VEVENT
BEGIN:VEVENT
DTSTART;TZID=America/New_York:20251229T160000
DTEND;TZID=America/New_York:20251229T203000
DTSTAMP:20260419T200835
CREATED:20251120T221830Z
LAST-MODIFIED:20251121T173834Z
UID:10035304-1767024000-1767040200@parentguidenews.com
SUMMARY:NYC & Westchester Holiday Lights Helicopter Tour
DESCRIPTION:Soar through the season. Departing from Westchester County Airport\, participants will fly over New York City and Westchester\, creating unforgettable memories with friends and family. This once-in-a-lifetime opportunity showcases the breathtaking views of the iconic Manhattan skyline and familiar landmarks beautifully adorned in holiday lights. Tours take place Dec. 1 – 31 (closed Dec. 25).
URL:https://parentguidenews.com/event/nyc-westchester-holiday-lights-helicopter-tour-5/
LOCATION:Wings Air Helicopters
CATEGORIES:Westchester
ATTACH;FMTTYPE=image/jpeg:https://parentguidenews.com/wp-content/uploads/2025/11/Wings-Air-Holiday-Lights-8HDGca-scaled.jpe
GEO:41.0637761;-73.7147139
END:VEVENT
BEGIN:VEVENT
DTSTART;TZID=America/New_York:20251222T160000
DTEND;TZID=America/New_York:20251222T203000
DTSTAMP:20260419T200835
CREATED:20251221T173715Z
LAST-MODIFIED:20251221T173715Z
UID:10035705-1766419200-1766435400@parentguidenews.com
SUMMARY:NYC & Westchester Holiday Lights Helicopter Tour
DESCRIPTION:Soar through the season. Departing from Westchester County Airport\, participants will fly over New York City and Westchester\, creating unforgettable memories with friends and family. This once-in-a-lifetime opportunity showcases the breathtaking views of the iconic Manhattan skyline and familiar landmarks beautifully adorned in holiday lights. Tours take place Dec. 1 – 31 (closed Dec. 25).
URL:https://parentguidenews.com/event/nyc-westchester-holiday-lights-helicopter-tour-6/
LOCATION:Wings Air Helicopters
CATEGORIES:Westchester
ATTACH;FMTTYPE=image/jpeg:https://parentguidenews.com/wp-content/uploads/2025/12/Wings-Air-Holiday-Lights-scaled-thrHIe.jpe
GEO:41.0637761;-73.7147139
END:VEVENT
BEGIN:VEVENT
DTSTART;TZID=America/New_York:20251222T160000
DTEND;TZID=America/New_York:20251222T203000
DTSTAMP:20260419T200835
CREATED:20251120T221829Z
LAST-MODIFIED:20251121T173711Z
UID:10035303-1766419200-1766435400@parentguidenews.com
SUMMARY:NYC & Westchester Holiday Lights Helicopter Tour
DESCRIPTION:Soar through the season. Departing from Westchester County Airport\, participants will fly over New York City and Westchester\, creating unforgettable memories with friends and family. This once-in-a-lifetime opportunity showcases the breathtaking views of the iconic Manhattan skyline and familiar landmarks beautifully adorned in holiday lights. Tours take place Dec. 1 – 31 (closed Dec. 25).
URL:https://parentguidenews.com/event/nyc-westchester-holiday-lights-helicopter-tour-4/
LOCATION:Wings Air Helicopters
CATEGORIES:Westchester
ATTACH;FMTTYPE=image/jpeg:https://parentguidenews.com/wp-content/uploads/2025/11/Wings-Air-Holiday-Lights-8HDGca-scaled.jpe
GEO:41.0637761;-73.7147139
END:VEVENT
BEGIN:VEVENT
DTSTART;TZID=America/New_York:20251215T160000
DTEND;TZID=America/New_York:20251215T203000
DTSTAMP:20260419T200835
CREATED:20251120T221827Z
LAST-MODIFIED:20251121T173708Z
UID:10035302-1765814400-1765830600@parentguidenews.com
SUMMARY:NYC & Westchester Holiday Lights Helicopter Tour
DESCRIPTION:Soar through the season. Departing from Westchester County Airport\, participants will fly over New York City and Westchester\, creating unforgettable memories with friends and family. This once-in-a-lifetime opportunity showcases the breathtaking views of the iconic Manhattan skyline and familiar landmarks beautifully adorned in holiday lights. Tours take place Dec. 1 – 31 (closed Dec. 25).
URL:https://parentguidenews.com/event/nyc-westchester-holiday-lights-helicopter-tour-3/
LOCATION:Wings Air Helicopters
CATEGORIES:Westchester
ATTACH;FMTTYPE=image/jpeg:https://parentguidenews.com/wp-content/uploads/2025/11/Wings-Air-Holiday-Lights-8HDGca-scaled.jpe
GEO:41.0637761;-73.7147139
END:VEVENT
BEGIN:VEVENT
DTSTART;TZID=America/New_York:20251208T160000
DTEND;TZID=America/New_York:20251208T203000
DTSTAMP:20260419T200835
CREATED:20251120T221826Z
LAST-MODIFIED:20251121T173552Z
UID:10035301-1765209600-1765225800@parentguidenews.com
SUMMARY:NYC & Westchester Holiday Lights Helicopter Tour
DESCRIPTION:Soar through the season. Departing from Westchester County Airport\, participants will fly over New York City and Westchester\, creating unforgettable memories with friends and family. This once-in-a-lifetime opportunity showcases the breathtaking views of the iconic Manhattan skyline and familiar landmarks beautifully adorned in holiday lights. Tours take place Dec. 1 – 31 (closed Dec. 25).
URL:https://parentguidenews.com/event/nyc-westchester-holiday-lights-helicopter-tour-2/
LOCATION:Wings Air Helicopters
CATEGORIES:Westchester
ATTACH;FMTTYPE=image/jpeg:https://parentguidenews.com/wp-content/uploads/2025/11/Wings-Air-Holiday-Lights-8HDGca-scaled.jpe
GEO:41.0637761;-73.7147139
END:VEVENT
BEGIN:VEVENT
DTSTART;TZID=America/New_York:20251201T160000
DTEND;TZID=America/New_York:20251201T203000
DTSTAMP:20260419T200835
CREATED:20251120T221824Z
LAST-MODIFIED:20251121T173540Z
UID:10035300-1764604800-1764621000@parentguidenews.com
SUMMARY:NYC & Westchester Holiday Lights Helicopter Tour
DESCRIPTION:Soar through the season. Departing from Westchester County Airport\, participants will fly over New York City and Westchester\, creating unforgettable memories with friends and family. This once-in-a-lifetime opportunity showcases the breathtaking views of the iconic Manhattan skyline and familiar landmarks beautifully adorned in holiday lights. Tours take place Dec. 1 – 31 (closed Dec. 25).
URL:https://parentguidenews.com/event/nyc-westchester-holiday-lights-helicopter-tour/
LOCATION:Wings Air Helicopters
CATEGORIES:Westchester
ATTACH;FMTTYPE=image/jpeg:https://parentguidenews.com/wp-content/uploads/2025/11/Wings-Air-Holiday-Lights-8HDGca-scaled.jpe
GEO:41.0637761;-73.7147139
END:VEVENT
END:VCALENDAR