BEGIN:VCALENDAR
VERSION:2.0
PRODID:-//PARENTGUIDENEWS - ECPv6.15.12.2//NONSGML v1.0//EN
CALSCALE:GREGORIAN
METHOD:PUBLISH
X-WR-CALNAME:PARENTGUIDENEWS
X-ORIGINAL-URL:https://parentguidenews.com
X-WR-CALDESC:Events for PARENTGUIDENEWS
REFRESH-INTERVAL;VALUE=DURATION:PT1H
X-Robots-Tag:noindex
X-PUBLISHED-TTL:PT1H
BEGIN:VTIMEZONE
TZID:America/New_York
BEGIN:DAYLIGHT
TZOFFSETFROM:-0500
TZOFFSETTO:-0400
TZNAME:EDT
DTSTART:20240310T070000
END:DAYLIGHT
BEGIN:STANDARD
TZOFFSETFROM:-0400
TZOFFSETTO:-0500
TZNAME:EST
DTSTART:20241103T060000
END:STANDARD
BEGIN:DAYLIGHT
TZOFFSETFROM:-0500
TZOFFSETTO:-0400
TZNAME:EDT
DTSTART:20250309T070000
END:DAYLIGHT
BEGIN:STANDARD
TZOFFSETFROM:-0400
TZOFFSETTO:-0500
TZNAME:EST
DTSTART:20251102T060000
END:STANDARD
BEGIN:DAYLIGHT
TZOFFSETFROM:-0500
TZOFFSETTO:-0400
TZNAME:EDT
DTSTART:20260308T070000
END:DAYLIGHT
BEGIN:STANDARD
TZOFFSETFROM:-0400
TZOFFSETTO:-0500
TZNAME:EST
DTSTART:20261101T060000
END:STANDARD
END:VTIMEZONE
BEGIN:VEVENT
DTSTART;TZID=America/New_York:20250424T120000
DTEND;TZID=America/New_York:20250424T170000
DTSTAMP:20260419T222703
CREATED:20250421T002111Z
LAST-MODIFIED:20250421T061053Z
UID:10026778-1745496000-1745514000@parentguidenews.com
SUMMARY:Ali Banisadr: The Alchemist Art Exhibit @ Katonah Museum of Art
DESCRIPTION:The first U.S. museum survey of the Brooklyn-based\, Iranian-born artist. Organized by the Katonah Museum of Art (KMA)\, this exhibition encompasses nearly twenty years of the artist’s singular practice\, from 2006 to the present\, across the mediums of painting\, drawing\, and printmaking. Sculpture\, a new direction for the artist\, will be presented for the first time.
URL:https://parentguidenews.com/event/ali-banisadr-the-alchemist-art-exhibit-katonah-museum-of-art-4/
LOCATION:Katonah Museum of Art\, 134 Jay St.\, Katonah\, NY\, 10536\, United States
CATEGORIES:Westchester
GEO:41.2627585;-73.6732575
X-APPLE-STRUCTURED-LOCATION;VALUE=URI;X-ADDRESS=Katonah Museum of Art 134 Jay St. Katonah NY 10536 United States;X-APPLE-RADIUS=500;X-TITLE=134 Jay St.:geo:-73.6732575,41.2627585
END:VEVENT
BEGIN:VEVENT
DTSTART;TZID=America/New_York:20250423T120000
DTEND;TZID=America/New_York:20250423T170000
DTSTAMP:20260419T222703
CREATED:20250420T233240Z
LAST-MODIFIED:20250421T061048Z
UID:10026774-1745409600-1745427600@parentguidenews.com
SUMMARY:Ali Banisadr: The Alchemist Art Exhibit @ Katonah Museum of Art
DESCRIPTION:The first U.S. museum survey of the Brooklyn-based\, Iranian-born artist. Organized by the Katonah Museum of Art (KMA)\, this exhibition encompasses nearly twenty years of the artist’s singular practice\, from 2006 to the present\, across the mediums of painting\, drawing\, and printmaking. Sculpture\, a new direction for the artist\, will be presented for the first time.
URL:https://parentguidenews.com/event/ali-banisadr-the-alchemist-art-exhibit-katonah-museum-of-art-3/
LOCATION:Katonah Museum of Art\, 134 Jay St.\, Katonah\, NY\, 10536\, United States
CATEGORIES:Westchester
GEO:41.2627585;-73.6732575
X-APPLE-STRUCTURED-LOCATION;VALUE=URI;X-ADDRESS=Katonah Museum of Art 134 Jay St. Katonah NY 10536 United States;X-APPLE-RADIUS=500;X-TITLE=134 Jay St.:geo:-73.6732575,41.2627585
END:VEVENT
BEGIN:VEVENT
DTSTART;TZID=America/New_York:20250420T120000
DTEND;TZID=America/New_York:20250420T170000
DTSTAMP:20260419T222703
CREATED:20250420T232038Z
LAST-MODIFIED:20250421T000451Z
UID:10026768-1745150400-1745168400@parentguidenews.com
SUMMARY:Ali Banisadr: The Alchemist Art Exhibit @ Katonah Museum of Art
DESCRIPTION:The first U.S. museum survey of the Brooklyn-based\, Iranian-born artist. Organized by the Katonah Museum of Art (KMA)\, this exhibition encompasses nearly twenty years of the artist’s singular practice\, from 2006 to the present\, across the mediums of painting\, drawing\, and printmaking. Sculpture\, a new direction for the artist\, will be presented for the first time.
URL:https://parentguidenews.com/event/ali-banisadr-the-alchemist-art-exhibit-katonah-museum-of-art-2/
LOCATION:Katonah Museum of Art\, 134 Jay St.\, Katonah\, NY\, 10536\, United States
CATEGORIES:Westchester
GEO:41.2627585;-73.6732575
X-APPLE-STRUCTURED-LOCATION;VALUE=URI;X-ADDRESS=Katonah Museum of Art 134 Jay St. Katonah NY 10536 United States;X-APPLE-RADIUS=500;X-TITLE=134 Jay St.:geo:-73.6732575,41.2627585
END:VEVENT
BEGIN:VEVENT
DTSTART;TZID=America/New_York:20250321T120000
DTEND;TZID=America/New_York:20250321T170000
DTSTAMP:20260419T222703
CREATED:20250321T222623Z
LAST-MODIFIED:20250321T235252Z
UID:10026497-1742558400-1742576400@parentguidenews.com
SUMMARY:Ali Banisadr: The Alchemist Art Exhibit @ Katonah Museum of Art
DESCRIPTION:The first U.S. museum survey of the Brooklyn-based\, Iranian-born artist. Organized by the Katonah Museum of Art (KMA)\, this exhibition encompasses nearly twenty years of the artist’s singular practice\, from 2006 to the present\, across the mediums of painting\, drawing\, and printmaking. Sculpture\, a new direction for the artist\, will be presented for the first time.
URL:https://parentguidenews.com/event/ali-banisadr-the-alchemist-art-exhibit-katonah-museum-of-art/
LOCATION:Katonah Museum of Art\, 134 Jay St.\, Katonah\, NY\, 10536\, United States
CATEGORIES:Westchester
GEO:41.2627585;-73.6732575
X-APPLE-STRUCTURED-LOCATION;VALUE=URI;X-ADDRESS=Katonah Museum of Art 134 Jay St. Katonah NY 10536 United States;X-APPLE-RADIUS=500;X-TITLE=134 Jay St.:geo:-73.6732575,41.2627585
END:VEVENT
END:VCALENDAR