BEGIN:VCALENDAR
VERSION:2.0
PRODID:-//PARENTGUIDENEWS - ECPv6.15.12.2//NONSGML v1.0//EN
CALSCALE:GREGORIAN
METHOD:PUBLISH
X-WR-CALNAME:PARENTGUIDENEWS
X-ORIGINAL-URL:https://parentguidenews.com
X-WR-CALDESC:Events for PARENTGUIDENEWS
REFRESH-INTERVAL;VALUE=DURATION:PT1H
X-Robots-Tag:noindex
X-PUBLISHED-TTL:PT1H
BEGIN:VTIMEZONE
TZID:America/New_York
BEGIN:DAYLIGHT
TZOFFSETFROM:-0500
TZOFFSETTO:-0400
TZNAME:EDT
DTSTART:20250309T070000
END:DAYLIGHT
BEGIN:STANDARD
TZOFFSETFROM:-0400
TZOFFSETTO:-0500
TZNAME:EST
DTSTART:20251102T060000
END:STANDARD
BEGIN:DAYLIGHT
TZOFFSETFROM:-0500
TZOFFSETTO:-0400
TZNAME:EDT
DTSTART:20260308T070000
END:DAYLIGHT
BEGIN:STANDARD
TZOFFSETFROM:-0400
TZOFFSETTO:-0500
TZNAME:EST
DTSTART:20261101T060000
END:STANDARD
BEGIN:DAYLIGHT
TZOFFSETFROM:-0500
TZOFFSETTO:-0400
TZNAME:EDT
DTSTART:20270314T070000
END:DAYLIGHT
BEGIN:STANDARD
TZOFFSETFROM:-0400
TZOFFSETTO:-0500
TZNAME:EST
DTSTART:20271107T060000
END:STANDARD
END:VTIMEZONE
BEGIN:VEVENT
DTSTART;TZID=America/New_York:20260328T093000
DTEND;TZID=America/New_York:20260328T110000
DTSTAMP:20260419T200947
CREATED:20251228T235411Z
LAST-MODIFIED:20260328T230600Z
UID:10035867-1774690200-1774695600@parentguidenews.com
SUMMARY:Let’s Get Growing – Dig\, Plant\, Explore
DESCRIPTION:(ages 5-10) \nLove building things and watching plants grow? Join us for hands-on fun in the garden! Start seeds\, check out cool blooms in the Roehm Greenhouse\, take a hike around our historic grounds\, and pot up a plant (or two!). Enjoy a new activity each month—Saturday mornings are for getting your hands in the soil and making something awesome! \nThe cost is per child. Registration is required\, so be sure to register early as space is limited. \nMember registration begins on Friday\, January 2\, 2026\, at 9:00 AM. Non-member registration begins on Friday\, January 9\, 2026\, at 9:00 AM. \nMember Price: $20 | Non-Member Price: $30 \nNotice: Due to ongoing construction for the Path for All project\, Arboretum parking will be unavailable Monday through Friday\, from 8:00 AM to 5:00 PM. Please use street parking during these hours. Handicap parking will remain available.
URL:https://parentguidenews.com/event/lets-get-growing-dig-plant-explore/
CATEGORIES:Classes,Kids Programs,Let's Get Growing
ATTACH;FMTTYPE=image/jpeg:https://parentguidenews.com/wp-content/uploads/2025/12/wooden-planter-boxes-March-2025-main-tl79D3.jpe
END:VEVENT
END:VCALENDAR