BEGIN:VCALENDAR
VERSION:2.0
PRODID:-//PARENTGUIDENEWS - ECPv6.15.12.2//NONSGML v1.0//EN
CALSCALE:GREGORIAN
METHOD:PUBLISH
X-ORIGINAL-URL:https://parentguidenews.com
X-WR-CALDESC:Events for PARENTGUIDENEWS
REFRESH-INTERVAL;VALUE=DURATION:PT1H
X-Robots-Tag:noindex
X-PUBLISHED-TTL:PT1H
BEGIN:VTIMEZONE
TZID:America/New_York
BEGIN:DAYLIGHT
TZOFFSETFROM:-0500
TZOFFSETTO:-0400
TZNAME:EDT
DTSTART:20240310T070000
END:DAYLIGHT
BEGIN:STANDARD
TZOFFSETFROM:-0400
TZOFFSETTO:-0500
TZNAME:EST
DTSTART:20241103T060000
END:STANDARD
BEGIN:DAYLIGHT
TZOFFSETFROM:-0500
TZOFFSETTO:-0400
TZNAME:EDT
DTSTART:20250309T070000
END:DAYLIGHT
BEGIN:STANDARD
TZOFFSETFROM:-0400
TZOFFSETTO:-0500
TZNAME:EST
DTSTART:20251102T060000
END:STANDARD
BEGIN:DAYLIGHT
TZOFFSETFROM:-0500
TZOFFSETTO:-0400
TZNAME:EDT
DTSTART:20260308T070000
END:DAYLIGHT
BEGIN:STANDARD
TZOFFSETFROM:-0400
TZOFFSETTO:-0500
TZNAME:EST
DTSTART:20261101T060000
END:STANDARD
END:VTIMEZONE
BEGIN:VEVENT
DTSTART;TZID=America/New_York:20250807T180000
DTEND;TZID=America/New_York:20250807T210000
DTSTAMP:20260420T013130
CREATED:20250513T010845Z
LAST-MODIFIED:20250728T044559Z
UID:10027796-1754589600-1754600400@parentguidenews.com
SUMMARY:Arboretum Explorers – Meadowlands Sunset Kayak Tour
DESCRIPTION:(ages 16 and up) \nWith the NYC skyline as a backdrop\, you’ll be pleasantly surprised to find great paddling in the Meadowlands. The many creeks\, sweeping through grassy hills and phragmites\, offer an ecological system of tidal waters\, where wading birds and other wildlife forage for food in the mud flats at low tide. This is a great daytime paddle and home to some beautiful sunsets. Witness this unexpected gem right under our noses. \nLed by an ACA (American Canoe Association) certified kayak instructor from Kayak East\, this tour is rated “Easy” meaning no experience is necessary. This tour is great for paddlers of any skill level. Photographers\, bird watchers and anyone who wants to get outside and enjoy nature will also love it! Registration is required. \nPlan to meet at the Laurel Hill Park boat launch in Secaucus at least 15 minutes prior to the start of the tour for boat fit. Directions and additional information will be provided upon registration. \nSpace is limited—register early! \nMembers: $70 Single Kayak | $100 Tandem Kayak | Non-Members: $80 Single Kayak | $110 Tandem Kayak
URL:https://parentguidenews.com/event/arboretum-explorers-meadowlands-sunset-kayak-tour/
CATEGORIES:Adult Programs,Kayak,Seasonal Programs
ATTACH;FMTTYPE=image/jpeg:https://parentguidenews.com/wp-content/uploads/2025/05/Meadowlands-sunset-photo-KLMdXYtmp_.jpg
END:VEVENT
BEGIN:VEVENT
DTSTART;TZID=America/New_York:20250823T090000
DTEND;TZID=America/New_York:20250823T120000
DTSTAMP:20260420T013130
CREATED:20250603T223658Z
LAST-MODIFIED:20250823T013302Z
UID:10028400-1755939600-1755950400@parentguidenews.com
SUMMARY:Arboretum Explorers – Passaic River Essex County Kayak Morning Tour – SOLD OUT
DESCRIPTION:(ages 16 and up) \nBordering Great Swamp National Wildlife Refuge this section of the Passaic River boasts awesome scenery and lots of wildlife. You’ll feel at one with nature as the river’s twists and turns carry you past beaver lodges\, over their dams and deeper into the refuge’s soul. \nLed by an ACA (American Canoe Association) certified kayak instructor from Kayak East\, this tour is rated “Easy” meaning no experience is necessary. This tour is great for paddlers of any skill level. Photographers\, bird watchers and anyone who wants to get outside and enjoy nature will also love it! Registration is required. \nPlan to meet at the Essex County Nature Center’s outside lot at least 15 minutes prior to the start of the tour for boat fit. Directions and additional information will be provided upon registration. Questions? Please e-mail j.kondel@reeves-reedarboretum.org. \nSpace is limited—register early! \nMembers: $70 Single Kayak | Non-Members: $80 Single Kayak
URL:https://parentguidenews.com/event/arboretum-explorers-passaic-river-essex-county-kayak-morning-tour/
CATEGORIES:Adult Programs,Kayak,Seasonal Programs
ATTACH;FMTTYPE=image/jpeg:https://parentguidenews.com/wp-content/uploads/2025/06/Passaic-Essex-County-kayak-photo-U6PuAZ.jpe
END:VEVENT
BEGIN:VEVENT
DTSTART;TZID=America/New_York:20250823T130000
DTEND;TZID=America/New_York:20250823T160000
DTSTAMP:20260420T013130
CREATED:20250603T223706Z
LAST-MODIFIED:20250823T013309Z
UID:10028404-1755954000-1755964800@parentguidenews.com
SUMMARY:Arboretum Explorers – Passaic River Essex County Kayak Afternoon Tour – SOLD OUT
DESCRIPTION:(ages 16 and up) \nBordering Great Swamp National Wildlife Refuge this section of the Passaic River boasts awesome scenery and lots of wildlife. You’ll feel at one with nature as the river’s twists and turns carry you past beaver lodges\, over their dams and deeper into the refuge’s soul. \nLed by an ACA (American Canoe Association) certified kayak instructor from Kayak East\, this tour is rated “Easy” meaning no experience is necessary. This tour is great for paddlers of any skill level. Photographers\, bird watchers and anyone who wants to get outside and enjoy nature will also love it! Registration is required. \nPlan to meet at the Essex County Nature Center’s outside lot at least 15 minutes prior to the start of the tour for boat fit. Directions and additional information will be provided upon registration. Questions? Please e-mail j.kondel@reeves-reedarboretum.org. \nSpace is limited—register early! \nMembers: $70 Single Kayak | Non-Members: $80 Single Kayak
URL:https://parentguidenews.com/event/arboretum-explorers-passaic-river-essex-county-kayak-afternoon-tour/
CATEGORIES:Adult Programs,Kayak,Seasonal Programs
ATTACH;FMTTYPE=image/jpeg:https://parentguidenews.com/wp-content/uploads/2025/06/Passaic-Essex-County-kayak-photo-U6PuAZ.jpe
END:VEVENT
END:VCALENDAR