BEGIN:VCALENDAR
VERSION:2.0
PRODID:-//PARENTGUIDENEWS - ECPv6.15.12.2//NONSGML v1.0//EN
CALSCALE:GREGORIAN
METHOD:PUBLISH
X-ORIGINAL-URL:https://parentguidenews.com
X-WR-CALDESC:Events for PARENTGUIDENEWS
REFRESH-INTERVAL;VALUE=DURATION:PT1H
X-Robots-Tag:noindex
X-PUBLISHED-TTL:PT1H
BEGIN:VTIMEZONE
TZID:America/New_York
BEGIN:DAYLIGHT
TZOFFSETFROM:-0500
TZOFFSETTO:-0400
TZNAME:EDT
DTSTART:20240310T070000
END:DAYLIGHT
BEGIN:STANDARD
TZOFFSETFROM:-0400
TZOFFSETTO:-0500
TZNAME:EST
DTSTART:20241103T060000
END:STANDARD
BEGIN:DAYLIGHT
TZOFFSETFROM:-0500
TZOFFSETTO:-0400
TZNAME:EDT
DTSTART:20250309T070000
END:DAYLIGHT
BEGIN:STANDARD
TZOFFSETFROM:-0400
TZOFFSETTO:-0500
TZNAME:EST
DTSTART:20251102T060000
END:STANDARD
BEGIN:DAYLIGHT
TZOFFSETFROM:-0500
TZOFFSETTO:-0400
TZNAME:EDT
DTSTART:20260308T070000
END:DAYLIGHT
BEGIN:STANDARD
TZOFFSETFROM:-0400
TZOFFSETTO:-0500
TZNAME:EST
DTSTART:20261101T060000
END:STANDARD
END:VTIMEZONE
BEGIN:VEVENT
DTSTART;TZID=America/New_York:20251031T100000
DTEND;TZID=America/New_York:20251031T113000
DTSTAMP:20260419T165817
CREATED:20251021T200239Z
LAST-MODIFIED:20251021T200239Z
UID:10033932-1761904800-1761910200@parentguidenews.com
SUMMARY:Homeschool Adventures: Meaningfully Connecting with the Natural World
DESCRIPTION:(ages 5-12) \nUsing the “sit-spot” method of observation and inquiry\, we will practice becoming one with nature. Learning to utilize all our senses\, we will study all facets of the plants and trees around us\, learning to connect with and ultimately respect all of nature’s creations. Our journey will be recorded in our own nature journal. \nThe cost is per child. Registration is required. \nMember registration begins on Monday\, September 29\, 2025\, at 9:00 AM. Non-member registration begins on Friday\, October 3\, 2025\, at 9:00 AM. \nMember Price: $15 | Non-Member Price: $25
URL:https://parentguidenews.com/event/homeschool-adventures-meaningfully-connecting-with-the-natural-world/
CATEGORIES:Classes,Home School Adventures,Kids Programs
ATTACH;FMTTYPE=image/jpeg:https://parentguidenews.com/wp-content/uploads/2025/10/children-walking-hand-in-hand-j2adzu.jpe
END:VEVENT
BEGIN:VEVENT
DTSTART;TZID=America/New_York:20251024T100000
DTEND;TZID=America/New_York:20251024T113000
DTSTAMP:20260419T165817
CREATED:20251021T200145Z
LAST-MODIFIED:20251021T200145Z
UID:10033922-1761300000-1761305400@parentguidenews.com
SUMMARY:Homeschool Adventures : Nature as Inspiration for Art
DESCRIPTION:(ages 5-12) \nExploring the grounds of the Arboretum\, we’ll study the many colors\, shapes\, and patterns found in nature. We’ll also learn about the changing colors of leaves – why and how leaves change in preparation for winter. Our focus will be on artistically expressing what we learn – through words\, drawings\, paintings\, collages\, and/or sculptures. \nThe cost is per child. Registration is required. \nMember registration begins on Monday\, September 29\, 2025\, at 9:00 AM. Non-member registration begins on Friday\, October 3\, 2025\, at 9:00 AM. \nMember Price: $15 | Non-Member Price: $25
URL:https://parentguidenews.com/event/homeschool-adventures-nature-as-inspiration-for-art/
CATEGORIES:Classes,Home School Adventures,Kids Programs
ATTACH;FMTTYPE=image/jpeg:https://parentguidenews.com/wp-content/uploads/2025/10/leaf-colors-EiBhXv.jpe
END:VEVENT
BEGIN:VEVENT
DTSTART;TZID=America/New_York:20250515T130000
DTEND;TZID=America/New_York:20250515T143000
DTSTAMP:20260419T165817
CREATED:20250317T024858Z
LAST-MODIFIED:20250515T013705Z
UID:10026443-1747314000-1747319400@parentguidenews.com
SUMMARY:Homeschool Adventures: Dirt Detectives
DESCRIPTION:(ages 5-12) \nFor our last Homeschool class\, we will get our hands dirty and learn about the many microorganisms and insects in our Arboretum soils. We will discover the world of composting and how you can start your own at home! \nClasses will be held almost entirely outside\, even in light rain\, so please dress appropriately. \nThe cost is per child. Registration is required\, so be sure to register early as space is limited. \nMember registration begins on Tuesday\, February 25\, 2025\, at 9:00 AM. Non-member registration begins on Tuesday\, March 4\, 2025\, at 9:00 AM. \nMember Price: $15 | Non-Member Price: $25
URL:https://parentguidenews.com/event/homeschool-adventures-dirt-detectives/
CATEGORIES:Classes,Home School Adventures,Kids Programs
ATTACH;FMTTYPE=image/jpeg:https://parentguidenews.com/wp-content/uploads/2025/03/Dirt-Detectives-2Rb7PItmp_.jpg
END:VEVENT
BEGIN:VEVENT
DTSTART;TZID=America/New_York:20250508T130000
DTEND;TZID=America/New_York:20250508T143000
DTSTAMP:20260419T165817
CREATED:20250317T024812Z
LAST-MODIFIED:20250508T002833Z
UID:10026435-1746709200-1746714600@parentguidenews.com
SUMMARY:Homeschool Adventures: Birds in Springtime
DESCRIPTION:(ages 5-12) \nSpring marks the time when birds migrate from down south and return north! This week\, we will learn about some of the common birds during springtime\, their bird calls\, and grab our binoculars to find some of our feathered friends!   \nClasses will be held almost entirely outside\, even in light rain\, so please dress appropriately. \nThe cost is per child. Registration is required\, so be sure to register early as space is limited. \nMember registration begins on Tuesday\, February 25\, 2025\, at 9:00 AM. Non-member registration begins on Tuesday\, March 4\, 2025\, at 9:00 AM. \nMember Price: $15 | Non-Member Price: $25
URL:https://parentguidenews.com/event/homeschool-adventures-birds-in-springtime/
CATEGORIES:Classes,Home School Adventures,Kids Programs
ATTACH;FMTTYPE=image/jpeg:https://parentguidenews.com/wp-content/uploads/2025/03/Birds-in-Springtime-n9RVrWtmp_.jpg
END:VEVENT
BEGIN:VEVENT
DTSTART;TZID=America/New_York:20250501T130000
DTEND;TZID=America/New_York:20250501T143000
DTSTAMP:20260419T165817
CREATED:20250317T024757Z
LAST-MODIFIED:20250501T144128Z
UID:10026429-1746104400-1746109800@parentguidenews.com
SUMMARY:Homeschool Adventures: May Day Celebration!
DESCRIPTION:(ages 5-12) \nThis week\, we will celebrate May Day – the European festival that marks the beginning of summer! We will learn about the many holiday traditions\, create our very own flower and leaf crowns\, and dance around the maypole. \nClasses will be held almost entirely outside\, even in light rain\, so please dress appropriately. \nThe cost is per child. Registration is required\, so be sure to register early as space is limited. \nMember registration begins on Tuesday\, February 25\, 2025\, at 9:00 AM. Non-member registration begins on Tuesday\, March 4\, 2025\, at 9:00 AM. \nMember Price: $15 | Non-Member Price: $25
URL:https://parentguidenews.com/event/homeschool-adventures-may-day-celebration/
CATEGORIES:Classes,Home School Adventures,Kids Programs
ATTACH;FMTTYPE=image/jpeg:https://parentguidenews.com/wp-content/uploads/2025/03/May-Day-Celebration-fsgrIntmp_.jpg
END:VEVENT
BEGIN:VEVENT
DTSTART;TZID=America/New_York:20250424T130000
DTEND;TZID=America/New_York:20250424T143000
DTSTAMP:20260419T165817
CREATED:20250317T024714Z
LAST-MODIFIED:20250424T132157Z
UID:10026423-1745499600-1745505000@parentguidenews.com
SUMMARY:Homeschool Adventures: Arbor Day Tree Celebration!
DESCRIPTION:(ages 5-12) \nAn early ARBOR Day at the ARBORetum! Homeschoolers- it is time to celebrate the many trees that call the Arboretum home. We will embark on a tree identification hike\, discover how scientists track and measure trees\, and make a tasty treat from trees. \nClasses will be held almost entirely outside\, even in light rain\, so please dress appropriately. \nThe cost is per child. Registration is required\, so be sure to register early as space is limited. \nMember registration begins on Tuesday\, February 25\, 2025\, at 9:00 AM. Non-member registration begins on Tuesday\, March 4\, 2025\, at 9:00 AM. \nMember Price: $15 | Non-Member Price: $25
URL:https://parentguidenews.com/event/homeschool-adventures-arbor-day-tree-celebration/
CATEGORIES:Classes,Home School Adventures,Kids Programs
ATTACH;FMTTYPE=image/jpeg:https://parentguidenews.com/wp-content/uploads/2025/03/Arbor-Day-Celebration-1-FTAEZQtmp_.jpg
END:VEVENT
BEGIN:VEVENT
DTSTART;TZID=America/New_York:20250313T100000
DTEND;TZID=America/New_York:20250313T113000
DTSTAMP:20260419T165817
CREATED:20250227T185734Z
LAST-MODIFIED:20250313T232336Z
UID:10025837-1741860000-1741865400@parentguidenews.com
SUMMARY:Home School Adventures: Green Thumbs Up!
DESCRIPTION:(ages 5-12) \nTime to prepare for spring and summer! For our final Homeschool class\, we will become gardeners and plant several vegetable seeds in our Square Foot Garden. \nThis class will be held outside\, so please dress appropriately. Parents are welcome to stay and experience the class\, drop off\, or enjoy the grounds. \nThe cost is per child. Registration is required; register early since space is limited. Member registration begins on Tuesday\, December 10\, 2024\, at 9:00 am; Non-Member registration begins on Tuesday\, December 17\, 2024\, at 9:00 am. \nMember price: $15\nNon-member Price: $25
URL:https://parentguidenews.com/event/home-school-adventures-green-thumbs-up/
CATEGORIES:Classes,Home School Adventures,Kids Programs
ATTACH;FMTTYPE=image/jpeg:https://parentguidenews.com/wp-content/uploads/2025/02/Green-Thumbs-Up-UQckO0tmp_.jpg
END:VEVENT
BEGIN:VEVENT
DTSTART;TZID=America/New_York:20250306T100000
DTEND;TZID=America/New_York:20250306T113000
DTSTAMP:20260419T165817
CREATED:20250226T174851Z
LAST-MODIFIED:20250306T205933Z
UID:10025827-1741255200-1741260600@parentguidenews.com
SUMMARY:Home School Adventures: Winter Survival
DESCRIPTION:(ages 5-12) \nHomeschoolers-get your winter jackets on! This week we are heading into the woodlands! Join our educator to learn about shelter building\, whistle signals\, and how to create filtered water.  \nThis class will be held outside\, so please dress appropriately. Parents are welcome to stay and experience the class\, drop off\, or enjoy the grounds. \nThe cost is per child. Registration is required; register early since space is limited. Member registration begins on Tuesday\, December 10\, 2024\, at 9:00 am; Non-Member registration begins on Tuesday\, December 17\, 2024\, at 9:00 am. \nMember price: $15\nNon-member Price: $25
URL:https://parentguidenews.com/event/home-school-adventures-winter-survival/
CATEGORIES:Classes,Home School Adventures,Kids Programs
ATTACH;FMTTYPE=image/jpeg:https://parentguidenews.com/wp-content/uploads/2025/02/Winter-Survival-scaled-I0icWptmp_.jpg
END:VEVENT
END:VCALENDAR