BEGIN:VCALENDAR
VERSION:2.0
PRODID:-//PARENTGUIDENEWS - ECPv6.15.12.2//NONSGML v1.0//EN
CALSCALE:GREGORIAN
METHOD:PUBLISH
X-ORIGINAL-URL:https://parentguidenews.com
X-WR-CALDESC:Events for PARENTGUIDENEWS
REFRESH-INTERVAL;VALUE=DURATION:PT1H
X-Robots-Tag:noindex
X-PUBLISHED-TTL:PT1H
BEGIN:VTIMEZONE
TZID:America/New_York
BEGIN:DAYLIGHT
TZOFFSETFROM:-0500
TZOFFSETTO:-0400
TZNAME:EDT
DTSTART:20240310T070000
END:DAYLIGHT
BEGIN:STANDARD
TZOFFSETFROM:-0400
TZOFFSETTO:-0500
TZNAME:EST
DTSTART:20241103T060000
END:STANDARD
BEGIN:DAYLIGHT
TZOFFSETFROM:-0500
TZOFFSETTO:-0400
TZNAME:EDT
DTSTART:20250309T070000
END:DAYLIGHT
BEGIN:STANDARD
TZOFFSETFROM:-0400
TZOFFSETTO:-0500
TZNAME:EST
DTSTART:20251102T060000
END:STANDARD
BEGIN:DAYLIGHT
TZOFFSETFROM:-0500
TZOFFSETTO:-0400
TZNAME:EDT
DTSTART:20260308T070000
END:DAYLIGHT
BEGIN:STANDARD
TZOFFSETFROM:-0400
TZOFFSETTO:-0500
TZNAME:EST
DTSTART:20261101T060000
END:STANDARD
END:VTIMEZONE
BEGIN:VEVENT
DTSTART;TZID=America/New_York:20251207T110000
DTEND;TZID=America/New_York:20251207T113000
DTSTAMP:20260420T022003
CREATED:20251113T085247Z
LAST-MODIFIED:20251207T201912Z
UID:10034299-1765105200-1765107000@parentguidenews.com
SUMMARY:Photos with Santa – SOLD OUT
DESCRIPTION:Cookies\, Cocoa & Photos with Santa \nSkip the mall this year and celebrate the season at our Holiday Open House! Enjoy a magical afternoon filled with cookies\, cocoa\, and photos with Santa at Reeves-Reed Arboretum. \nFamilies will also love the festive activities happening throughout the grounds\, including our Winter Story Walk\, Decorate a Tree for Wildlife\, Candy Cane Lane\, and live carolers. While you’re here\, explore our Sip & Shop Holiday Market and Holiday Greens Shoppe for unique gifts and seasonal greenery. \nCreate warm memories in a charming\, natural setting — right here at Reeves-Reed Arboretum! \nReserve your timeslot with Santa today! \nImportant Information | Please Read \n\nWhile the Open House event is free to attend\, registration and a fee are required for photos with Santa.\nProfessional photos will be taken by Bruce Lorenz and delivered digitally within 2–3 days.\nYour reservation includes one group or individual pose with Santa. To book additional poses\, please make separate reservations.\nRegistration is non-refundable.\nEach 30-minute time slot will accommodate up to six reservations. Your group will be photographed within that time window and have dedicated time with Santa.\nIf you arrive late and miss your designated time\, we will do our best to accommodate you as the schedule allows.\nPlease allow extra time for parking and walking to Wisner House. Arrive 10 minutes before your scheduled photo session to check in.\n\nMember Price: $30 per pose | Non-Member Price: $35 per pose \nNotice: Due to ongoing construction for the Path for All project\, starting Monday\, August 25\, Arboretum parking will be unavailable Monday through Friday\, from 8:00 AM to 5:00 PM. Please use street parking during these hours. Handicap parking will remain available.
URL:https://parentguidenews.com/event/photos-with-santa-sold-out/
CATEGORIES:Annual Events,Cookies, Cocoa, & Photos with Santa
ATTACH;FMTTYPE=image/jpeg:https://parentguidenews.com/wp-content/uploads/2025/11/Cookies-Cocoa-with-Santa-scaled-QmZHwU.jpe
END:VEVENT
BEGIN:VEVENT
DTSTART;TZID=America/New_York:20251207T113000
DTEND;TZID=America/New_York:20251207T120000
DTSTAMP:20260420T022003
CREATED:20251113T085322Z
LAST-MODIFIED:20251207T201915Z
UID:10034302-1765107000-1765108800@parentguidenews.com
SUMMARY:Photos with Santa – SOLD OUT
DESCRIPTION:Cookies\, Cocoa & Photos with Santa \nSkip the mall this year and celebrate the season at our Holiday Open House! Enjoy a magical afternoon filled with cookies\, cocoa\, and photos with Santa at Reeves-Reed Arboretum. \nFamilies will also love the festive activities happening throughout the grounds\, including our Winter Story Walk\, Decorate a Tree for Wildlife\, Candy Cane Lane\, and live carolers. While you’re here\, explore our Sip & Shop Holiday Market and Holiday Greens Shoppe for unique gifts and seasonal greenery. \nCreate warm memories in a charming\, natural setting — right here at Reeves-Reed Arboretum! \nReserve your timeslot with Santa today! \nImportant Information | Please Read \n\nWhile the Open House event is free to attend\, registration and a fee are required for photos with Santa.\nProfessional photos will be taken by Bruce Lorenz and delivered digitally within 2–3 days.\nYour reservation includes one group or individual pose with Santa. To book additional poses\, please make separate reservations.\nRegistration is non-refundable.\nEach 30-minute time slot will accommodate up to six reservations. Your group will be photographed within that time window and have dedicated time with Santa.\nIf you arrive late and miss your designated time\, we will do our best to accommodate you as the schedule allows.\nPlease allow extra time for parking and walking to Wisner House. Arrive 10 minutes before your scheduled photo session to check in.\n\nMember Price: $30 per pose | Non-Member Price: $35 per pose \nNotice: Due to ongoing construction for the Path for All project\, starting Monday\, August 25\, Arboretum parking will be unavailable Monday through Friday\, from 8:00 AM to 5:00 PM. Please use street parking during these hours. Handicap parking will remain available.
URL:https://parentguidenews.com/event/photos-with-santa-sold-out-2/
CATEGORIES:Annual Events,Cookies, Cocoa, & Photos with Santa
ATTACH;FMTTYPE=image/jpeg:https://parentguidenews.com/wp-content/uploads/2025/11/Cookies-Cocoa-with-Santa-scaled-QmZHwU.jpe
END:VEVENT
BEGIN:VEVENT
DTSTART;TZID=America/New_York:20251207T120000
DTEND;TZID=America/New_York:20251207T123000
DTSTAMP:20260420T022003
CREATED:20251113T085323Z
LAST-MODIFIED:20251207T201916Z
UID:10034303-1765108800-1765110600@parentguidenews.com
SUMMARY:Photos with Santa – SOLD OUT
DESCRIPTION:Cookies\, Cocoa & Photos with Santa \nSkip the mall this year and celebrate the season at our Holiday Open House! Enjoy a magical afternoon filled with cookies\, cocoa\, and photos with Santa at Reeves-Reed Arboretum. \nFamilies will also love the festive activities happening throughout the grounds\, including our Winter Story Walk\, Decorate a Tree for Wildlife\, Candy Cane Lane\, and live carolers. While you’re here\, explore our Sip & Shop Holiday Market and Holiday Greens Shoppe for unique gifts and seasonal greenery. \nCreate warm memories in a charming\, natural setting — right here at Reeves-Reed Arboretum! \nReserve your timeslot with Santa today! \nImportant Information | Please Read \n\nWhile the Open House event is free to attend\, registration and a fee are required for photos with Santa.\nProfessional photos will be taken by Bruce Lorenz and delivered digitally within 2–3 days.\nYour reservation includes one group or individual pose with Santa. To book additional poses\, please make separate reservations.\nRegistration is non-refundable.\nEach 30-minute time slot will accommodate up to six reservations. Your group will be photographed within that time window and have dedicated time with Santa.\nIf you arrive late and miss your designated time\, we will do our best to accommodate you as the schedule allows.\nPlease allow extra time for parking and walking to Wisner House. Arrive 10 minutes before your scheduled photo session to check in.\n\nMember Price: $30 per pose | Non-Member Price: $35 per pose \nNotice: Due to ongoing construction for the Path for All project\, starting Monday\, August 25\, Arboretum parking will be unavailable Monday through Friday\, from 8:00 AM to 5:00 PM. Please use street parking during these hours. Handicap parking will remain available.
URL:https://parentguidenews.com/event/photos-with-santa-sold-out-3/
CATEGORIES:Annual Events,Cookies, Cocoa, & Photos with Santa
ATTACH;FMTTYPE=image/jpeg:https://parentguidenews.com/wp-content/uploads/2025/11/Cookies-Cocoa-with-Santa-scaled-QmZHwU.jpe
END:VEVENT
BEGIN:VEVENT
DTSTART;TZID=America/New_York:20251207T123000
DTEND;TZID=America/New_York:20251207T130000
DTSTAMP:20260420T022003
CREATED:20251113T085324Z
LAST-MODIFIED:20251207T201917Z
UID:10034304-1765110600-1765112400@parentguidenews.com
SUMMARY:Photos with Santa – SOLD OUT
DESCRIPTION:Cookies\, Cocoa & Photos with Santa \nSkip the mall this year and celebrate the season at our Holiday Open House! Enjoy a magical afternoon filled with cookies\, cocoa\, and photos with Santa at Reeves-Reed Arboretum. \nFamilies will also love the festive activities happening throughout the grounds\, including our Winter Story Walk\, Decorate a Tree for Wildlife\, Candy Cane Lane\, and live carolers. While you’re here\, explore our Sip & Shop Holiday Market and Holiday Greens Shoppe for unique gifts and seasonal greenery. \nCreate warm memories in a charming\, natural setting — right here at Reeves-Reed Arboretum! \nReserve your timeslot with Santa today! \nImportant Information | Please Read \n\nWhile the Open House event is free to attend\, registration and a fee are required for photos with Santa.\nProfessional photos will be taken by Bruce Lorenz and delivered digitally within 2–3 days.\nYour reservation includes one group or individual pose with Santa. To book additional poses\, please make separate reservations.\nRegistration is non-refundable.\nEach 30-minute time slot will accommodate up to six reservations. Your group will be photographed within that time window and have dedicated time with Santa.\nIf you arrive late and miss your designated time\, we will do our best to accommodate you as the schedule allows.\nPlease allow extra time for parking and walking to Wisner House. Arrive 10 minutes before your scheduled photo session to check in.\n\nMember Price: $30 per pose | Non-Member Price: $35 per pose \nNotice: Due to ongoing construction for the Path for All project\, starting Monday\, August 25\, Arboretum parking will be unavailable Monday through Friday\, from 8:00 AM to 5:00 PM. Please use street parking during these hours. Handicap parking will remain available.
URL:https://parentguidenews.com/event/photos-with-santa/
CATEGORIES:Annual Events,Cookies, Cocoa, & Photos with Santa
ATTACH;FMTTYPE=image/jpeg:https://parentguidenews.com/wp-content/uploads/2025/11/Cookies-Cocoa-with-Santa-scaled-QmZHwU.jpe
END:VEVENT
BEGIN:VEVENT
DTSTART;TZID=America/New_York:20251207T133000
DTEND;TZID=America/New_York:20251207T140000
DTSTAMP:20260420T022003
CREATED:20251113T085325Z
LAST-MODIFIED:20251207T201919Z
UID:10034305-1765114200-1765116000@parentguidenews.com
SUMMARY:Photos with Santa – SOLD OUT
DESCRIPTION:Cookies\, Cocoa & Photos with Santa \nSkip the mall this year and celebrate the season at our Holiday Open House! Enjoy a magical afternoon filled with cookies\, cocoa\, and photos with Santa at Reeves-Reed Arboretum. \nFamilies will also love the festive activities happening throughout the grounds\, including our Winter Story Walk\, Decorate a Tree for Wildlife\, Candy Cane Lane\, and live carolers. While you’re here\, explore our Sip & Shop Holiday Market and Holiday Greens Shoppe for unique gifts and seasonal greenery. \nCreate warm memories in a charming\, natural setting — right here at Reeves-Reed Arboretum! \nReserve your timeslot with Santa today! \nImportant Information | Please Read \n\nWhile the Open House event is free to attend\, registration and a fee are required for photos with Santa.\nProfessional photos will be taken by Bruce Lorenz and delivered digitally within 2–3 days.\nYour reservation includes one group or individual pose with Santa. To book additional poses\, please make separate reservations.\nRegistration is non-refundable.\nEach 30-minute time slot will accommodate up to six reservations. Your group will be photographed within that time window and have dedicated time with Santa.\nIf you arrive late and miss your designated time\, we will do our best to accommodate you as the schedule allows.\nPlease allow extra time for parking and walking to Wisner House. Arrive 10 minutes before your scheduled photo session to check in.\n\nMember Price: $30 per pose | Non-Member Price: $35 per pose \nNotice: Due to ongoing construction for the Path for All project\, starting Monday\, August 25\, Arboretum parking will be unavailable Monday through Friday\, from 8:00 AM to 5:00 PM. Please use street parking during these hours. Handicap parking will remain available.
URL:https://parentguidenews.com/event/photos-with-santa-2/
CATEGORIES:Annual Events,Cookies, Cocoa, & Photos with Santa
ATTACH;FMTTYPE=image/jpeg:https://parentguidenews.com/wp-content/uploads/2025/11/Cookies-Cocoa-with-Santa-scaled-QmZHwU.jpe
END:VEVENT
BEGIN:VEVENT
DTSTART;TZID=America/New_York:20251207T140000
DTEND;TZID=America/New_York:20251207T143000
DTSTAMP:20260420T022003
CREATED:20251113T085327Z
LAST-MODIFIED:20251207T201920Z
UID:10034306-1765116000-1765117800@parentguidenews.com
SUMMARY:Photos with Santa – SOLD OUT
DESCRIPTION:Cookies\, Cocoa & Photos with Santa \nSkip the mall this year and celebrate the season at our Holiday Open House! Enjoy a magical afternoon filled with cookies\, cocoa\, and photos with Santa at Reeves-Reed Arboretum. \nFamilies will also love the festive activities happening throughout the grounds\, including our Winter Story Walk\, Decorate a Tree for Wildlife\, Candy Cane Lane\, and live carolers. While you’re here\, explore our Sip & Shop Holiday Market and Holiday Greens Shoppe for unique gifts and seasonal greenery. \nCreate warm memories in a charming\, natural setting — right here at Reeves-Reed Arboretum! \nReserve your timeslot with Santa today! \nImportant Information | Please Read \n\nWhile the Open House event is free to attend\, registration and a fee are required for photos with Santa.\nProfessional photos will be taken by Bruce Lorenz and delivered digitally within 2–3 days.\nYour reservation includes one group or individual pose with Santa. To book additional poses\, please make separate reservations.\nRegistration is non-refundable.\nEach 30-minute time slot will accommodate up to six reservations. Your group will be photographed within that time window and have dedicated time with Santa.\nIf you arrive late and miss your designated time\, we will do our best to accommodate you as the schedule allows.\nPlease allow extra time for parking and walking to Wisner House. Arrive 10 minutes before your scheduled photo session to check in.\n\nMember Price: $30 per pose | Non-Member Price: $35 per pose \nNotice: Due to ongoing construction for the Path for All project\, starting Monday\, August 25\, Arboretum parking will be unavailable Monday through Friday\, from 8:00 AM to 5:00 PM. Please use street parking during these hours. Handicap parking will remain available.
URL:https://parentguidenews.com/event/photos-with-santa-3/
CATEGORIES:Annual Events,Cookies, Cocoa, & Photos with Santa
ATTACH;FMTTYPE=image/jpeg:https://parentguidenews.com/wp-content/uploads/2025/11/Cookies-Cocoa-with-Santa-scaled-QmZHwU.jpe
END:VEVENT
BEGIN:VEVENT
DTSTART;TZID=America/New_York:20251207T143000
DTEND;TZID=America/New_York:20251207T150000
DTSTAMP:20260420T022003
CREATED:20251113T085328Z
LAST-MODIFIED:20251207T201921Z
UID:10034307-1765117800-1765119600@parentguidenews.com
SUMMARY:Photos with Santa – SOLD OUT
DESCRIPTION:Cookies\, Cocoa & Photos with Santa \nSkip the mall this year and celebrate the season at our Holiday Open House! Enjoy a magical afternoon filled with cookies\, cocoa\, and photos with Santa at Reeves-Reed Arboretum. \nFamilies will also love the festive activities happening throughout the grounds\, including our Winter Story Walk\, Decorate a Tree for Wildlife\, Candy Cane Lane\, and live carolers. While you’re here\, explore our Sip & Shop Holiday Market and Holiday Greens Shoppe for unique gifts and seasonal greenery. \nCreate warm memories in a charming\, natural setting — right here at Reeves-Reed Arboretum! \nReserve your timeslot with Santa today! \nImportant Information | Please Read \n\nWhile the Open House event is free to attend\, registration and a fee are required for photos with Santa.\nProfessional photos will be taken by Bruce Lorenz and delivered digitally within 2–3 days.\nYour reservation includes one group or individual pose with Santa. To book additional poses\, please make separate reservations.\nRegistration is non-refundable.\nEach 30-minute time slot will accommodate up to six reservations. Your group will be photographed within that time window and have dedicated time with Santa.\nIf you arrive late and miss your designated time\, we will do our best to accommodate you as the schedule allows.\nPlease allow extra time for parking and walking to Wisner House. Arrive 10 minutes before your scheduled photo session to check in.\n\nMember Price: $30 per pose | Non-Member Price: $35 per pose \nNotice: Due to ongoing construction for the Path for All project\, starting Monday\, August 25\, Arboretum parking will be unavailable Monday through Friday\, from 8:00 AM to 5:00 PM. Please use street parking during these hours. Handicap parking will remain available.
URL:https://parentguidenews.com/event/photos-with-santa-sold-out-4/
CATEGORIES:Annual Events,Cookies, Cocoa, & Photos with Santa
ATTACH;FMTTYPE=image/jpeg:https://parentguidenews.com/wp-content/uploads/2025/11/Cookies-Cocoa-with-Santa-scaled-QmZHwU.jpe
END:VEVENT
BEGIN:VEVENT
DTSTART;TZID=America/New_York:20251207T150000
DTEND;TZID=America/New_York:20251207T153000
DTSTAMP:20260420T022003
CREATED:20251113T085329Z
LAST-MODIFIED:20251207T201922Z
UID:10034308-1765119600-1765121400@parentguidenews.com
SUMMARY:Photos with Santa – SOLD OUT
DESCRIPTION:Cookies\, Cocoa & Photos with Santa \nSkip the mall this year and celebrate the season at our Holiday Open House! Enjoy a magical afternoon filled with cookies\, cocoa\, and photos with Santa at Reeves-Reed Arboretum. \nFamilies will also love the festive activities happening throughout the grounds\, including our Winter Story Walk\, Decorate a Tree for Wildlife\, Candy Cane Lane\, and live carolers. While you’re here\, explore our Sip & Shop Holiday Market and Holiday Greens Shoppe for unique gifts and seasonal greenery. \nCreate warm memories in a charming\, natural setting — right here at Reeves-Reed Arboretum! \nReserve your timeslot with Santa today! \nImportant Information | Please Read \n\nWhile the Open House event is free to attend\, registration and a fee are required for photos with Santa.\nProfessional photos will be taken by Bruce Lorenz and delivered digitally within 2–3 days.\nYour reservation includes one group or individual pose with Santa. To book additional poses\, please make separate reservations.\nRegistration is non-refundable.\nEach 30-minute time slot will accommodate up to six reservations. Your group will be photographed within that time window and have dedicated time with Santa.\nIf you arrive late and miss your designated time\, we will do our best to accommodate you as the schedule allows.\nPlease allow extra time for parking and walking to Wisner House. Arrive 10 minutes before your scheduled photo session to check in.\n\nMember Price: $30 per pose | Non-Member Price: $35 per pose \nNotice: Due to ongoing construction for the Path for All project\, starting Monday\, August 25\, Arboretum parking will be unavailable Monday through Friday\, from 8:00 AM to 5:00 PM. Please use street parking during these hours. Handicap parking will remain available.
URL:https://parentguidenews.com/event/photos-with-santa-sold-out-5/
CATEGORIES:Annual Events,Cookies, Cocoa, & Photos with Santa
ATTACH;FMTTYPE=image/jpeg:https://parentguidenews.com/wp-content/uploads/2025/11/Cookies-Cocoa-with-Santa-scaled-QmZHwU.jpe
END:VEVENT
BEGIN:VEVENT
DTSTART;TZID=America/New_York:20251207T153000
DTEND;TZID=America/New_York:20251207T160000
DTSTAMP:20260420T022003
CREATED:20251113T085330Z
LAST-MODIFIED:20251207T201938Z
UID:10034309-1765121400-1765123200@parentguidenews.com
SUMMARY:Photos with Santa – SOLD OUT
DESCRIPTION:Cookies\, Cocoa & Photos with Santa \nSkip the mall this year and celebrate the season at our Holiday Open House! Enjoy a magical afternoon filled with cookies\, cocoa\, and photos with Santa at Reeves-Reed Arboretum. \nFamilies will also love the festive activities happening throughout the grounds\, including our Winter Story Walk\, Decorate a Tree for Wildlife\, Candy Cane Lane\, and live carolers. While you’re here\, explore our Sip & Shop Holiday Market and Holiday Greens Shoppe for unique gifts and seasonal greenery. \nCreate warm memories in a charming\, natural setting — right here at Reeves-Reed Arboretum! \nReserve your timeslot with Santa today! \nImportant Information | Please Read \n\nWhile the Open House event is free to attend\, registration and a fee are required for photos with Santa.\nProfessional photos will be taken by Bruce Lorenz and delivered digitally within 2–3 days.\nYour reservation includes one group or individual pose with Santa. To book additional poses\, please make separate reservations.\nRegistration is non-refundable.\nEach 30-minute time slot will accommodate up to six reservations. Your group will be photographed within that time window and have dedicated time with Santa.\nIf you arrive late and miss your designated time\, we will do our best to accommodate you as the schedule allows.\nPlease allow extra time for parking and walking to Wisner House. Arrive 10 minutes before your scheduled photo session to check in.\n\nMember Price: $30 per pose | Non-Member Price: $35 per pose \nNotice: Due to ongoing construction for the Path for All project\, starting Monday\, August 25\, Arboretum parking will be unavailable Monday through Friday\, from 8:00 AM to 5:00 PM. Please use street parking during these hours. Handicap parking will remain available.
URL:https://parentguidenews.com/event/photos-with-santa-sold-out-6/
CATEGORIES:Annual Events,Cookies, Cocoa, & Photos with Santa
ATTACH;FMTTYPE=image/jpeg:https://parentguidenews.com/wp-content/uploads/2025/11/Cookies-Cocoa-with-Santa-scaled-QmZHwU.jpe
END:VEVENT
END:VCALENDAR