BEGIN:VCALENDAR
VERSION:2.0
PRODID:-//PARENTGUIDENEWS - ECPv6.15.12.2//NONSGML v1.0//EN
CALSCALE:GREGORIAN
METHOD:PUBLISH
X-WR-CALNAME:PARENTGUIDENEWS
X-ORIGINAL-URL:https://parentguidenews.com
X-WR-CALDESC:Events for PARENTGUIDENEWS
REFRESH-INTERVAL;VALUE=DURATION:PT1H
X-Robots-Tag:noindex
X-PUBLISHED-TTL:PT1H
BEGIN:VTIMEZONE
TZID:America/New_York
BEGIN:DAYLIGHT
TZOFFSETFROM:-0500
TZOFFSETTO:-0400
TZNAME:EDT
DTSTART:20240310T070000
END:DAYLIGHT
BEGIN:STANDARD
TZOFFSETFROM:-0400
TZOFFSETTO:-0500
TZNAME:EST
DTSTART:20241103T060000
END:STANDARD
BEGIN:DAYLIGHT
TZOFFSETFROM:-0500
TZOFFSETTO:-0400
TZNAME:EDT
DTSTART:20250309T070000
END:DAYLIGHT
BEGIN:STANDARD
TZOFFSETFROM:-0400
TZOFFSETTO:-0500
TZNAME:EST
DTSTART:20251102T060000
END:STANDARD
BEGIN:DAYLIGHT
TZOFFSETFROM:-0500
TZOFFSETTO:-0400
TZNAME:EDT
DTSTART:20260308T070000
END:DAYLIGHT
BEGIN:STANDARD
TZOFFSETFROM:-0400
TZOFFSETTO:-0500
TZNAME:EST
DTSTART:20261101T060000
END:STANDARD
END:VTIMEZONE
BEGIN:VEVENT
DTSTART;TZID=America/New_York:20250811T120000
DTEND;TZID=America/New_York:20250815T120000
DTSTAMP:20260420T013732
CREATED:20250517T103603Z
LAST-MODIFIED:20250728T044621Z
UID:10027967-1754913600-1755259200@parentguidenews.com
SUMMARY:Week 9: Lunch Buddies – Budding Scientists
DESCRIPTION:(rising 1st and 2nd grade) \nLunch Buddies returns this summer! Campers attending morning sessions (9am-12pm) can bring their lunch\, and plan to stay for an additional hour of food\, fun and friends! \nPlease note that Lunch Buddies is for the whole week and cannot be prorated daily. \nDates: August 11 – August 15 \nTime: 12:00 PM – 1:00 PM \nCost: Members: $75 | Non-Members: $75 \nMember registration begins Tuesday\, February 11\, 2025\, at 9:00 AM. Non-member registration begins Tuesday\, February 25\, 2025\, at 9:00 AM.
URL:https://parentguidenews.com/event/week-9-lunch-buddies-budding-scientists/
CATEGORIES:Camps,Camps: Grade 1-2
ATTACH;FMTTYPE=image/jpeg:https://parentguidenews.com/wp-content/uploads/2025/03/Lunch-buddies-Wu5SG8tmp_.jpg
END:VEVENT
BEGIN:VEVENT
DTSTART;TZID=America/New_York:20250811T090000
DTEND;TZID=America/New_York:20250815T090000
DTSTAMP:20260420T013733
CREATED:20250517T103553Z
LAST-MODIFIED:20250728T044620Z
UID:10027966-1754902800-1755248400@parentguidenews.com
SUMMARY:Week 9: Budding Scientists – SOLD OUT
DESCRIPTION:(rising 1st to 2nd grade) \nWhy do objects float in water? How are lava lamps made? What can you use to create invisible ink? Campers will discover the answers to these questions and more as we dive into the amazing world of science! We’ll conduct experiments\, play science games\, transform vegetables into new colors\, and\, of course\, make slime! Campers—bring your curious minds! \nDates: August 11 – August 15 \nTime: 9:00 AM – 12:00 PM \nCost: Members: $250 | Non-Members: $300 \nIf you register for two or more camps per family\, you will receive $25 off your total camp purchase. To receive the discount\, please contact Althea Llewellyn\, Director of Education\, at a.llewellyn@reeves-reedarboretum.org.  Please note that only one discount can be used per family. \nMember registration begins Tuesday\, February 11\, 2025\, at 9:00 AM. Non-member registration begins Tuesday\, February 25\, 2025\, at 9:00 AM.
URL:https://parentguidenews.com/event/week-9-budding-scientists-sold-out/
CATEGORIES:Camps,Camps: Grade 1-2
ATTACH;FMTTYPE=image/jpeg:https://parentguidenews.com/wp-content/uploads/2025/05/Week-9-Budding-Scientists-scaled-cSS0ma.jpe
END:VEVENT
BEGIN:VEVENT
DTSTART;TZID=America/New_York:20250804T120000
DTEND;TZID=America/New_York:20250808T120000
DTSTAMP:20260420T013733
CREATED:20250513T010844Z
LAST-MODIFIED:20250728T044557Z
UID:10027795-1754308800-1754654400@parentguidenews.com
SUMMARY:Week 8: Lunch Buddies – Crafty Kids
DESCRIPTION:(rising 1st and 2nd grade) \nLunch Buddies returns this summer! Campers attending morning sessions (9am-12pm) can bring their lunch\, and plan to stay for an additional hour of food\, fun and friends! \nPlease note that Lunch Buddies is for the whole week and cannot be prorated daily. \nDates: August 4 – August 8 \nTime: 12:00 PM – 1:00 PM \nCost: Members: $75 | Non-Members: $75 \nMember registration begins Tuesday\, February 11\, 2025\, at 9:00 AM. Non-member registration begins Tuesday\, February 25\, 2025\, at 9:00 AM.
URL:https://parentguidenews.com/event/week-8-lunch-buddies-crafty-kids/
CATEGORIES:Camps,Camps: Grade 1-2
ATTACH;FMTTYPE=image/jpeg:https://parentguidenews.com/wp-content/uploads/2025/03/Lunch-buddies-Wu5SG8tmp_.jpg
END:VEVENT
BEGIN:VEVENT
DTSTART;TZID=America/New_York:20250804T120000
DTEND;TZID=America/New_York:20250808T120000
DTSTAMP:20260420T013733
CREATED:20250513T010843Z
LAST-MODIFIED:20250728T044556Z
UID:10027794-1754308800-1754654400@parentguidenews.com
SUMMARY:Week 8: Lunch Buddies – Food Explosion Cooking Camp
DESCRIPTION: (5-10 years old) \nLunch Buddies returns this summer! Campers attending morning sessions (9am-12pm) can bring their lunch\, and plan to stay for an additional hour of food\, fun and friends! \nPlease note that Lunch Buddies is for the whole week and cannot be prorated daily. \nDates: August 4 – August 8 \nTime: 12:00 PM – 1:00 PM \nCost: Members: $75 | Non-Members: $75 \nMember registration begins Tuesday\, February 11\, 2025\, at 9:00 AM. Non-member registration begins Tuesday\, February 25\, 2025\, at 9:00 AM.
URL:https://parentguidenews.com/event/week-8-lunch-buddies-food-explosion-cooking-camp/
CATEGORIES:Camps,Camps: Grade 1-2,Camps: Grade 3-5
ATTACH;FMTTYPE=image/jpeg:https://parentguidenews.com/wp-content/uploads/2025/03/Lunch-buddies-Wu5SG8tmp_.jpg
END:VEVENT
BEGIN:VEVENT
DTSTART;TZID=America/New_York:20250804T090000
DTEND;TZID=America/New_York:20250808T090000
DTSTAMP:20260420T013733
CREATED:20250513T010836Z
LAST-MODIFIED:20250728T044555Z
UID:10027793-1754298000-1754643600@parentguidenews.com
SUMMARY:Week 8: Crafty Kids
DESCRIPTION:(rising 1st to 2nd grade) \nCampers will enjoy a fun-filled week of imagination\, color\, and creativity as they express their inner artist through a variety of materials and techniques. As we create our crafty masterpieces\, we’ll draw inspiration from art-themed stories\, the Arboretum’s summer beauty\, and the vibrant\, nature-inspired exhibit in the Wisner House Gallery! \nDates: August 4 – August 8 \nTime: 9:00 AM – 12:00 PM \nCost: Members: $250 | Non-Members: $300 \nIf you register for two or more camps per family\, you will receive $25 off your total camp purchase. To receive the discount\, please contact Althea Llewellyn\, Director of Education\, at a.llewellyn@reeves-reedarboretum.org.  Please note that only one discount can be used per family. \nMember registration begins Tuesday\, February 11\, 2025\, at 9:00 AM. Non-member registration begins Tuesday\, February 25\, 2025\, at 9:00 AM.
URL:https://parentguidenews.com/event/week-8-crafty-kids/
CATEGORIES:Camps,Camps: Grade 1-2
ATTACH;FMTTYPE=image/jpeg:https://parentguidenews.com/wp-content/uploads/2025/05/Week-8-Crafty-Kids-scaled-kynbCstmp_.jpg
END:VEVENT
BEGIN:VEVENT
DTSTART;TZID=America/New_York:20250804T090000
DTEND;TZID=America/New_York:20250808T090000
DTSTAMP:20260420T013733
CREATED:20250513T010834Z
LAST-MODIFIED:20250728T044554Z
UID:10027792-1754298000-1754643600@parentguidenews.com
SUMMARY:Week 8: Food Explosion Cooking Camp – SOLD OUT
DESCRIPTION: (5-10 years old) \nDid you know that cooking is part science and part art? Campers will explore both the science and the art of cooking and baking as their taste buds explode with flavors from around the country and the world. Join us in the Wisner House kitchen as we prepare and taste culinary treats from near and far\, using fresh ingredients from our Square Foot Garden. Be sure to bring your appetite to this camp! \nDates: August 4 – August 8 \nTime: 9:00 AM – 12:00 PM \nCost: Members: $285 | Non-Members: $335 \nIf you register for two or more camps per family\, you will receive $25 off your total camp purchase. To receive the discount\, please contact Althea Llewellyn\, Director of Education\, at a.llewellyn@reeves-reedarboretum.org.  Please note that only one discount can be used per family. \nMember registration begins Tuesday\, February 11\, 2025\, at 9:00 AM. Non-member registration begins Tuesday\, February 25\, 2025\, at 9:00 AM.
URL:https://parentguidenews.com/event/week-8-food-explosion-cooking-camp-sold-out/
CATEGORIES:Camps,Camps: Grade 1-2,Camps: Grade 3-5
ATTACH;FMTTYPE=image/jpeg:https://parentguidenews.com/wp-content/uploads/2025/05/Week-7-8-Food-Explosion-s3MiUStmp_.jpg
END:VEVENT
BEGIN:VEVENT
DTSTART;TZID=America/New_York:20250728T120000
DTEND;TZID=America/New_York:20250801T120000
DTSTAMP:20260420T013733
CREATED:20250513T010831Z
LAST-MODIFIED:20250728T044533Z
UID:10027790-1753704000-1754049600@parentguidenews.com
SUMMARY:Week 7: Lunch Buddies – Food Explosion Cooking Camp
DESCRIPTION:(5-10 years old) \nLunch Buddies returns this summer! Campers attending morning sessions (9am-12pm) can bring their lunch\, and plan to stay for an additional hour of food\, fun and friends! \nPlease note that Lunch Buddies is for the whole week and cannot be prorated daily. \nDates: July 28 – August 1 \nTime: 12:00 PM – 1:00 PM \nCost: Members: $75 | Non-Members: $75 \nMember registration begins Tuesday\, February 11\, 2025\, at 9:00 AM. Non-member registration begins Tuesday\, February 25\, 2025\, at 9:00 AM.
URL:https://parentguidenews.com/event/week-7-lunch-buddies-food-explosion-cooking-camp/
CATEGORIES:Camps,Camps: Grade 1-2,Camps: Grade 3-5
ATTACH;FMTTYPE=image/jpeg:https://parentguidenews.com/wp-content/uploads/2025/03/Lunch-buddies-Wu5SG8tmp_.jpg
END:VEVENT
BEGIN:VEVENT
DTSTART;TZID=America/New_York:20250728T090000
DTEND;TZID=America/New_York:20250801T090000
DTSTAMP:20260420T013733
CREATED:20250513T010812Z
LAST-MODIFIED:20250728T044531Z
UID:10027788-1753693200-1754038800@parentguidenews.com
SUMMARY:Week 7: Food Explosion Cooking Camp – SOLD OUT
DESCRIPTION: (5-10 years old) \nDid you know that cooking is part science and part art? Campers will explore both the science and the art of cooking and baking as their taste buds explode with flavors from around the country and the world. Join us in the Wisner House kitchen as we prepare and taste culinary treats from near and far\, using fresh ingredients from our Square Foot Garden. Be sure to bring your appetite to this camp! \nDates: July 28 – August 1 \nTime: 9:00 AM – 12:00 PM \nCost: Members: $285 | Non-Members: $335 \nIf you register for two or more camps per family\, you will receive $25 off your total camp purchase. To receive the discount\, please contact Althea Llewellyn\, Director of Education\, at a.llewellyn@reeves-reedarboretum.org.  Please note that only one discount can be used per family. \nMember registration begins Tuesday\, February 11\, 2025\, at 9:00 AM. Non-member registration begins Tuesday\, February 25\, 2025\, at 9:00 AM.
URL:https://parentguidenews.com/event/week-7-food-explosion-cooking-camp-sold-out/
CATEGORIES:Camps,Camps: Grade 1-2,Camps: Grade 3-5
ATTACH;FMTTYPE=image/jpeg:https://parentguidenews.com/wp-content/uploads/2025/05/Week-7-8-Food-Explosion-s3MiUStmp_.jpg
END:VEVENT
BEGIN:VEVENT
DTSTART;TZID=America/New_York:20250714T120000
DTEND;TZID=America/New_York:20250718T120000
DTSTAMP:20260420T013733
CREATED:20250419T100058Z
LAST-MODIFIED:20250708T075611Z
UID:10026746-1752494400-1752840000@parentguidenews.com
SUMMARY:Week 5: Lunch Buddies – Awesome Adventures
DESCRIPTION:(rising 1st and 2nd grade) \nLunch Buddies returns this summer! Campers attending morning sessions (9am-12pm) can bring their lunch\, and plan to stay for an additional hour of food\, fun and friends! \nPlease note that Lunch Buddies is for the whole week and cannot be prorated daily. \nDates: July 14 – July 18 \nTime: 12:00 PM – 1:00 PM \nCost: Members: $75 | Non-Members: $75 \nMember registration begins Tuesday\, February 11\, 2025\, at 9:00 AM. Non-member registration begins Tuesday\, February 25\, 2025\, at 9:00 AM.
URL:https://parentguidenews.com/event/week-5-lunch-buddies-awesome-adventures/
CATEGORIES:Camps,Camps: Grade 1-2
ATTACH;FMTTYPE=image/jpeg:https://parentguidenews.com/wp-content/uploads/2025/03/Lunch-buddies-Wu5SG8tmp_.jpg
END:VEVENT
BEGIN:VEVENT
DTSTART;TZID=America/New_York:20250714T090000
DTEND;TZID=America/New_York:20250718T090000
DTSTAMP:20260420T013733
CREATED:20250419T100052Z
LAST-MODIFIED:20250708T075554Z
UID:10026745-1752483600-1752829200@parentguidenews.com
SUMMARY:Week 5: Awesome Adventures
DESCRIPTION:(rising 1st to 2nd grade) \nLet’s GO OUTSIDE! Fall in love with nature as we become “nature detectives” by exploring the Arboretum using all five senses. This hands-on camp offers plenty of opportunities to learn by doing. Sensorimotor activities\, nature play\, scientific discoveries\, creative arts\, hiking\, survival skills\, and scavenger hunts are just a few of the fun things we’ll do. \nDates: July 14 – July 18 \nTime: 9:00 AM – 12:00 PM \nCost: Members: $250 | Non-Members: $300 \nIf you register for two or more camps per family\, you will receive $25 off your total camp purchase. To receive the discount\, please contact Althea Llewellyn\, Director of Education\, at a.llewellyn@reeves-reedarboretum.org.  Please note that only one discount can be used per family. \nMember registration begins Tuesday\, February 11\, 2025\, at 9:00 AM. Non-member registration begins Tuesday\, February 25\, 2025\, at 9:00 AM.
URL:https://parentguidenews.com/event/week-5-awesome-adventures-sold-out/
CATEGORIES:Camps,Camps: Grade 1-2
ATTACH;FMTTYPE=image/jpeg:https://parentguidenews.com/wp-content/uploads/2025/04/Week-5-Awesome-Adventures-scaled-UGOT6Ktmp_.jpg
END:VEVENT
BEGIN:VEVENT
DTSTART;TZID=America/New_York:20250707T120000
DTEND;TZID=America/New_York:20250711T120000
DTSTAMP:20260420T013733
CREATED:20250412T084747Z
LAST-MODIFIED:20250707T071742Z
UID:10026702-1751889600-1752235200@parentguidenews.com
SUMMARY:Week 4: Lunch Buddies – Creature Communication
DESCRIPTION:(rising 1st and 2nd grade) \nLunch Buddies returns this summer! Campers attending morning sessions (9am-12pm) can bring their lunch\, and plan to stay for an additional hour of food\, fun and friends! \nPlease note that Lunch Buddies is for the whole week and cannot be prorated daily. \nDates: July 7 – July 11 \nTime: 12:00 PM – 1:00 PM \nCost: Members: $75 | Non-Members: $75 \nMember registration begins Tuesday\, February 11\, 2025\, at 9:00 AM. Non-member registration begins Tuesday\, February 25\, 2025\, at 9:00 AM.
URL:https://parentguidenews.com/event/week-4-lunch-buddies-creature-communication/
CATEGORIES:Camps,Camps: Grade 1-2
ATTACH;FMTTYPE=image/jpeg:https://parentguidenews.com/wp-content/uploads/2025/03/Lunch-buddies-Wu5SG8tmp_.jpg
END:VEVENT
BEGIN:VEVENT
DTSTART;TZID=America/New_York:20250707T090000
DTEND;TZID=America/New_York:20250711T090000
DTSTAMP:20260420T013733
CREATED:20250412T084736Z
LAST-MODIFIED:20250707T071738Z
UID:10026701-1751878800-1752224400@parentguidenews.com
SUMMARY:Week 4:  Creature Communication
DESCRIPTION:(rising 1st to 2nd grade) \nWhat do a wolf’s howl\, a skunk’s spray\, a firefly’s flash\, and a bee’s waggle dance have in common? They’re all ways to convey important information! Come explore how the world’s creatures communicate and what messages they need to relay. If you’ve ever wanted to “talk like the animals\,” this camp is for you! \nDates: July 7 – July 11 \nTime: 9:00 AM – 12:00 PM \nCost: Members: $250 | Non-Members: $300 \nIf you register for two or more camps per family\, you will receive $25 off your total camp purchase. To receive the discount\, please contact Althea Llewellyn\, Director of Education\, at a.llewellyn@reeves-reedarboretum.org.  Please note that only one discount can be used per family. \nMember registration begins Tuesday\, February 11\, 2025\, at 9:00 AM. Non-member registration begins Tuesday\, February 25\, 2025\, at 9:00 AM.
URL:https://parentguidenews.com/event/week-4-creature-communication/
CATEGORIES:Camps,Camps: Grade 1-2
ATTACH;FMTTYPE=image/jpeg:https://parentguidenews.com/wp-content/uploads/2025/04/Week-4-creature-communication-peacock-scaled-BwbMy9tmp_.jpg
END:VEVENT
BEGIN:VEVENT
DTSTART;TZID=America/New_York:20250623T090000
DTEND;TZID=America/New_York:20250627T090000
DTSTAMP:20260420T013733
CREATED:20250329T064334Z
LAST-MODIFIED:20250607T043420Z
UID:10026578-1750669200-1751014800@parentguidenews.com
SUMMARY:Week 3: BOLD Arts Dance and Nature Camp
DESCRIPTION:(rising 1st to 5th grade) \nBOLD Arts and Reeves-Reed Arboretum have partnered since the summer of 2016 to offer an exciting week of dance\, arts\, and nature programs driven by creative kids! This week-long summer camp is designed for children who enjoy being outside\, dancing\, exploring\, and being creative. Together\, kids will create original performances inspired by themes like Flowers\, The Ocean\, The Enchanted Forest\, Jane Goodall\, NJ Nature\, and more. \nJoin us this summer as we create dances\, artwork\, and music inspired by the seasons. \nThe program is led by NYC teaching artists and takes full advantage of the beautiful grounds of Reeves-Reed Arboretum. \nDates: June 23 – June 27 \nTime: 9:00 AM – 3:00 PM \nCost: Members: $430| Non-Members: $480 \nThe cost is per child. Registration is required; register early\, as space is limited. If you register for two or more camps per family\, you will receive $25 off your total camp purchase. Please contact Althea Llewellyn\, Director of Education\, at a.llewellyn@reeves-reedarboretum.org. \nMember registration begins Tuesday\, February 11\, 2025\, at 9:00 AM. Non-member registration begins Tuesday\, February 25\, 2025\, at 9:00 AM.
URL:https://parentguidenews.com/event/week-3-bold-arts-dance-and-nature-camp/
CATEGORIES:BOLD Arts Performing Arts Camp,Camps,Camps: Grade 1-2,Camps: Grade 3-5
ATTACH;FMTTYPE=image/jpeg:https://parentguidenews.com/wp-content/uploads/2025/03/Week-3-BOLD-Arts-HlAJRqtmp_.jpg
END:VEVENT
END:VCALENDAR