BEGIN:VCALENDAR
VERSION:2.0
PRODID:-//PARENTGUIDENEWS - ECPv6.15.12.2//NONSGML v1.0//EN
CALSCALE:GREGORIAN
METHOD:PUBLISH
X-ORIGINAL-URL:https://parentguidenews.com
X-WR-CALDESC:Events for PARENTGUIDENEWS
REFRESH-INTERVAL;VALUE=DURATION:PT1H
X-Robots-Tag:noindex
X-PUBLISHED-TTL:PT1H
BEGIN:VTIMEZONE
TZID:America/New_York
BEGIN:DAYLIGHT
TZOFFSETFROM:-0500
TZOFFSETTO:-0400
TZNAME:EDT
DTSTART:20250309T070000
END:DAYLIGHT
BEGIN:STANDARD
TZOFFSETFROM:-0400
TZOFFSETTO:-0500
TZNAME:EST
DTSTART:20251102T060000
END:STANDARD
BEGIN:DAYLIGHT
TZOFFSETFROM:-0500
TZOFFSETTO:-0400
TZNAME:EDT
DTSTART:20260308T070000
END:DAYLIGHT
BEGIN:STANDARD
TZOFFSETFROM:-0400
TZOFFSETTO:-0500
TZNAME:EST
DTSTART:20261101T060000
END:STANDARD
BEGIN:DAYLIGHT
TZOFFSETFROM:-0500
TZOFFSETTO:-0400
TZNAME:EDT
DTSTART:20270314T070000
END:DAYLIGHT
BEGIN:STANDARD
TZOFFSETFROM:-0400
TZOFFSETTO:-0500
TZNAME:EST
DTSTART:20271107T060000
END:STANDARD
END:VTIMEZONE
BEGIN:VEVENT
DTSTART;TZID=America/New_York:20260208T110000
DTEND;TZID=America/New_York:20260208T123000
DTSTAMP:20260419T193243
CREATED:20260114T021907Z
LAST-MODIFIED:20260208T060708Z
UID:10035955-1770548400-1770553800@parentguidenews.com
SUMMARY:Artist Reception: Chromatic Terrain by Greg Navratil
DESCRIPTION:Join Reeves-Reed Arboretum for a special reception celebrating Chromatic Terrain: Contemporary Landscapes by Greg Navratil on February 8 from 11:00 am–12:30 pm. This special event invites visitors to explore Navratil’s vivid interpretations of the natural world\, translated into expressive\, richly layered compositions. \nThe reception will feature remarks by Curator Frank Juliano\, who will offer insight into the artist’s process and the exhibition’s connection to the Arboretum’s seasonal landscape. Guests will have the opportunity to view and purchase artwork\, with 30% of all sales benefiting the Arboretum. \nThis event is free and open to the public. Registration is recommended but not required. Find out more about this exhibition here.  \nGallery hours are Tuesday through Sunday\, 10 am – 4 pm unless closed for a private event. Please check here for updated hours.  \nQuestions can be directed to Office Manager Marilyn Wirtz at m.wirtz@reeves-reedarboretum.org.  \nNotice: Due to ongoing construction for the Path for All project\, Arboretum parking will be unavailable Monday through Friday\, from 8:00 AM to 5:00 PM. Please use street parking during these hours. Handicap parking will remain available.
URL:https://parentguidenews.com/event/artist-reception-chromatic-terrain-by-greg-navratil/
CATEGORIES:Art Exhibits,FEATURED
ATTACH;FMTTYPE=image/jpeg:https://parentguidenews.com/wp-content/uploads/2026/01/Youngs-River-Falls-3-RpmW7d.jpe
END:VEVENT
END:VCALENDAR