BEGIN:VCALENDAR
VERSION:2.0
PRODID:-//PARENTGUIDENEWS - ECPv6.15.12.2//NONSGML v1.0//EN
CALSCALE:GREGORIAN
METHOD:PUBLISH
X-ORIGINAL-URL:https://parentguidenews.com
X-WR-CALDESC:Events for PARENTGUIDENEWS
REFRESH-INTERVAL;VALUE=DURATION:PT1H
X-Robots-Tag:noindex
X-PUBLISHED-TTL:PT1H
BEGIN:VTIMEZONE
TZID:America/New_York
BEGIN:DAYLIGHT
TZOFFSETFROM:-0500
TZOFFSETTO:-0400
TZNAME:EDT
DTSTART:20240310T070000
END:DAYLIGHT
BEGIN:STANDARD
TZOFFSETFROM:-0400
TZOFFSETTO:-0500
TZNAME:EST
DTSTART:20241103T060000
END:STANDARD
BEGIN:DAYLIGHT
TZOFFSETFROM:-0500
TZOFFSETTO:-0400
TZNAME:EDT
DTSTART:20250309T070000
END:DAYLIGHT
BEGIN:STANDARD
TZOFFSETFROM:-0400
TZOFFSETTO:-0500
TZNAME:EST
DTSTART:20251102T060000
END:STANDARD
BEGIN:DAYLIGHT
TZOFFSETFROM:-0500
TZOFFSETTO:-0400
TZNAME:EDT
DTSTART:20260308T070000
END:DAYLIGHT
BEGIN:STANDARD
TZOFFSETFROM:-0400
TZOFFSETTO:-0500
TZNAME:EST
DTSTART:20261101T060000
END:STANDARD
END:VTIMEZONE
BEGIN:VEVENT
DTSTART;TZID=America/New_York:20250320T160000
DTEND;TZID=America/New_York:20250320T170000
DTSTAMP:20260419T151546
CREATED:20250307T220145Z
LAST-MODIFIED:20250320T041538Z
UID:10025996-1742486400-1742490000@parentguidenews.com
SUMMARY:Arboretum Afternoons: Spring Things! – Cancelled
DESCRIPTION:(ages 5-8) \nAfter a long school day\, your child will enjoy exploring nature with our Environmental Educators in this engaging program.  While this is generally a drop-off program\, we also welcome parents/caregivers who may want to stay to join in the fun!  There’s a different fascinating focus each week! Stories\, hikes\, themed games\, experiments\, and one-of-a-kind art projects are all part of the fun. \nThe cost is per child. Registration is required; register early since space is limited. Member registration begins on Tuesday\, December 10\, 2024\, at 9:00 am; Non-Member registration begins on Tuesday\, December 17\, 2024\, at 9:00 am. \nMember price: $20\nNon-member Price: $30
URL:https://parentguidenews.com/event/arboretum-afternoons-spring-things/
CATEGORIES:Arboretum Afternoons,Classes,Kids Programs
ATTACH;FMTTYPE=image/jpeg:https://parentguidenews.com/wp-content/uploads/2025/03/Hummingbird-Journeys-featured-aibwjqtmp_.jpg
END:VEVENT
BEGIN:VEVENT
DTSTART;TZID=America/New_York:20250306T160000
DTEND;TZID=America/New_York:20250306T170000
DTSTAMP:20260419T151546
CREATED:20250227T185613Z
LAST-MODIFIED:20250227T185613Z
UID:10025829-1741276800-1741280400@parentguidenews.com
SUMMARY:Arboretum Afternoons: World Wildlife Celebration
DESCRIPTION:(ages 5-8) \nAfter a long school day\, your child will enjoy exploring nature with our Environmental Educators in this engaging program.  While this is generally a drop-off program\, we also welcome parents/caregivers who may want to stay to join in the fun!  There’s a different fascinating focus each week! Stories\, hikes\, themed games\, experiments\, and one-of-a-kind art projects are all part of the fun. \nThe cost is per child. Registration is required; register early since space is limited. Member registration begins on Tuesday\, December 10\, 2024\, at 9:00 am; Non-Member registration begins on Tuesday\, December 17\, 2024\, at 9:00 am. \nMember price: $20\nNon-member Price: $30
URL:https://parentguidenews.com/event/arboretum-afternoons-world-wildlife-celebration/
CATEGORIES:Arboretum Afternoons,Classes,Kids Programs
ATTACH;FMTTYPE=image/jpeg:https://parentguidenews.com/wp-content/uploads/2025/02/Sea-Turtle-World-Wildlife-AA-March-6-scaled-wnmE61tmp_.jpg
END:VEVENT
END:VCALENDAR