BEGIN:VCALENDAR
VERSION:2.0
PRODID:-//PARENTGUIDENEWS - ECPv6.15.12.2//NONSGML v1.0//EN
CALSCALE:GREGORIAN
METHOD:PUBLISH
X-ORIGINAL-URL:https://parentguidenews.com
X-WR-CALDESC:Events for PARENTGUIDENEWS
REFRESH-INTERVAL;VALUE=DURATION:PT1H
X-Robots-Tag:noindex
X-PUBLISHED-TTL:PT1H
BEGIN:VTIMEZONE
TZID:America/New_York
BEGIN:DAYLIGHT
TZOFFSETFROM:-0500
TZOFFSETTO:-0400
TZNAME:EDT
DTSTART:20240310T070000
END:DAYLIGHT
BEGIN:STANDARD
TZOFFSETFROM:-0400
TZOFFSETTO:-0500
TZNAME:EST
DTSTART:20241103T060000
END:STANDARD
BEGIN:DAYLIGHT
TZOFFSETFROM:-0500
TZOFFSETTO:-0400
TZNAME:EDT
DTSTART:20250309T070000
END:DAYLIGHT
BEGIN:STANDARD
TZOFFSETFROM:-0400
TZOFFSETTO:-0500
TZNAME:EST
DTSTART:20251102T060000
END:STANDARD
BEGIN:DAYLIGHT
TZOFFSETFROM:-0500
TZOFFSETTO:-0400
TZNAME:EDT
DTSTART:20260308T070000
END:DAYLIGHT
BEGIN:STANDARD
TZOFFSETFROM:-0400
TZOFFSETTO:-0500
TZNAME:EST
DTSTART:20261101T060000
END:STANDARD
END:VTIMEZONE
BEGIN:VEVENT
DTSTART;TZID=America/New_York:20251101T130000
DTEND;TZID=America/New_York:20251101T143000
DTSTAMP:20260420T001943
CREATED:20251021T200244Z
LAST-MODIFIED:20251021T200244Z
UID:10033934-1762002000-1762007400@parentguidenews.com
SUMMARY:Closing Reception: Nature’s Tapestry
DESCRIPTION:Join us at Reeves-Reed Arboretum for a celebratory closing reception of Nature’s Tapestry\, an exhibition that weaves together art\, gardens\, and sustainability. \nMeet featured artist Carolyn McKibbin\, who will share insights into her improvisational quilting practice\, inspired by the textures and rhythms of gardens. \nOut on the Arboretum grounds\, we invite the public to explore two distinctive and imaginative sculptures. Jose Criollo’s Tortoise\, crafted from recycled metal and machine parts\, reflects his inventive approach to transforming everyday materials into whimsical animal forms. Criollo will be present to discuss his sculpture process and inspiration with guests. Nearby\, Aristides\, a large-scale bent willow installation by Kentucky artist Justin Roberts\, has been a highlight of the landscape throughout the exhibition. This reception will offer guests a final opportunity to experience this striking work in its Arboretum setting. \nEnjoy light refreshments as you wander between gallery and garden\, exploring works that highlight creativity\, sustainability\, and the beauty of the natural world. \nThis event is free and open to the public. Registration is encouraged but not required. \nQuilts and sculptures are for sale\, and artists have agreed to donate 30% of all sales to the Arboretum.
URL:https://parentguidenews.com/event/closing-reception-natures-tapestry/
CATEGORIES:Annual Events,Annual Events 2,Art Exhibits,FEATURED
ATTACH;FMTTYPE=image/jpeg:https://parentguidenews.com/wp-content/uploads/2025/07/Mojo-sUddkP.jpe
END:VEVENT
BEGIN:VEVENT
DTSTART;VALUE=DATE:20251117
DTEND;VALUE=DATE:20251118
DTSTAMP:20260420T001943
CREATED:20251113T085115Z
LAST-MODIFIED:20251117T163733Z
UID:10034276-1763337600-1763423999@parentguidenews.com
SUMMARY:Annual Holiday Greens Online Sale
DESCRIPTION:The Reeves-Reed Arboretum Annual Holiday Greens Online Sale is officially underway! \nThis year\, we’re offering a beautiful selection of holiday wreaths\, centerpieces\, swags\, and mint julep cups to help you celebrate the season in style. Support the Arboretum and bring some festive cheer to your home with our handcrafted holiday greens. \nOnline Orders are live!  \nSale Details: \n\nOrder Deadline: December 5th\nPick-up Available Starting: November 30th @ 10:00 AM\nLimited Supplies: Be sure to place your order early!\n\nThe online sale runs through December 5\, 2025 — but supplies are limited\, so don’t wait! \nClick here to place your online order. \nPrefer to shop in person? Join us for our Holiday Open House on Sunday\, December 7th\, from 11:00 AM to 4:00 PM\, and buy your holiday greens at our on-site Holiday Greens Boutique. You’ll also find unique decorations and gifts to make your holidays even brighter! \n 
URL:https://parentguidenews.com/event/annual-holiday-greens-online-sale/
CATEGORIES:Annual Events,Annual Events 2
ATTACH;FMTTYPE=image/jpeg:https://parentguidenews.com/wp-content/uploads/2025/11/holiday-greens-for-slider-revised-ZOXjlT.jpe
END:VEVENT
BEGIN:VEVENT
DTSTART;VALUE=DATE:20251124
DTEND;VALUE=DATE:20251125
DTSTAMP:20260420T001943
CREATED:20251113T085150Z
LAST-MODIFIED:20251124T174739Z
UID:10034284-1763942400-1764028799@parentguidenews.com
SUMMARY:Annual Holiday Greens Online Sale
DESCRIPTION:The Reeves-Reed Arboretum Annual Holiday Greens Online Sale is officially underway! \nThis year\, we’re offering a beautiful selection of holiday wreaths\, centerpieces\, swags\, and mint julep cups to help you celebrate the season in style. Support the Arboretum and bring some festive cheer to your home with our handcrafted holiday greens. \nOnline Orders are live!  \nSale Details: \n\nOrder Deadline: December 5th\nPick-up Available Starting: November 30th @ 10:00 AM\nLimited Supplies: Be sure to place your order early!\n\nThe online sale runs through December 5\, 2025 — but supplies are limited\, so don’t wait! \nClick here to place your online order. \nPrefer to shop in person? Join us for our Holiday Open House on Sunday\, December 7th\, from 11:00 AM to 4:00 PM\, and buy your holiday greens at our on-site Holiday Greens Boutique. You’ll also find unique decorations and gifts to make your holidays even brighter! \n 
URL:https://parentguidenews.com/event/annual-holiday-greens-online-sale-2/
CATEGORIES:Annual Events,Annual Events 2
ATTACH;FMTTYPE=image/jpeg:https://parentguidenews.com/wp-content/uploads/2025/11/holiday-greens-for-slider-revised-ZOXjlT.jpe
END:VEVENT
END:VCALENDAR