BEGIN:VCALENDAR
VERSION:2.0
PRODID:-//PARENTGUIDENEWS - ECPv6.15.12.2//NONSGML v1.0//EN
CALSCALE:GREGORIAN
METHOD:PUBLISH
X-ORIGINAL-URL:https://parentguidenews.com
X-WR-CALDESC:Events for PARENTGUIDENEWS
REFRESH-INTERVAL;VALUE=DURATION:PT1H
X-Robots-Tag:noindex
X-PUBLISHED-TTL:PT1H
BEGIN:VTIMEZONE
TZID:America/New_York
BEGIN:DAYLIGHT
TZOFFSETFROM:-0500
TZOFFSETTO:-0400
TZNAME:EDT
DTSTART:20250309T070000
END:DAYLIGHT
BEGIN:STANDARD
TZOFFSETFROM:-0400
TZOFFSETTO:-0500
TZNAME:EST
DTSTART:20251102T060000
END:STANDARD
BEGIN:DAYLIGHT
TZOFFSETFROM:-0500
TZOFFSETTO:-0400
TZNAME:EDT
DTSTART:20260308T070000
END:DAYLIGHT
BEGIN:STANDARD
TZOFFSETFROM:-0400
TZOFFSETTO:-0500
TZNAME:EST
DTSTART:20261101T060000
END:STANDARD
BEGIN:DAYLIGHT
TZOFFSETFROM:-0500
TZOFFSETTO:-0400
TZNAME:EDT
DTSTART:20270314T070000
END:DAYLIGHT
BEGIN:STANDARD
TZOFFSETFROM:-0400
TZOFFSETTO:-0500
TZNAME:EST
DTSTART:20271107T060000
END:STANDARD
END:VTIMEZONE
BEGIN:VEVENT
DTSTART;TZID=America/New_York:20260325T160000
DTEND;TZID=America/New_York:20260325T170000
DTSTAMP:20260420T024640
CREATED:20251225T232143Z
LAST-MODIFIED:20260325T221839Z
UID:10035815-1774454400-1774458000@parentguidenews.com
SUMMARY:Amazing Animal Artists
DESCRIPTION:(ages 5-10) \nIn this new art and nature program\, a different mystery native wild animal is featured each month. First\, participants guess the animal from clues\, then learn all about it through pictures\, artifacts\, and hands-on activities. Finally\, they discover how to draw the animal using simple lines and shapes\, creating a refrigerator-worthy masterpiece to take home. Parents are welcome to stay or drop off. \nThe cost is per child. Registration is required\, so be sure to register early as space is limited. \nMember registration begins on Friday\, January 2\, 2026\, at 9:00 AM. Non-member registration begins on Friday\, January 9\, 2026\, at 9:00 AM. \nMember Price: $20 | Non-Member Price: $30 \nNotice: Due to ongoing construction for the Path for All project\, Arboretum parking will be unavailable Monday through Friday\, from 8:00 AM to 5:00 PM. Please use street parking during these hours. Handicap parking will remain available.
URL:https://parentguidenews.com/event/amazing-animal-artists-4/
CATEGORIES:Amazing Animal Artistry,Classes,Kids Programs
ATTACH;FMTTYPE=image/jpeg:https://parentguidenews.com/wp-content/uploads/2025/12/colored-pencils-pic-NhZKDD.jpe
END:VEVENT
BEGIN:VEVENT
DTSTART;TZID=America/New_York:20260311T160000
DTEND;TZID=America/New_York:20260311T170000
DTSTAMP:20260420T024640
CREATED:20251215T212359Z
LAST-MODIFIED:20260311T221847Z
UID:10035591-1773244800-1773248400@parentguidenews.com
SUMMARY:Amazing Animal Artists
DESCRIPTION:(ages 5-10) \nIn this new art and nature program\, a different mystery native wild animal is featured each month. First\, participants guess the animal from clues\, then learn all about it through pictures\, artifacts\, and hands-on activities. Finally\, they discover how to draw the animal using simple lines and shapes\, creating a refrigerator-worthy masterpiece to take home. Parents are welcome to stay or drop off. \nThe cost is per child. Registration is required\, so be sure to register early as space is limited. \nMember registration begins on Friday\, January 2\, 2026\, at 9:00 AM. Non-member registration begins on Friday\, January 9\, 2026\, at 9:00 AM. \nMember Price: $20 | Non-Member Price: $30 \nNotice: Due to ongoing construction for the Path for All project\, Arboretum parking will be unavailable Monday through Friday\, from 8:00 AM to 5:00 PM. Please use street parking during these hours. Handicap parking will remain available.
URL:https://parentguidenews.com/event/amazing-animal-artists-3/
CATEGORIES:Amazing Animal Artistry,Classes,Kids Programs
ATTACH;FMTTYPE=image/jpeg:https://parentguidenews.com/wp-content/uploads/2025/12/art-supplies-pic-V1Y3uI.jpe
END:VEVENT
BEGIN:VEVENT
DTSTART;TZID=America/New_York:20260225T160000
DTEND;TZID=America/New_York:20260225T170000
DTSTAMP:20260420T024640
CREATED:20251215T212328Z
LAST-MODIFIED:20260225T193430Z
UID:10035589-1772035200-1772038800@parentguidenews.com
SUMMARY:Amazing Animal Artists -Cancelled due to parking and safety concerns
DESCRIPTION:(ages 5-10) \nIn this new art and nature program\, a different mystery native wild animal is featured each month. First\, participants guess the animal from clues\, then learn all about it through pictures\, artifacts\, and hands-on activities. Finally\, they discover how to draw the animal using simple lines and shapes\, creating a refrigerator-worthy masterpiece to take home. Parents are welcome to stay or drop off. \nThe cost is per child. Registration is required\, so be sure to register early as space is limited. \nMember registration begins on Friday\, January 2\, 2026\, at 9:00 AM. Non-member registration begins on Friday\, January 9\, 2026\, at 9:00 AM. \nMember Price: $20 | Non-Member Price: $30 \nNotice: Due to ongoing construction for the Path for All project\, Arboretum parking will be unavailable Monday through Friday\, from 8:00 AM to 5:00 PM. Please use street parking during these hours. Handicap parking will remain available.
URL:https://parentguidenews.com/event/amazing-animal-artists-2/
CATEGORIES:Amazing Animal Artistry,Classes,Kids Programs
ATTACH;FMTTYPE=image/jpeg:https://parentguidenews.com/wp-content/uploads/2025/12/animal-art-photo-scaled-3KHMwK.jpe
END:VEVENT
BEGIN:VEVENT
DTSTART;TZID=America/New_York:20260211T160000
DTEND;TZID=America/New_York:20260211T170000
DTSTAMP:20260420T024640
CREATED:20251215T212301Z
LAST-MODIFIED:20260211T064901Z
UID:10035588-1770825600-1770829200@parentguidenews.com
SUMMARY:Amazing Animal Artists
DESCRIPTION:(ages 5-10) \nIn this new art and nature program\, a different mystery native wild animal is featured each month. First\, participants guess the animal from clues\, then learn all about it through pictures\, artifacts\, and hands-on activities. Finally\, they discover how to draw the animal using simple lines and shapes\, creating a refrigerator-worthy masterpiece to take home. Parents are welcome to stay or drop off. \nThe cost is per child. Registration is required\, so be sure to register early as space is limited. \nMember registration begins on Friday\, January 2\, 2026\, at 9:00 AM. Non-member registration begins on Friday\, January 9\, 2026\, at 9:00 AM. \nMember Price: $20 | Non-Member Price: $30 \nNotice: Due to ongoing construction for the Path for All project\, Arboretum parking will be unavailable Monday through Friday\, from 8:00 AM to 5:00 PM. Please use street parking during these hours. Handicap parking will remain available.
URL:https://parentguidenews.com/event/amazing-animal-artists/
CATEGORIES:Amazing Animal Artistry,Classes,Kids Programs
ATTACH;FMTTYPE=image/jpeg:https://parentguidenews.com/wp-content/uploads/2025/12/art-class-pic-1-xCWS2c.jpe
END:VEVENT
END:VCALENDAR