BEGIN:VCALENDAR
VERSION:2.0
PRODID:-//PARENTGUIDENEWS - ECPv6.15.12.2//NONSGML v1.0//EN
CALSCALE:GREGORIAN
METHOD:PUBLISH
X-WR-CALNAME:PARENTGUIDENEWS
X-ORIGINAL-URL:https://parentguidenews.com
X-WR-CALDESC:Events for PARENTGUIDENEWS
REFRESH-INTERVAL;VALUE=DURATION:PT1H
X-Robots-Tag:noindex
X-PUBLISHED-TTL:PT1H
BEGIN:VTIMEZONE
TZID:America/New_York
BEGIN:DAYLIGHT
TZOFFSETFROM:-0500
TZOFFSETTO:-0400
TZNAME:EDT
DTSTART:20250309T070000
END:DAYLIGHT
BEGIN:STANDARD
TZOFFSETFROM:-0400
TZOFFSETTO:-0500
TZNAME:EST
DTSTART:20251102T060000
END:STANDARD
BEGIN:DAYLIGHT
TZOFFSETFROM:-0500
TZOFFSETTO:-0400
TZNAME:EDT
DTSTART:20260308T070000
END:DAYLIGHT
BEGIN:STANDARD
TZOFFSETFROM:-0400
TZOFFSETTO:-0500
TZNAME:EST
DTSTART:20261101T060000
END:STANDARD
BEGIN:DAYLIGHT
TZOFFSETFROM:-0500
TZOFFSETTO:-0400
TZNAME:EDT
DTSTART:20270314T070000
END:DAYLIGHT
BEGIN:STANDARD
TZOFFSETFROM:-0400
TZOFFSETTO:-0500
TZNAME:EST
DTSTART:20271107T060000
END:STANDARD
END:VTIMEZONE
BEGIN:VEVENT
DTSTART;TZID=America/New_York:20260620T100000
DTEND;TZID=America/New_York:20260620T170000
DTSTAMP:20260419T152922
CREATED:20240405T144456Z
LAST-MODIFIED:20240405T144456Z
UID:10020769-1781949600-1781974800@parentguidenews.com
SUMMARY:Story Time/ Music and Movement
DESCRIPTION:Story time- Spark children’s imagination and nurture their love for reading through monthly themed picture books and read-aloud- Every Day at 10 am and 4 pm \nMusic and Movement- Interactive class featuring puppets\, musical instruments\, and props.\n-Every day at 11am and 3 pm
URL:https://parentguidenews.com/event/story-time-music-and-movement-2/2026-06-20/
LOCATION:Westchester Children’s Museum\, 100 Playland Parkway\, Rye\, New York\, 10580
ATTACH;FMTTYPE=image/png:https://parentguidenews.com/wp-content/uploads/2024/04/Music-and-Movement.png
ORGANIZER;CN="westchester childrens museusum":MAILTO:info@discoverwcm.org
GEO:40.9642816;-73.6774881
X-APPLE-STRUCTURED-LOCATION;VALUE=URI;X-ADDRESS=Westchester Children’s Museum 100 Playland Parkway Rye New York 10580;X-APPLE-RADIUS=500;X-TITLE=100 Playland Parkway:geo:-73.6774881,40.9642816
END:VEVENT
BEGIN:VEVENT
DTSTART;TZID=America/New_York:20260620T103000
DTEND;TZID=America/New_York:20260620T133000
DTSTAMP:20260419T152922
CREATED:20260322T213857Z
LAST-MODIFIED:20260418T073906Z
UID:10036845-1781951400-1781962200@parentguidenews.com
SUMMARY:Free Saturday Tours
DESCRIPTION:(all ages) \n\n\nEnjoy a Free Guided Tour of the Arboretum\n\n\n\n\nFree guided tours of the Arboretum are offered most Saturdays at 10:30 am and 1:30 pm\, from April 18 through October 17. Tours begin at the Visitors Center. No reservations are required and tours are on a first-come\, first-served basis for individuals who would like to learn more about the current season’s highlights. Limit of 7 people per tour. Anyone under the age of 12 must be accompanied by an adult. No groups. Tours last approximately 30-45 minutes. \n\n\n\n\nSaturday Garden Tours may be suspended on days with excessive heat. We apologize for any inconvenience.
URL:https://parentguidenews.com/event/free-saturday-tours-32/
LOCATION:NY
CATEGORIES:Discovery Weekends
ATTACH;FMTTYPE=image/jpeg:https://parentguidenews.com/wp-content/uploads/2025/04/free-saturday-tours-page-large_kids-tour-serpentine-path-AinP0atmp_.jpg
END:VEVENT
BEGIN:VEVENT
DTSTART;TZID=America/New_York:20260620T110000
DTEND;TZID=America/New_York:20260620T111500
DTSTAMP:20260419T152922
CREATED:20231204T143851Z
LAST-MODIFIED:20231204T212500Z
UID:10012844-1781953200-1781954100@parentguidenews.com
SUMMARY:Music & Movement
DESCRIPTION:Interactive class featuring puppets\, musical instruments\, and props.
URL:https://parentguidenews.com/event/music-movement/2026-06-20/
LOCATION:Westchester Children’s Museum\, 100 Playland Parkway\, Rye\, New York\, 10580
CATEGORIES:Children,Classes for Kids,For Children,For the Family,Museums
ATTACH;FMTTYPE=image/png:https://parentguidenews.com/wp-content/uploads/2023/11/3.png
GEO:40.9642816;-73.6774881
X-APPLE-STRUCTURED-LOCATION;VALUE=URI;X-ADDRESS=Westchester Children’s Museum 100 Playland Parkway Rye New York 10580;X-APPLE-RADIUS=500;X-TITLE=100 Playland Parkway:geo:-73.6774881,40.9642816
END:VEVENT
BEGIN:VEVENT
DTSTART;TZID=America/New_York:20260620T110000
DTEND;TZID=America/New_York:20260620T120000
DTSTAMP:20260419T152922
CREATED:20230818T232618Z
LAST-MODIFIED:20230818T232618Z
UID:10006919-1781953200-1781956800@parentguidenews.com
SUMMARY:Story Hour at Sugar Hill Museum
DESCRIPTION:
URL:https://parentguidenews.com/event/story-hour-at-sugar-hill-museum/2026-06-20/
LOCATION:Sugar Hill Museum\, 898 St. Nicholas Avenue @ 155th Street\, New York\, NY\, 10032\, United States
ATTACH;FMTTYPE=image/jpeg:https://parentguidenews.com/wp-content/uploads/2023/08/sugarHill-storiesntehStoop-frame-updatedImage-v2.jpeg
GEO:40.8303403;-73.9410448
X-APPLE-STRUCTURED-LOCATION;VALUE=URI;X-ADDRESS=Sugar Hill Museum 898 St. Nicholas Avenue @ 155th Street New York NY 10032 United States;X-APPLE-RADIUS=500;X-TITLE=898 St. Nicholas Avenue @ 155th Street:geo:-73.9410448,40.8303403
END:VEVENT
BEGIN:VEVENT
DTSTART;TZID=America/New_York:20260620T110000
DTEND;TZID=America/New_York:20260620T150000
DTSTAMP:20260419T152922
CREATED:20230306T220839Z
LAST-MODIFIED:20230306T221028Z
UID:10000276-1781953200-1781967600@parentguidenews.com
SUMMARY:Free Family Days
DESCRIPTION:Drop in every third Saturday of the month between 11 a.m. and 3 p.m. to explore New York City’s oldest house together. Arrive by 1 p.m. for a unique hands-on making activity each month. \nSeasonal activities inside the historic house and around the gardens include scavenger hunts\, artifact investigation\, gardening\, self-guided exploration and hands-on activities. \nFamily Day is open to everyone. Activities are designed for families with kids ages 4 to 10. Children must be accompanied by an adult. No reservation required. Groups of 8 or more must contact us ahead of time at programs@wyckoffmuseum.org.
URL:https://parentguidenews.com/event/free-family-days-2/2026-06-20/
LOCATION:Wyckoff House Museum\, 5816 Clarendon Road\, Brooklyn\, NY\, 11203\, United States
CATEGORIES:Museums
ATTACH;FMTTYPE=image/jpeg:https://parentguidenews.com/wp-content/uploads/2023/03/Summer-Day-Banner-jpg.webp
ORGANIZER;CN="Wyckoff House Museum":MAILTO:info@wyckoffmuseum.org
GEO:40.64433;-73.9207576
X-APPLE-STRUCTURED-LOCATION;VALUE=URI;X-ADDRESS=Wyckoff House Museum 5816 Clarendon Road Brooklyn NY 11203 United States;X-APPLE-RADIUS=500;X-TITLE=5816 Clarendon Road:geo:-73.9207576,40.64433
END:VEVENT
BEGIN:VEVENT
DTSTART;TZID=America/New_York:20260620T180000
DTEND;TZID=America/New_York:20260620T203000
DTSTAMP:20260419T152922
CREATED:20260323T215348Z
LAST-MODIFIED:20260418T073921Z
UID:10036849-1781978400-1781987400@parentguidenews.com
SUMMARY:Forest Bathing Summer Solstice
DESCRIPTION:(for adults) \nThe Summer Solstice is a momentous occasion that transcends cultural boundaries\, reminding us of our connection to nature’s rhythms and the cosmos. As the longest day of the year in the Northern Hemisphere\, it symbolizes the apex of light and warmth\, ushering in months of growth and abundance. It is an invitation to pause and reflect on the cycles of life and the interconnectedness of all living beings. \nEmbracing this celestial event encourages mindfulness\, gratitude\, and a profound sense of astonishment\, all benefits derived from Forest Bathing. What better way to celebrate this auspicious day than with a Forest Bathing walk at the Arboretum as we renew our connection to the natural world. Limited availability\, so book your place soon at this very special event. \nA few tips from Rich to make your walk more comfortable: \n\nThe walk will last for about 2.5 hours. We will be moving slowly and using our senses to connect with nature so this will not be an athletic walk.\nPlease dress in layers so you can be comfortable with temperature changes.\nIf you wish\, you can bring sunscreen\, bug spray\, and/or water.\nRich will provide small mats to use when sitting.\nThe walk will be postponed in the event of inclement weather.\n\nMember Price: $25 | Non-Member Price: $35 \nRich Collins is a Certified Guide for the Association of Nature and Forest Therapy Guides and Programs (ANFT)\, based in Morristown & Barnegat Light\, New Jersey.  His company\, Friendly Territory\, specializes in Nature & Forest Therapy walks and retreats. He is a husband\, proud father and grandfather\, entrepreneur\, and daily meditator.  
URL:https://parentguidenews.com/event/forest-bathing-summer-solstice-2/
LOCATION:NY
CATEGORIES:Adult Programs,Classes,Wellness
ATTACH;FMTTYPE=image/jpeg:https://parentguidenews.com/wp-content/uploads/2025/03/Summer-solstice-photo-MAIN-xzOZNWtmp_.jpg
END:VEVENT
END:VCALENDAR