BEGIN:VCALENDAR
VERSION:2.0
PRODID:-//PARENTGUIDENEWS - ECPv6.15.12.2//NONSGML v1.0//EN
CALSCALE:GREGORIAN
METHOD:PUBLISH
X-ORIGINAL-URL:https://parentguidenews.com
X-WR-CALDESC:Events for PARENTGUIDENEWS
REFRESH-INTERVAL;VALUE=DURATION:PT1H
X-Robots-Tag:noindex
X-PUBLISHED-TTL:PT1H
BEGIN:VTIMEZONE
TZID:America/New_York
BEGIN:DAYLIGHT
TZOFFSETFROM:-0500
TZOFFSETTO:-0400
TZNAME:EDT
DTSTART:20250309T070000
END:DAYLIGHT
BEGIN:STANDARD
TZOFFSETFROM:-0400
TZOFFSETTO:-0500
TZNAME:EST
DTSTART:20251102T060000
END:STANDARD
BEGIN:DAYLIGHT
TZOFFSETFROM:-0500
TZOFFSETTO:-0400
TZNAME:EDT
DTSTART:20260308T070000
END:DAYLIGHT
BEGIN:STANDARD
TZOFFSETFROM:-0400
TZOFFSETTO:-0500
TZNAME:EST
DTSTART:20261101T060000
END:STANDARD
BEGIN:DAYLIGHT
TZOFFSETFROM:-0500
TZOFFSETTO:-0400
TZNAME:EDT
DTSTART:20270314T070000
END:DAYLIGHT
BEGIN:STANDARD
TZOFFSETFROM:-0400
TZOFFSETTO:-0500
TZNAME:EST
DTSTART:20271107T060000
END:STANDARD
END:VTIMEZONE
BEGIN:VEVENT
DTSTART;TZID=America/New_York:20260615T090000
DTEND;TZID=America/New_York:20260619T120000
DTSTAMP:20260419T211652
CREATED:20260321T212421Z
LAST-MODIFIED:20260418T073902Z
UID:10036819-1781514000-1781870400@parentguidenews.com
SUMMARY:Week 2:  Ready\, Set\, Grow!… Discover the AMAZING World of Plants – SOLD OUT
DESCRIPTION:Pre-K – K (4-5 years old)               \nLet’s get “down in the dirt” and learn from the ground up what it takes to grow and care for the magnificent plants at the Arboretum. Have fun mixing soil\, sowing seeds\, watering gardens\, and planting trees\, flowers\, and vegetables—you get the idea! The best way to learn is by DOING. We’ll play games\, sing songs\, read books\, go hiking\, and create works of art. \nDates: June 15 – June 19 \nTime: 9:00 AM – 12:00 PM \nCost: Members: $250 | Non-Members: $300 \nMember registration begins Tuesday\, February 10\, 2026\, at 9:00 AM. Non-member registration begins Tuesday\, February 24\, 2026\, at 9:00 AM.
URL:https://parentguidenews.com/event/week-2-ready-set-grow-discover-the-amazing-world-of-plants-sold-out-2/
LOCATION:NY
CATEGORIES:Camps,Camps: Grade Pre-K
ATTACH;FMTTYPE=image/jpeg:https://parentguidenews.com/wp-content/uploads/2026/03/Week-2-Ready-Set-Grow-scaled-Q8SGBA.jpe
END:VEVENT
BEGIN:VEVENT
DTSTART;TZID=America/New_York:20260615T120000
DTEND;TZID=America/New_York:20260619T120000
DTSTAMP:20260419T211652
CREATED:20260321T212444Z
LAST-MODIFIED:20260418T073903Z
UID:10036820-1781524800-1781870400@parentguidenews.com
SUMMARY:Week 2: Lunch Buddies – Ready\, Set\, Grow!… Discover the AMAZING World of Plants
DESCRIPTION:Pre-K – K (4-5 years old)          \nLunch Buddies returns this summer! Campers attending morning sessions (9am-12pm) can bring their lunch\, and plan to stay for an additional hour of food\, fun and friends! \nPlease note that Lunch Buddies is for the whole week and cannot be prorated daily. \nDates: June 15 – June 19 \nTime: 12:00 PM – 1:00 PM \nCost: Members: $75 | Non-Members: $75 \nMember registration begins Tuesday\, February 10\, 2026\, at 9:00 AM. Non-member registration begins Tuesday\, February 24\, 2026\, at 9:00 AM.
URL:https://parentguidenews.com/event/week-2-lunch-buddies-ready-set-grow-discover-the-amazing-world-of-plants-2/
LOCATION:NY
CATEGORIES:Camps,Camps: Grade Pre-K
ATTACH;FMTTYPE=image/jpeg:https://parentguidenews.com/wp-content/uploads/2026/03/lunch-buddies-featured-QoZPzn.jpe
END:VEVENT
BEGIN:VEVENT
DTSTART;TZID=America/New_York:20260618T100000
DTEND;TZID=America/New_York:20260618T110000
DTSTAMP:20260419T211652
CREATED:20240309T155333Z
LAST-MODIFIED:20240309T155333Z
UID:10017761-1781776800-1781780400@parentguidenews.com
SUMMARY:Storytime at Barnes & Noble
DESCRIPTION:Join us for Storytime every Tuesday and Thursday at 10 a.m. Watch your kids as they embark on an exciting adventure with our Storytime expert. We will introduce your little one to some of your childhood favorites\, as well as read some you may have never heard before!
URL:https://parentguidenews.com/event/storytime-at-barnes-noble/2026-06-18/
LOCATION:Barnes & Noble\, 112 Eisenhower Parkway\, Livingston\, NJ\, 07039\, United States
CATEGORIES:Classes for Kids
GEO:40.7771625;-74.353982
X-APPLE-STRUCTURED-LOCATION;VALUE=URI;X-ADDRESS=Barnes & Noble 112 Eisenhower Parkway Livingston NJ 07039 United States;X-APPLE-RADIUS=500;X-TITLE=112 Eisenhower Parkway:geo:-74.353982,40.7771625
END:VEVENT
BEGIN:VEVENT
DTSTART;TZID=America/New_York:20260618T100000
DTEND;TZID=America/New_York:20260618T120000
DTSTAMP:20260419T211653
CREATED:20230829T030250Z
LAST-MODIFIED:20230829T030250Z
UID:10007597-1781776800-1781784000@parentguidenews.com
SUMMARY:Kids Art Classes at the Museum
DESCRIPTION:Join us two days a week from 10 am – 12pm for fun art-making in the Museum walkway! \nRecommended for ages 2-5. All children must be accompanied by an adult. \nArt materials are provided. Seating is available on a first-come\, first-served basis. \nA $5 suggested donation is appreciated. Ms. Lisa is excited to create some art with you!
URL:https://parentguidenews.com/event/kids-art-classes-at-the-museum/2026-06-18/
LOCATION:Hoboken Historical Museum\, 1301 Hudson St\, Hoboken\, NJ\, United States
CATEGORIES:Arts & Crafts
ATTACH;FMTTYPE=image/jpeg:https://parentguidenews.com/wp-content/uploads/2023/08/Lisa-art-class-1.jpg
GEO:40.7521954;-74.0251241
X-APPLE-STRUCTURED-LOCATION;VALUE=URI;X-ADDRESS=Hoboken Historical Museum 1301 Hudson St Hoboken NJ United States;X-APPLE-RADIUS=500;X-TITLE=1301 Hudson St:geo:-74.0251241,40.7521954
END:VEVENT
BEGIN:VEVENT
DTSTART;TZID=America/New_York:20260618T100000
DTEND;TZID=America/New_York:20260618T170000
DTSTAMP:20260419T211653
CREATED:20240405T144456Z
LAST-MODIFIED:20240405T144456Z
UID:10020767-1781776800-1781802000@parentguidenews.com
SUMMARY:Story Time/ Music and Movement
DESCRIPTION:Story time- Spark children’s imagination and nurture their love for reading through monthly themed picture books and read-aloud- Every Day at 10 am and 4 pm \nMusic and Movement- Interactive class featuring puppets\, musical instruments\, and props.\n-Every day at 11am and 3 pm
URL:https://parentguidenews.com/event/story-time-music-and-movement-2/2026-06-18/
LOCATION:Westchester Children’s Museum\, 100 Playland Parkway\, Rye\, New York\, 10580
ATTACH;FMTTYPE=image/png:https://parentguidenews.com/wp-content/uploads/2024/04/Music-and-Movement.png
ORGANIZER;CN="westchester childrens museusum":MAILTO:info@discoverwcm.org
GEO:40.9642816;-73.6774881
X-APPLE-STRUCTURED-LOCATION;VALUE=URI;X-ADDRESS=Westchester Children’s Museum 100 Playland Parkway Rye New York 10580;X-APPLE-RADIUS=500;X-TITLE=100 Playland Parkway:geo:-73.6774881,40.9642816
END:VEVENT
BEGIN:VEVENT
DTSTART;TZID=America/New_York:20260618T110000
DTEND;TZID=America/New_York:20260618T111500
DTSTAMP:20260419T211653
CREATED:20231204T143851Z
LAST-MODIFIED:20231204T212500Z
UID:10012842-1781780400-1781781300@parentguidenews.com
SUMMARY:Music & Movement
DESCRIPTION:Interactive class featuring puppets\, musical instruments\, and props.
URL:https://parentguidenews.com/event/music-movement/2026-06-18/
LOCATION:Westchester Children’s Museum\, 100 Playland Parkway\, Rye\, New York\, 10580
CATEGORIES:Children,Classes for Kids,For Children,For the Family,Museums
ATTACH;FMTTYPE=image/png:https://parentguidenews.com/wp-content/uploads/2023/11/3.png
GEO:40.9642816;-73.6774881
X-APPLE-STRUCTURED-LOCATION;VALUE=URI;X-ADDRESS=Westchester Children’s Museum 100 Playland Parkway Rye New York 10580;X-APPLE-RADIUS=500;X-TITLE=100 Playland Parkway:geo:-73.6774881,40.9642816
END:VEVENT
END:VCALENDAR