BEGIN:VCALENDAR
VERSION:2.0
PRODID:-//PARENTGUIDENEWS - ECPv6.15.12.2//NONSGML v1.0//EN
CALSCALE:GREGORIAN
METHOD:PUBLISH
X-WR-CALNAME:PARENTGUIDENEWS
X-ORIGINAL-URL:https://parentguidenews.com
X-WR-CALDESC:Events for PARENTGUIDENEWS
REFRESH-INTERVAL;VALUE=DURATION:PT1H
X-Robots-Tag:noindex
X-PUBLISHED-TTL:PT1H
BEGIN:VTIMEZONE
TZID:America/New_York
BEGIN:DAYLIGHT
TZOFFSETFROM:-0500
TZOFFSETTO:-0400
TZNAME:EDT
DTSTART:20250309T070000
END:DAYLIGHT
BEGIN:STANDARD
TZOFFSETFROM:-0400
TZOFFSETTO:-0500
TZNAME:EST
DTSTART:20251102T060000
END:STANDARD
BEGIN:DAYLIGHT
TZOFFSETFROM:-0500
TZOFFSETTO:-0400
TZNAME:EDT
DTSTART:20260308T070000
END:DAYLIGHT
BEGIN:STANDARD
TZOFFSETFROM:-0400
TZOFFSETTO:-0500
TZNAME:EST
DTSTART:20261101T060000
END:STANDARD
BEGIN:DAYLIGHT
TZOFFSETFROM:-0500
TZOFFSETTO:-0400
TZNAME:EDT
DTSTART:20270314T070000
END:DAYLIGHT
BEGIN:STANDARD
TZOFFSETFROM:-0400
TZOFFSETTO:-0500
TZNAME:EST
DTSTART:20271107T060000
END:STANDARD
END:VTIMEZONE
BEGIN:VEVENT
DTSTART;TZID=America/New_York:20260608T090000
DTEND;TZID=America/New_York:20260612T120000
DTSTAMP:20260419T141422
CREATED:20260315T230933Z
LAST-MODIFIED:20260418T073849Z
UID:10036655-1780909200-1781265600@parentguidenews.com
SUMMARY:Week 1: Wild and Not so Wild Animals – SOLD OUT
DESCRIPTION:Pre-K – K (4-5 years old)               \nDive into the incredible world of reptiles\, mammals\, fish\, birds\, and amphibians as we discover where they live\, how they survive\, and what makes each one unique. Share what you already know about your favorite animals; enjoy stories\, crafts\, and games inspired by creatures from around the globe. Come ready to learn\, create\, and celebrate the wonderful world of animal friends during this fun-filled first week of camp! \nDates: June 8 – June 12 \nTime: 9:00 AM – 12:00 PM \nCost: Members: $250 | Non-Members: $300 \nMember registration begins Tuesday\, February 10\, 2026\, at 9:00 AM. Non-member registration begins Tuesday\, February 24\, 2026\, at 9:00 AM.
URL:https://parentguidenews.com/event/week-1-wild-and-not-so-wild-animals-sold-out/
LOCATION:NY
CATEGORIES:Camps,Camps: Grade Pre-K
ATTACH;FMTTYPE=image/jpeg:https://parentguidenews.com/wp-content/uploads/2026/03/Camp-Week-1-ejgPnf.jpe
END:VEVENT
BEGIN:VEVENT
DTSTART;TZID=America/New_York:20260608T120000
DTEND;TZID=America/New_York:20260612T120000
DTSTAMP:20260419T141422
CREATED:20260315T230937Z
LAST-MODIFIED:20260418T073850Z
UID:10036656-1780920000-1781265600@parentguidenews.com
SUMMARY:Week 1: Lunch Buddies – Wild and Not so Wild Animals
DESCRIPTION:Pre-K – K (4-5 years old)          \nLunch Buddies returns this summer! Campers attending morning sessions (9am-12pm) can bring their lunch\, and plan to stay for an additional hour of food\, fun and friends! \nPlease note that Lunch Buddies is for the whole week and cannot be prorated daily. \nDates: June 8 – June 12 \nTime: 12:00 PM – 1:00 PM \nCost: Members: $75 | Non-Members: $75 \nMember registration begins Tuesday\, February 10\, 2026\, at 9:00 AM. Non-member registration begins Tuesday\, February 24\, 2026\, at 9:00 AM.
URL:https://parentguidenews.com/event/week-1-lunch-buddies-wild-and-not-so-wild-animals/
LOCATION:NY
CATEGORIES:Camps,Camps: Grade Pre-K
ATTACH;FMTTYPE=image/jpeg:https://parentguidenews.com/wp-content/uploads/2026/03/lunch-buddies-featured-QoZPzn.jpe
END:VEVENT
BEGIN:VEVENT
DTSTART;TZID=America/New_York:20260609T100000
DTEND;TZID=America/New_York:20260609T110000
DTSTAMP:20260419T141422
CREATED:20240309T155333Z
LAST-MODIFIED:20240309T155333Z
UID:10017758-1780999200-1781002800@parentguidenews.com
SUMMARY:Storytime at Barnes & Noble
DESCRIPTION:Join us for Storytime every Tuesday and Thursday at 10 a.m. Watch your kids as they embark on an exciting adventure with our Storytime expert. We will introduce your little one to some of your childhood favorites\, as well as read some you may have never heard before!
URL:https://parentguidenews.com/event/storytime-at-barnes-noble/2026-06-09/
LOCATION:Barnes & Noble\, 112 Eisenhower Parkway\, Livingston\, NJ\, 07039\, United States
CATEGORIES:Classes for Kids
GEO:40.7771625;-74.353982
X-APPLE-STRUCTURED-LOCATION;VALUE=URI;X-ADDRESS=Barnes & Noble 112 Eisenhower Parkway Livingston NJ 07039 United States;X-APPLE-RADIUS=500;X-TITLE=112 Eisenhower Parkway:geo:-74.353982,40.7771625
END:VEVENT
BEGIN:VEVENT
DTSTART;TZID=America/New_York:20260609T100000
DTEND;TZID=America/New_York:20260609T120000
DTSTAMP:20260419T141422
CREATED:20230829T030250Z
LAST-MODIFIED:20230829T030250Z
UID:10007594-1780999200-1781006400@parentguidenews.com
SUMMARY:Kids Art Classes at the Museum
DESCRIPTION:Join us two days a week from 10 am – 12pm for fun art-making in the Museum walkway! \nRecommended for ages 2-5. All children must be accompanied by an adult. \nArt materials are provided. Seating is available on a first-come\, first-served basis. \nA $5 suggested donation is appreciated. Ms. Lisa is excited to create some art with you!
URL:https://parentguidenews.com/event/kids-art-classes-at-the-museum/2026-06-09/
LOCATION:Hoboken Historical Museum\, 1301 Hudson St\, Hoboken\, NJ\, United States
CATEGORIES:Arts & Crafts
ATTACH;FMTTYPE=image/jpeg:https://parentguidenews.com/wp-content/uploads/2023/08/Lisa-art-class-1.jpg
GEO:40.7521954;-74.0251241
X-APPLE-STRUCTURED-LOCATION;VALUE=URI;X-ADDRESS=Hoboken Historical Museum 1301 Hudson St Hoboken NJ United States;X-APPLE-RADIUS=500;X-TITLE=1301 Hudson St:geo:-74.0251241,40.7521954
END:VEVENT
BEGIN:VEVENT
DTSTART;TZID=America/New_York:20260609T100000
DTEND;TZID=America/New_York:20260609T130000
DTSTAMP:20260419T141422
CREATED:20230306T171350Z
LAST-MODIFIED:20230306T171350Z
UID:10000912-1780999200-1781010000@parentguidenews.com
SUMMARY:Soil Stories
DESCRIPTION:A self-guided cozy nook in the greenhouse with curated books\, games\, and artmaking for quiet moments to enjoy with plants.
URL:https://parentguidenews.com/event/soil-stories/2026-06-09/
LOCATION:The Greenhouse and Education Center at Denny Farrell Riverbank State Park\, 679 Riverside Dr\, Greenhouse\, New York\, NY\, 10031\, United States
ATTACH;FMTTYPE=image/jpeg:https://parentguidenews.com/wp-content/uploads/2023/03/appointmentType-thumb-40023605-jpg.webp
GEO:40.8269525;-73.952552
X-APPLE-STRUCTURED-LOCATION;VALUE=URI;X-ADDRESS=The Greenhouse and Education Center at Denny Farrell Riverbank State Park 679 Riverside Dr Greenhouse New York NY 10031 United States;X-APPLE-RADIUS=500;X-TITLE=679 Riverside Dr\, Greenhouse:geo:-73.952552,40.8269525
END:VEVENT
BEGIN:VEVENT
DTSTART;TZID=America/New_York:20260609T100000
DTEND;TZID=America/New_York:20260609T170000
DTSTAMP:20260419T141422
CREATED:20240405T144456Z
LAST-MODIFIED:20240405T144456Z
UID:10020758-1780999200-1781024400@parentguidenews.com
SUMMARY:Story Time/ Music and Movement
DESCRIPTION:Story time- Spark children’s imagination and nurture their love for reading through monthly themed picture books and read-aloud- Every Day at 10 am and 4 pm \nMusic and Movement- Interactive class featuring puppets\, musical instruments\, and props.\n-Every day at 11am and 3 pm
URL:https://parentguidenews.com/event/story-time-music-and-movement-2/2026-06-09/
LOCATION:Westchester Children’s Museum\, 100 Playland Parkway\, Rye\, New York\, 10580
ATTACH;FMTTYPE=image/png:https://parentguidenews.com/wp-content/uploads/2024/04/Music-and-Movement.png
ORGANIZER;CN="westchester childrens museusum":MAILTO:info@discoverwcm.org
GEO:40.9642816;-73.6774881
X-APPLE-STRUCTURED-LOCATION;VALUE=URI;X-ADDRESS=Westchester Children’s Museum 100 Playland Parkway Rye New York 10580;X-APPLE-RADIUS=500;X-TITLE=100 Playland Parkway:geo:-73.6774881,40.9642816
END:VEVENT
BEGIN:VEVENT
DTSTART;TZID=America/New_York:20260609T110000
DTEND;TZID=America/New_York:20260609T111500
DTSTAMP:20260419T141422
CREATED:20231204T143851Z
LAST-MODIFIED:20231204T212500Z
UID:10012833-1781002800-1781003700@parentguidenews.com
SUMMARY:Music & Movement
DESCRIPTION:Interactive class featuring puppets\, musical instruments\, and props.
URL:https://parentguidenews.com/event/music-movement/2026-06-09/
LOCATION:Westchester Children’s Museum\, 100 Playland Parkway\, Rye\, New York\, 10580
CATEGORIES:Children,Classes for Kids,For Children,For the Family,Museums
ATTACH;FMTTYPE=image/png:https://parentguidenews.com/wp-content/uploads/2023/11/3.png
GEO:40.9642816;-73.6774881
X-APPLE-STRUCTURED-LOCATION;VALUE=URI;X-ADDRESS=Westchester Children’s Museum 100 Playland Parkway Rye New York 10580;X-APPLE-RADIUS=500;X-TITLE=100 Playland Parkway:geo:-73.6774881,40.9642816
END:VEVENT
BEGIN:VEVENT
DTSTART;TZID=America/New_York:20260609T110000
DTEND;TZID=America/New_York:20260609T120000
DTSTAMP:20260419T141422
CREATED:20230306T173523Z
LAST-MODIFIED:20231102T012102Z
UID:10001693-1781002800-1781006400@parentguidenews.com
SUMMARY:Sauté\, Sizzle\, Savor: Winter Cooking & Eating
DESCRIPTION:Gather around the table for collectively-crafted meals and food stories.
URL:https://parentguidenews.com/event/saute-sizzle-savor-winter-cooking-eating/2026-06-09/
LOCATION:The Greenhouse and Education Center at Denny Farrell Riverbank State Park\, 679 Riverside Dr\, Greenhouse\, New York\, NY\, 10031\, United States
CATEGORIES:Food
ATTACH;FMTTYPE=image/jpeg:https://parentguidenews.com/wp-content/uploads/2023/03/appointmentType-thumb-40023024-jpg.webp
GEO:40.8269525;-73.952552
X-APPLE-STRUCTURED-LOCATION;VALUE=URI;X-ADDRESS=The Greenhouse and Education Center at Denny Farrell Riverbank State Park 679 Riverside Dr Greenhouse New York NY 10031 United States;X-APPLE-RADIUS=500;X-TITLE=679 Riverside Dr\, Greenhouse:geo:-73.952552,40.8269525
END:VEVENT
BEGIN:VEVENT
DTSTART;TZID=America/New_York:20260609T113000
DTEND;TZID=America/New_York:20260609T170000
DTSTAMP:20260419T141422
CREATED:20231220T121312Z
LAST-MODIFIED:20231220T121312Z
UID:10014618-1781004600-1781024400@parentguidenews.com
SUMMARY:Museum Minis
DESCRIPTION:Music\, stories\, play\, and activities encourage caregiver interaction.
URL:https://parentguidenews.com/event/museum-minis-2/2026-06-09/
LOCATION:Westchester Children’s Museum\, 100 Playland Parkway\, Rye\, New York\, 10580
CATEGORIES:Children,Dance,Kids,Museums,Toddler
ATTACH;FMTTYPE=image/png:https://parentguidenews.com/wp-content/uploads/2023/12/5.png
ORGANIZER;CN="westchester childrens museusum":MAILTO:info@discoverwcm.org
GEO:40.9642816;-73.6774881
X-APPLE-STRUCTURED-LOCATION;VALUE=URI;X-ADDRESS=Westchester Children’s Museum 100 Playland Parkway Rye New York 10580;X-APPLE-RADIUS=500;X-TITLE=100 Playland Parkway:geo:-73.6774881,40.9642816
END:VEVENT
BEGIN:VEVENT
DTSTART;TZID=America/New_York:20260609T180000
DTEND;TZID=America/New_York:20260609T210000
DTSTAMP:20260419T141422
CREATED:20260321T063359Z
LAST-MODIFIED:20260322T053209Z
UID:10036769-1781028000-1781038800@parentguidenews.com
SUMMARY:48th Museum Mile Festival
DESCRIPTION:Join us for the 48th annual Museum Mile Festival—New York City’s biggest block party—taking place rain or shine along Fifth Avenue from 82nd to 110th Street. Some museums and neighborhood partners will offer free admission all evening. \nEl Museo del Barrio is proud to host this year’s festival\, transforming Museum Mile into a vibrant Puerto Rican block party inspired by our exhibitions. Rooted in art\, salsa\, dance\, and Nuyorican life\, this outdoor celebration invites everyone to move\, create\, and janguear. Enjoy live music in collaboration with the Carnegie Hall Citywide Concert Series\, DJs\, dance activations\, free guided tours\, and hands-on art-making for all ages as we bring the rhythm of the barrio to Fifth Avenue. \nRegister here >
URL:https://parentguidenews.com/event/48th-museum-mile-festival/
LOCATION:El Museo del Barrio\, 1230 Fifth Avenue\, New York\, NY\, 10029\, United States
ATTACH;FMTTYPE=image/jpeg:https://parentguidenews.com/wp-content/uploads/2026/03/museum_mile_26-GYmxhx.jpe
GEO:40.7930766;-73.9513662
X-APPLE-STRUCTURED-LOCATION;VALUE=URI;X-ADDRESS=El Museo del Barrio 1230 Fifth Avenue New York NY 10029 United States;X-APPLE-RADIUS=500;X-TITLE=1230 Fifth Avenue:geo:-73.9513662,40.7930766
END:VEVENT
END:VCALENDAR