BEGIN:VCALENDAR
VERSION:2.0
PRODID:-//PARENTGUIDENEWS - ECPv6.15.12.2//NONSGML v1.0//EN
CALSCALE:GREGORIAN
METHOD:PUBLISH
X-WR-CALNAME:PARENTGUIDENEWS
X-ORIGINAL-URL:https://parentguidenews.com
X-WR-CALDESC:Events for PARENTGUIDENEWS
REFRESH-INTERVAL;VALUE=DURATION:PT1H
X-Robots-Tag:noindex
X-PUBLISHED-TTL:PT1H
BEGIN:VTIMEZONE
TZID:America/New_York
BEGIN:DAYLIGHT
TZOFFSETFROM:-0500
TZOFFSETTO:-0400
TZNAME:EDT
DTSTART:20250309T070000
END:DAYLIGHT
BEGIN:STANDARD
TZOFFSETFROM:-0400
TZOFFSETTO:-0500
TZNAME:EST
DTSTART:20251102T060000
END:STANDARD
BEGIN:DAYLIGHT
TZOFFSETFROM:-0500
TZOFFSETTO:-0400
TZNAME:EDT
DTSTART:20260308T070000
END:DAYLIGHT
BEGIN:STANDARD
TZOFFSETFROM:-0400
TZOFFSETTO:-0500
TZNAME:EST
DTSTART:20261101T060000
END:STANDARD
BEGIN:DAYLIGHT
TZOFFSETFROM:-0500
TZOFFSETTO:-0400
TZNAME:EDT
DTSTART:20270314T070000
END:DAYLIGHT
BEGIN:STANDARD
TZOFFSETFROM:-0400
TZOFFSETTO:-0500
TZNAME:EST
DTSTART:20271107T060000
END:STANDARD
END:VTIMEZONE
BEGIN:VEVENT
DTSTART;TZID=America/New_York:20260517T100000
DTEND;TZID=America/New_York:20260517T170000
DTSTAMP:20260419T130629
CREATED:20240405T144456Z
LAST-MODIFIED:20240405T144456Z
UID:10020735-1779012000-1779037200@parentguidenews.com
SUMMARY:Story Time/ Music and Movement
DESCRIPTION:Story time- Spark children’s imagination and nurture their love for reading through monthly themed picture books and read-aloud- Every Day at 10 am and 4 pm \nMusic and Movement- Interactive class featuring puppets\, musical instruments\, and props.\n-Every day at 11am and 3 pm
URL:https://parentguidenews.com/event/story-time-music-and-movement-2/2026-05-17/
LOCATION:Westchester Children’s Museum\, 100 Playland Parkway\, Rye\, New York\, 10580
ATTACH;FMTTYPE=image/png:https://parentguidenews.com/wp-content/uploads/2024/04/Music-and-Movement.png
ORGANIZER;CN="westchester childrens museusum":MAILTO:info@discoverwcm.org
GEO:40.9642816;-73.6774881
X-APPLE-STRUCTURED-LOCATION;VALUE=URI;X-ADDRESS=Westchester Children’s Museum 100 Playland Parkway Rye New York 10580;X-APPLE-RADIUS=500;X-TITLE=100 Playland Parkway:geo:-73.6774881,40.9642816
END:VEVENT
BEGIN:VEVENT
DTSTART;TZID=America/New_York:20260517T110000
DTEND;TZID=America/New_York:20260517T111500
DTSTAMP:20260419T130629
CREATED:20231204T143851Z
LAST-MODIFIED:20231204T212500Z
UID:10012810-1779015600-1779016500@parentguidenews.com
SUMMARY:Music & Movement
DESCRIPTION:Interactive class featuring puppets\, musical instruments\, and props.
URL:https://parentguidenews.com/event/music-movement/2026-05-17/
LOCATION:Westchester Children’s Museum\, 100 Playland Parkway\, Rye\, New York\, 10580
CATEGORIES:Children,Classes for Kids,For Children,For the Family,Museums
ATTACH;FMTTYPE=image/png:https://parentguidenews.com/wp-content/uploads/2023/11/3.png
GEO:40.9642816;-73.6774881
X-APPLE-STRUCTURED-LOCATION;VALUE=URI;X-ADDRESS=Westchester Children’s Museum 100 Playland Parkway Rye New York 10580;X-APPLE-RADIUS=500;X-TITLE=100 Playland Parkway:geo:-73.6774881,40.9642816
END:VEVENT
BEGIN:VEVENT
DTSTART;TZID=America/New_York:20260517T110000
DTEND;TZID=America/New_York:20260517T130000
DTSTAMP:20260419T130629
CREATED:20260218T103747Z
LAST-MODIFIED:20260218T103747Z
UID:10036344-1779015600-1779022800@parentguidenews.com
SUMMARY:The Real Housewives of NJ: Early American Women and their Kitchen Gardens
DESCRIPTION:Join us for an afternoon with Lesley Parness!\n\n\nLesley Parness\, “The Real Housewives of New Jersey: Early American Women and their Kitchen Gardens” at Liberty Hall. As one of our many America 250th anniversary events\, learn the role women played as horticulturists and healers in early America. Discover the importance of gardens in early America through Lesley’s pictures\, presentation\, and unique teaching style. This is a lecture-style event with a Q&A session at the end. Guests will also have time to wander the herb and formal gardens after the light refreshments are served. \nLight refreshments served. \nReservations required
URL:https://parentguidenews.com/event/the-real-housewives-of-nj-early-american-women-and-their-kitchen-gardens/
LOCATION:Liberty Hall Museum\, 1003 Morris Avenue\, Union\, NJ\, 07083\, United States
ATTACH;FMTTYPE=image/jpeg:https://parentguidenews.com/wp-content/uploads/2026/02/b0026e8a82bbf924e56d9cf3d0642ca5.jpg
GEO:40.67942;-74.2282269
X-APPLE-STRUCTURED-LOCATION;VALUE=URI;X-ADDRESS=Liberty Hall Museum 1003 Morris Avenue Union NJ 07083 United States;X-APPLE-RADIUS=500;X-TITLE=1003 Morris Avenue:geo:-74.2282269,40.67942
END:VEVENT
END:VCALENDAR