BEGIN:VCALENDAR
VERSION:2.0
PRODID:-//PARENTGUIDENEWS - ECPv6.15.12.2//NONSGML v1.0//EN
CALSCALE:GREGORIAN
METHOD:PUBLISH
X-ORIGINAL-URL:https://parentguidenews.com
X-WR-CALDESC:Events for PARENTGUIDENEWS
REFRESH-INTERVAL;VALUE=DURATION:PT1H
X-Robots-Tag:noindex
X-PUBLISHED-TTL:PT1H
BEGIN:VTIMEZONE
TZID:America/New_York
BEGIN:DAYLIGHT
TZOFFSETFROM:-0500
TZOFFSETTO:-0400
TZNAME:EDT
DTSTART:20250309T070000
END:DAYLIGHT
BEGIN:STANDARD
TZOFFSETFROM:-0400
TZOFFSETTO:-0500
TZNAME:EST
DTSTART:20251102T060000
END:STANDARD
BEGIN:DAYLIGHT
TZOFFSETFROM:-0500
TZOFFSETTO:-0400
TZNAME:EDT
DTSTART:20260308T070000
END:DAYLIGHT
BEGIN:STANDARD
TZOFFSETFROM:-0400
TZOFFSETTO:-0500
TZNAME:EST
DTSTART:20261101T060000
END:STANDARD
BEGIN:DAYLIGHT
TZOFFSETFROM:-0500
TZOFFSETTO:-0400
TZNAME:EDT
DTSTART:20270314T070000
END:DAYLIGHT
BEGIN:STANDARD
TZOFFSETFROM:-0400
TZOFFSETTO:-0500
TZNAME:EST
DTSTART:20271107T060000
END:STANDARD
END:VTIMEZONE
BEGIN:VEVENT
DTSTART;TZID=America/New_York:20260219T093000
DTEND;TZID=America/New_York:20260219T100000
DTSTAMP:20260419T141908
CREATED:20260219T044202Z
LAST-MODIFIED:20260219T044202Z
UID:10036431-1771493400-1771495200@parentguidenews.com
SUMMARY:Winter Baby Group (Ages 6-18 Months) @ Library Meeting Room
DESCRIPTION:Baby Group is a traditional lapsit during which we share stories and songs with our littlest patrons and their caregivers.\n\n\nWinter Baby Group! 📚 \n\nBaby Group is a traditional lapsit during which Ms. Chris will share stories and songs with our littlest patrons and their caregivers\nDesigned for our friends ages 6 months and up\nIntroduce your little one to a library class!\nSiblings are always welcome\nPlease sign up for one “ticket” as a family and list kids’ names on the order form
URL:https://parentguidenews.com/event/winter-baby-group-ages-6-18-months-library-meeting-room-3/
LOCATION:Denville Library\, 121 Diamond Spring Road\, Denville\, NJ\, 07834\, United States
ATTACH;FMTTYPE=image/jpeg:https://parentguidenews.com/wp-content/uploads/2026/01/33aa4b64ce60d6efb396ddd88bfbb44e.jpg
GEO:40.8964961;-74.4734933
X-APPLE-STRUCTURED-LOCATION;VALUE=URI;X-ADDRESS=Denville Library 121 Diamond Spring Road Denville NJ 07834 United States;X-APPLE-RADIUS=500;X-TITLE=121 Diamond Spring Road:geo:-74.4734933,40.8964961
END:VEVENT
BEGIN:VEVENT
DTSTART;TZID=America/New_York:20260219T100000
DTEND;TZID=America/New_York:20260219T110000
DTSTAMP:20260419T141908
CREATED:20240309T155333Z
LAST-MODIFIED:20240309T155333Z
UID:10017727-1771495200-1771498800@parentguidenews.com
SUMMARY:Storytime at Barnes & Noble
DESCRIPTION:Join us for Storytime every Tuesday and Thursday at 10 a.m. Watch your kids as they embark on an exciting adventure with our Storytime expert. We will introduce your little one to some of your childhood favorites\, as well as read some you may have never heard before!
URL:https://parentguidenews.com/event/storytime-at-barnes-noble/2026-02-19/
LOCATION:Barnes & Noble\, 112 Eisenhower Parkway\, Livingston\, NJ\, 07039\, United States
CATEGORIES:Classes for Kids
GEO:40.7771625;-74.353982
X-APPLE-STRUCTURED-LOCATION;VALUE=URI;X-ADDRESS=Barnes & Noble 112 Eisenhower Parkway Livingston NJ 07039 United States;X-APPLE-RADIUS=500;X-TITLE=112 Eisenhower Parkway:geo:-74.353982,40.7771625
END:VEVENT
BEGIN:VEVENT
DTSTART;TZID=America/New_York:20260219T100000
DTEND;TZID=America/New_York:20260219T120000
DTSTAMP:20260419T141908
CREATED:20230829T030250Z
LAST-MODIFIED:20230829T030250Z
UID:10007563-1771495200-1771502400@parentguidenews.com
SUMMARY:Kids Art Classes at the Museum
DESCRIPTION:Join us two days a week from 10 am – 12pm for fun art-making in the Museum walkway! \nRecommended for ages 2-5. All children must be accompanied by an adult. \nArt materials are provided. Seating is available on a first-come\, first-served basis. \nA $5 suggested donation is appreciated. Ms. Lisa is excited to create some art with you!
URL:https://parentguidenews.com/event/kids-art-classes-at-the-museum/2026-02-19/
LOCATION:Hoboken Historical Museum\, 1301 Hudson St\, Hoboken\, NJ\, United States
CATEGORIES:Arts & Crafts
ATTACH;FMTTYPE=image/jpeg:https://parentguidenews.com/wp-content/uploads/2023/08/Lisa-art-class-1.jpg
GEO:40.7521954;-74.0251241
X-APPLE-STRUCTURED-LOCATION;VALUE=URI;X-ADDRESS=Hoboken Historical Museum 1301 Hudson St Hoboken NJ United States;X-APPLE-RADIUS=500;X-TITLE=1301 Hudson St:geo:-74.0251241,40.7521954
END:VEVENT
BEGIN:VEVENT
DTSTART;TZID=America/New_York:20260219T100000
DTEND;TZID=America/New_York:20260219T170000
DTSTAMP:20260419T141908
CREATED:20240405T144456Z
LAST-MODIFIED:20240405T144456Z
UID:10020648-1771495200-1771520400@parentguidenews.com
SUMMARY:Story Time/ Music and Movement
DESCRIPTION:Story time- Spark children’s imagination and nurture their love for reading through monthly themed picture books and read-aloud- Every Day at 10 am and 4 pm \nMusic and Movement- Interactive class featuring puppets\, musical instruments\, and props.\n-Every day at 11am and 3 pm
URL:https://parentguidenews.com/event/story-time-music-and-movement-2/2026-02-19/
LOCATION:Westchester Children’s Museum\, 100 Playland Parkway\, Rye\, New York\, 10580
ATTACH;FMTTYPE=image/png:https://parentguidenews.com/wp-content/uploads/2024/04/Music-and-Movement.png
ORGANIZER;CN="westchester childrens museusum":MAILTO:info@discoverwcm.org
GEO:40.9642816;-73.6774881
X-APPLE-STRUCTURED-LOCATION;VALUE=URI;X-ADDRESS=Westchester Children’s Museum 100 Playland Parkway Rye New York 10580;X-APPLE-RADIUS=500;X-TITLE=100 Playland Parkway:geo:-73.6774881,40.9642816
END:VEVENT
BEGIN:VEVENT
DTSTART;TZID=America/New_York:20260219T110000
DTEND;TZID=America/New_York:20260219T111500
DTSTAMP:20260419T141908
CREATED:20231204T143851Z
LAST-MODIFIED:20231204T212500Z
UID:10012723-1771498800-1771499700@parentguidenews.com
SUMMARY:Music & Movement
DESCRIPTION:Interactive class featuring puppets\, musical instruments\, and props.
URL:https://parentguidenews.com/event/music-movement/2026-02-19/
LOCATION:Westchester Children’s Museum\, 100 Playland Parkway\, Rye\, New York\, 10580
CATEGORIES:Children,Classes for Kids,For Children,For the Family,Museums
ATTACH;FMTTYPE=image/png:https://parentguidenews.com/wp-content/uploads/2023/11/3.png
GEO:40.9642816;-73.6774881
X-APPLE-STRUCTURED-LOCATION;VALUE=URI;X-ADDRESS=Westchester Children’s Museum 100 Playland Parkway Rye New York 10580;X-APPLE-RADIUS=500;X-TITLE=100 Playland Parkway:geo:-73.6774881,40.9642816
END:VEVENT
BEGIN:VEVENT
DTSTART;TZID=America/New_York:20260219T113000
DTEND;TZID=America/New_York:20260219T170000
DTSTAMP:20260419T141908
CREATED:20231220T121312Z
LAST-MODIFIED:20231220T121312Z
UID:10014563-1771500600-1771520400@parentguidenews.com
SUMMARY:Museum Minis
DESCRIPTION:Music\, stories\, play\, and activities encourage caregiver interaction.
URL:https://parentguidenews.com/event/museum-minis-2/2026-02-19/
LOCATION:Westchester Children’s Museum\, 100 Playland Parkway\, Rye\, New York\, 10580
CATEGORIES:Children,Dance,Kids,Museums,Toddler
ATTACH;FMTTYPE=image/png:https://parentguidenews.com/wp-content/uploads/2023/12/5.png
ORGANIZER;CN="westchester childrens museusum":MAILTO:info@discoverwcm.org
GEO:40.9642816;-73.6774881
X-APPLE-STRUCTURED-LOCATION;VALUE=URI;X-ADDRESS=Westchester Children’s Museum 100 Playland Parkway Rye New York 10580;X-APPLE-RADIUS=500;X-TITLE=100 Playland Parkway:geo:-73.6774881,40.9642816
END:VEVENT
BEGIN:VEVENT
DTSTART;TZID=America/New_York:20260219T133000
DTEND;TZID=America/New_York:20260219T153000
DTSTAMP:20260419T141908
CREATED:20251121T170548Z
LAST-MODIFIED:20260213T115349Z
UID:10035416-1771507800-1771515000@parentguidenews.com
SUMMARY:Weekly Ground Force Session
DESCRIPTION:(age 14+\, age 12-13 with adult) \nJoin Our Horticulture Team! \nHelp maintain and enhance the beauty of our gardens and grounds all year long—spring\, summer\, fall\, and even winter! Volunteer indoors or outdoors alongside our horticulturists to support the care and upkeep of our landscape. Tasks vary by session and may include weeding\, mulching\, watering\, and more. \nGround Force Sessions: \nThursdays & Saturdays\, 1:30 PM – 3:30 PM \nWhat to Bring & Wear: \n\n\nLong pants\, long socks\, and sturdy closed-toe shoes \n\n\nInsect repellent\, sunscreen\, and a refillable water bottle \n\n\nRain gear if light rain is expected—we work in drizzle! \n\n\nRegistration is required to receive updates in case of cancellations or schedule changes. Please register at least 24 hours before each session. \nWe will supply gloves as well as all other tools and materials. For your safety\, all tools and gloves are washed and sanitized. Please meet at the barn in our parking lot. If the session is cancelled due to inclement weather or any other reason\, we will contact you. First-time volunteers must bring a completed Volunteer Waiver form to their first volunteer session. \n\n\n\n\n\n\nRegister here.
URL:https://parentguidenews.com/event/weekly-ground-force-session-72/
LOCATION:NY
CATEGORIES:Discovery Weekends
ATTACH;FMTTYPE=image/jpeg:https://parentguidenews.com/wp-content/uploads/2025/04/saturday-volunteers-featured_062-1Csss8tmp_.jpg
END:VEVENT
BEGIN:VEVENT
DTSTART;TZID=America/New_York:20260219T140000
DTEND;TZID=America/New_York:20260219T180000
DTSTAMP:20260419T141908
CREATED:20260219T044203Z
LAST-MODIFIED:20260219T044203Z
UID:10036432-1771509600-1771524000@parentguidenews.com
SUMMARY:Pokémon Day Crafts! (Kids of All Ages)
DESCRIPTION:***Pick up at the library on Thursday\, February 19th from 2 pm to 6 pm***\n\n\nPokémon Day Crafts! (Kids of All Ages)\nGotta Catch ‘Em All! Happy 30th Anniversary to Pokémon\, the internationally recognized game that first debuted on Game Boy on Feburary 27\, 1996! \nIn this kit\, you will receive: \n\nPokémon stick puppets craft\nOshawott paper plate craft\nPokémon sticker scene\nPaper Pikachu crown and paper glasses to color and wear\nKanto Pokémon bookmarks\nPaldea Pokémon bookmarks\nSnorlax maze\, Psyduck word search\, Squirtle color-by-number\, and more!\nPokémon coloring pages\, activity sheets\, trivia\, and more!\n\nCrafts can be picked up on THURSDAY\, February 19th from 2 PM to 6 PM. Curbside is available. \nNeed to pick up later? We will hold your crafts from Thursday evening until Friday at 5 pm (no later) AS LONG AS YOU CONTACT US IN ADVANCE.\nReminder: All patrons are required to comply with the library’s policy against bullying\, harassment and lewd behavior. Patrons who engage in abusive behavior will forfeit\, at least temporarily\, their right to request craft kits. Please remember to be kind.
URL:https://parentguidenews.com/event/pokemon-day-crafts-kids-of-all-ages/
LOCATION:Denville Library\, 121 Diamond Spring Road\, Denville\, NJ\, 07834\, United States
ATTACH;FMTTYPE=image/jpeg:https://parentguidenews.com/wp-content/uploads/2026/02/8733db73e81bd00ec39d20e132ec4de4.jpg
GEO:40.8964961;-74.4734933
X-APPLE-STRUCTURED-LOCATION;VALUE=URI;X-ADDRESS=Denville Library 121 Diamond Spring Road Denville NJ 07834 United States;X-APPLE-RADIUS=500;X-TITLE=121 Diamond Spring Road:geo:-74.4734933,40.8964961
END:VEVENT
BEGIN:VEVENT
DTSTART;TZID=America/New_York:20260219T140000
DTEND;TZID=America/New_York:20260219T180000
DTSTAMP:20260419T141908
CREATED:20260219T044207Z
LAST-MODIFIED:20260219T044207Z
UID:10036433-1771509600-1771524000@parentguidenews.com
SUMMARY:Pizza! Pizza! (Kids of All Ages)
DESCRIPTION:***Pick up at the library on Thursday\, February 19th from 2 pm to 6 pm***\n\n\nPizza! Pizza! (Kids of All Ages) 🍕🍕🍕\nWhat type of person doesn’t like pizza? A weirdough. 😂 Let’s celebrate all things pizza! \nIn this kit\, you will receive: \n\nPaper plate pizza craft (make your own pie!)\nCoffee filter chef craft\nPizza scented bookmark\nMini pizza sticker scene\nPizza I Spy\, maze\, and color-by number\nPizza coloring pages\, activity sheets\, and more!\n\nCrafts can be picked up on THURSDAY\, February 19th from 2 PM to 6 PM. Curbside is available. \nNeed to pick up later? We will hold your crafts from Thursday evening until Friday at 5 pm (no later) AS LONG AS YOU CONTACT US IN ADVANCE.\nReminder: All patrons are required to comply with the library’s policy against bullying\, harassment and lewd behavior. Patrons who engage in abusive behavior will forfeit\, at least temporarily\, their right to request craft kits. Please remember to be kind.
URL:https://parentguidenews.com/event/pizza-pizza-kids-of-all-ages/
LOCATION:Denville Library\, 121 Diamond Spring Road\, Denville\, NJ\, 07834\, United States
ATTACH;FMTTYPE=image/jpeg:https://parentguidenews.com/wp-content/uploads/2026/02/eab44fe524eacae3fc4ea89ee96f4e2a.jpg
GEO:40.8964961;-74.4734933
X-APPLE-STRUCTURED-LOCATION;VALUE=URI;X-ADDRESS=Denville Library 121 Diamond Spring Road Denville NJ 07834 United States;X-APPLE-RADIUS=500;X-TITLE=121 Diamond Spring Road:geo:-74.4734933,40.8964961
END:VEVENT
BEGIN:VEVENT
DTSTART;TZID=America/New_York:20260219T140000
DTEND;TZID=America/New_York:20260219T180000
DTSTAMP:20260419T141908
CREATED:20260219T044211Z
LAST-MODIFIED:20260219T044211Z
UID:10036434-1771509600-1771524000@parentguidenews.com
SUMMARY:Happy Holi Crafts! (Kids of All Ages)
DESCRIPTION:***Pick up at the library on Thursday\, February 19th from 2 pm to 6 pm***\n\n\nHappy Holi Crafts! (Kids of All Ages)\nHoli is a joyful Hindu holiday celebrated as the Festival of Colors\, Love\, and Spring. It marks the end of winter and honors the triumph of good over evil. During Holi\, people throw gulal (bright colored powders mixed with water)\, light bonfires (Holika Dahan)\, sing\, dance\, eat sweets\, and generally have an amazing time. This year\, Holi begins on Wednesday\, March 4th. Let’s get ready to celebrate love\, friendship\, and new beginnings! \nIn this kit\, you will receive: \n\nBonfire paper craft (your own Holika Dahan!)\nColorful tree paper craft with tissue paper squares\nNon-toxic colored powder (gulal)\nHappy Holi paper crown to decorate and wear\nPlacemat activities\, emergent reader booklet\, word search\, coloring pages\, and more!\n\nCrafts can be picked up on THURSDAY\, February 19th from 2 PM to 6 PM. Curbside is available. \nNeed to pick up later? We will hold your crafts from Thursday evening until Friday at 5 pm (no later) AS LONG AS YOU CONTACT US IN ADVANCE.\nReminder: All patrons are required to comply with the library’s policy against bullying\, harassment and lewd behavior. Patrons who engage in abusive behavior will forfeit\, at least temporarily\, their right to request craft kits. Please remember to be kind.
URL:https://parentguidenews.com/event/happy-holi-crafts-kids-of-all-ages/
LOCATION:Denville Library\, 121 Diamond Spring Road\, Denville\, NJ\, 07834\, United States
ATTACH;FMTTYPE=image/jpeg:https://parentguidenews.com/wp-content/uploads/2026/02/bdda6bb9bebf89d7b0b03ccdb611e0b9.jpg
GEO:40.8964961;-74.4734933
X-APPLE-STRUCTURED-LOCATION;VALUE=URI;X-ADDRESS=Denville Library 121 Diamond Spring Road Denville NJ 07834 United States;X-APPLE-RADIUS=500;X-TITLE=121 Diamond Spring Road:geo:-74.4734933,40.8964961
END:VEVENT
BEGIN:VEVENT
DTSTART;TZID=America/New_York:20260219T140000
DTEND;TZID=America/New_York:20260219T180000
DTSTAMP:20260419T141908
CREATED:20260219T044215Z
LAST-MODIFIED:20260219T044215Z
UID:10036435-1771509600-1771524000@parentguidenews.com
SUMMARY:Tweens + Teens: Pillow Palooza! (Ages 8-13)
DESCRIPTION:***Pick up at the library on Thursday\, February 19th from 2 pm to 6 pm***\n\n\nTweens + Teens: Pillow Palooza!\nThis kit is for kids ages 8-13. Orders for younger children will be cancelled. \nPlease\, no more than four orders per household. \nWe’re getting a jump on spring cleaning! We have some extra pillow-making kits that we’d like to send honme with our friends. Each order will receive: \n\nONE mystery pillow to stuff and tie (designs vary and will be selected at random\, but may include Elf movie\, football\, dino\, or lion)\nPoly fill stuffing for ultimate pillow plushy-ness\n\nCrafts can be picked up on THURSDAY\, February 19th from 2 PM to 6 PM. Curbside is available.\nNeed to pick up later? We will hold your crafts from Thursday evening until Friday at 5 pm (no later) AS LONG AS YOU CONTACT US IN ADVANCE.\nReminder: All patrons are required to comply with the library’s policy against bullying\, harassment and lewd behavior. Patrons who engage in abusive behavior will forfeit\, at least temporarily\, their right to request craft kits. Please remember to be kind.
URL:https://parentguidenews.com/event/tweens-teens-pillow-palooza-ages-8-13/
LOCATION:Denville Library\, 121 Diamond Spring Road\, Denville\, NJ\, 07834\, United States
ATTACH;FMTTYPE=image/jpeg:https://parentguidenews.com/wp-content/uploads/2026/02/156bfb44b96d82858e85df50cfa6b56a.jpg
GEO:40.8964961;-74.4734933
X-APPLE-STRUCTURED-LOCATION;VALUE=URI;X-ADDRESS=Denville Library 121 Diamond Spring Road Denville NJ 07834 United States;X-APPLE-RADIUS=500;X-TITLE=121 Diamond Spring Road:geo:-74.4734933,40.8964961
END:VEVENT
BEGIN:VEVENT
DTSTART;TZID=America/New_York:20260219T140000
DTEND;TZID=America/New_York:20260219T180000
DTSTAMP:20260419T141908
CREATED:20260219T044707Z
LAST-MODIFIED:20260219T044707Z
UID:10036436-1771509600-1771524000@parentguidenews.com
SUMMARY:Tweens + Teens: DIY Squishy Stars! (Ages 8-13)
DESCRIPTION:***Pick up at the library on Thursday\, February 19th from 2 pm to 6 pm***\n\n\nTweens + Teens: DIY Squishy Stars! 🌟⭐\nThis kit is for kids ages 8-13. Orders for younger children will be cancelled. \nPlease\, no more than four orders per household. \nEach order will receive: \n\nTWO small star-shaped foam squishies to squish the stress away\nAcrylic paint (needs to be mixed with glue) to customize your stress squishy!\n\nCrafts can be picked up on THURSDAY\, February 19th from 2 PM to 6 PM. Curbside is available.\nNeed to pick up later? We will hold your crafts from Thursday evening until Friday at 5 pm (no later) AS LONG AS YOU CONTACT US IN ADVANCE.\nReminder: All patrons are required to comply with the library’s policy against bullying\, harassment and lewd behavior. Patrons who engage in abusive behavior will forfeit\, at least temporarily\, their right to request craft kits. Please remember to be kind.
URL:https://parentguidenews.com/event/tweens-teens-diy-squishy-stars-ages-8-13/
LOCATION:Denville Library\, 121 Diamond Spring Road\, Denville\, NJ\, 07834\, United States
ATTACH;FMTTYPE=image/jpeg:https://parentguidenews.com/wp-content/uploads/2026/02/2a0702ded4771216b74561b613b9649b.jpg
GEO:40.8964961;-74.4734933
X-APPLE-STRUCTURED-LOCATION;VALUE=URI;X-ADDRESS=Denville Library 121 Diamond Spring Road Denville NJ 07834 United States;X-APPLE-RADIUS=500;X-TITLE=121 Diamond Spring Road:geo:-74.4734933,40.8964961
END:VEVENT
BEGIN:VEVENT
DTSTART;TZID=America/New_York:20260219T140000
DTEND;TZID=America/New_York:20260219T180000
DTSTAMP:20260419T141908
CREATED:20260219T044710Z
LAST-MODIFIED:20260219T044710Z
UID:10036437-1771509600-1771524000@parentguidenews.com
SUMMARY:Stuffy Surprise! (Kids of All Ages)
DESCRIPTION:***Pick up at the library on Thursday\, February 19th from 2 pm to 6 pm***\n\n\nStuffy Surprise! (Kids of All Ages)\nWe’re cleaning out our closet and finding homes for the stray stuffies we have left. Which cuddly friend will you get to bring home?! It will be a surprise! \nIn this kit\, you will receive: \n\n8″ plushie (designs vary and will be selected at random; may include seahorse\, koala\, penguin\, horse\, teddy\, alien\, and more)\nPoly fill stuffing\nBirth certificate\n\nCrafts can be picked up on THURSDAY\, February 19th from 2 PM to 6 PM. Curbside is available. \nNeed to pick up later? We will hold your crafts from Thursday evening until Friday at 5 pm (no later) AS LONG AS YOU CONTACT US IN ADVANCE.\nReminder: All patrons are required to comply with the library’s policy against bullying\, harassment and lewd behavior. Patrons who engage in abusive behavior will forfeit\, at least temporarily\, their right to request craft kits. Please remember to be kind.
URL:https://parentguidenews.com/event/stuffy-surprise-kids-of-all-ages/
LOCATION:Denville Library\, 121 Diamond Spring Road\, Denville\, NJ\, 07834\, United States
ATTACH;FMTTYPE=image/jpeg:https://parentguidenews.com/wp-content/uploads/2026/02/fc6043a08e62c4a5c4edf95577bc9611.jpg
GEO:40.8964961;-74.4734933
X-APPLE-STRUCTURED-LOCATION;VALUE=URI;X-ADDRESS=Denville Library 121 Diamond Spring Road Denville NJ 07834 United States;X-APPLE-RADIUS=500;X-TITLE=121 Diamond Spring Road:geo:-74.4734933,40.8964961
END:VEVENT
BEGIN:VEVENT
DTSTART;TZID=America/New_York:20260219T160000
DTEND;TZID=America/New_York:20260219T173000
DTSTAMP:20260419T141908
CREATED:20251222T225321Z
LAST-MODIFIED:20260218T183519Z
UID:10035791-1771516800-1771522200@parentguidenews.com
SUMMARY:Lunar New Year Celebration
DESCRIPTION:(ages 5-10 and ages 3-5 with a parent or guardian) \nCome celebrate the Year of the Horse with crafts\, music\, and stories! We’ll explore Lunar New Year traditions and learn about the fascinating creatures and plants that are central to the festivities. Children ages 5–10 may be dropped off or attend with a parent/guardian\, while children ages 3–5 should attend with a parent/guardian. \nThe cost is per child. Registration is required\, so be sure to register early as space is limited. \nMember registration begins on Friday\, January 2\, 2026\, at 9:00 AM. Non-member registration begins on Friday\, January 9\, 2026\, at 9:00 AM. \nMember Price: $20 | Non-Member Price: $30 \nNotice: Due to ongoing construction for the Path for All project\, Arboretum parking will be unavailable Monday through Friday\, from 8:00 AM to 5:00 PM. Please use street parking during these hours. Handicap parking will remain available.
URL:https://parentguidenews.com/event/lunar-new-year-celebration-2/
LOCATION:NY
CATEGORIES:Classes,Kids Programs,Seasonal Programs
ATTACH;FMTTYPE=image/jpeg:https://parentguidenews.com/wp-content/uploads/2025/12/Lunar-New-Year-Lion-Dance-and-child-2025-wnZbJU.jpe
END:VEVENT
BEGIN:VEVENT
DTSTART;TZID=America/New_York:20260219T183000
DTEND;TZID=America/New_York:20260219T193000
DTSTAMP:20260419T141908
CREATED:20260218T100828Z
LAST-MODIFIED:20260218T100828Z
UID:10036327-1771525800-1771529400@parentguidenews.com
SUMMARY:Gallery Conversations  PERSPECTIVAS: Power\, Memory\, and the Politics of Looking
DESCRIPTION:Registration here > \n  \nUnwind after work and spend your Thursday evening at El Museo del Barrio with an intimate gallery conversation featuring artists and thinkers who share their personal perspectives on works on view in Coco Fusco: Tomorrow\, I Will Become an Island\, and Jangueando: Recent Acquisitions\, 2021–2025. These informal talks invite you to slow down\, look closely\, and connect more deeply with the artwork in an informal setting. \nTonight’s gallery talk will be led by Emmy award-winning spoken word artist and Executive Director of the Nuyorican Poets Cafe\, Caridad De La Luz “La Bruja”\, who will share personal reflections on selected artworks\, engaging visitors through the lens of poetry\, performance\, and cultural expression. \nPlease note: El Museo will stay open late every Thursday in February\, until 8:00 PM. Come early\, enjoy the exhibitions at your own pace\, and then join us for the gallery conversation from 6:30–7:30 PM. This program is designed as an interactive\, guided experience in the galleries and has limited capacity. Advance registration is recommended. Please register here > \n \nCaridad De La Luz is a world-renowned spoken word artist known as La Bruja. She won an Emmy in 2022 as Script Writer for Legacy of Puerto Rican Poetry\, which aired on ABC during the National Puerto Rican Day Parade 2021. Since 2022\, she has been the Executive Director of the Nuyorican Poets Cafe where she began her career in 1996\, helping secure a 24-million-dollar renovation project called Nuyorican-Struction\, which will celebrate its grand reopening on Halloween of 2026. All of the cafe’s legendary programming continues off-site during construction. 
URL:https://parentguidenews.com/event/gallery-conversations-perspectivas-power-memory-and-the-politics-of-looking/
LOCATION:Las Galerias @ El Museo\, 1230 Fifth Avenue\, New York\, NY\, 10029\, United States
ATTACH;FMTTYPE=image/jpeg:https://parentguidenews.com/wp-content/uploads/2026/02/2-19-Gallery-Talk-web-nSvRyl.jpe
GEO:40.7930766;-73.9513662
X-APPLE-STRUCTURED-LOCATION;VALUE=URI;X-ADDRESS=Las Galerias @ El Museo 1230 Fifth Avenue New York NY 10029 United States;X-APPLE-RADIUS=500;X-TITLE=1230 Fifth Avenue:geo:-73.9513662,40.7930766
END:VEVENT
BEGIN:VEVENT
DTSTART;TZID=America/New_York:20260219T183000
DTEND;TZID=America/New_York:20260219T193000
DTSTAMP:20260419T141908
CREATED:20260218T100831Z
LAST-MODIFIED:20260218T100831Z
UID:10036328-1771525800-1771529400@parentguidenews.com
SUMMARY:Gallery Conversations  PERSPECTIVAS: Power\, Memory\, and the Politics of Looking
DESCRIPTION:Regístro aquí > \n\nRelájate después del trabajo y pasa tu jueves por la tarde en El Museo del Barrio con una conversación íntima en las galerías\, con artistas y pensadores que comparten sus perspectivas personales sobre las obras en exhibición en Coco Fusco: Tomorrow\, I Will Become an Island y Jangueando: Recent Acquisitions\, 2021–2025. Estas charlas informales te invitan a bajar el ritmo\, mirar con atención y conectar más profundamente con las obras en un ambiente cercano y acogedor. \nLa conversación en la galería de esta noche será dirigida por la artista de spoken word ganadora de un premio Emmy y directora ejecutiva del Nuyorican Poets Cafe\, Caridad De La Luz “La Bruja”\, quien compartirá reflexiones personales sobre obras seleccionadas\, involucrando al público a través del lente de la poesía\, la performance y la expresión cultural. \nPor favor toma nota: El Museo permanecerá abierto hasta tarde todos los jueves de febrero\, hasta las 8:00 PM. Llega temprano\, disfruta de las exposiciones a tu propio ritmo y luego acompáñanos en la conversación en la galería de 6:30 a 7:30 PM. Este programa está diseñado como una experiencia interactiva y guiada en las galerías y tiene cupo limitado. Se recomienda registrarse con anticipación. Por favor regístrate aquí > \n \nCaridad De La Luz es una artista de spoken word de renombre mundial conocida como La Bruja. \nGanó un Emmy en 2022 como guionista de Legacy of Puerto Rican Poetry\, que se emitió en ABC durante el Desfile Nacional del Día de Puerto Rico 2021. Desde 2022\, es directora ejecutiva del Nuyorican Poets Cafe\, donde comenzó su carrera en 1996\, y ha contribuido a garantizar un proyecto de renovación de 24 millones de dólares llamado Nuyorican-Struction\, cuya gran reapertura se celebrará en Halloween de 2026. Toda la legendaria programación del café continúa fuera de sus instalaciones durante las obras.
URL:https://parentguidenews.com/event/gallery-conversations-perspectivas-power-memory-and-the-politics-of-looking-2/
LOCATION:Las Galerias @ El Museo\, 1230 Fifth Avenue\, New York\, NY\, 10029\, United States
ATTACH;FMTTYPE=image/jpeg:https://parentguidenews.com/wp-content/uploads/2026/02/2-19-Gallery-Talk-web-nSvRyl.jpe
GEO:40.7930766;-73.9513662
X-APPLE-STRUCTURED-LOCATION;VALUE=URI;X-ADDRESS=Las Galerias @ El Museo 1230 Fifth Avenue New York NY 10029 United States;X-APPLE-RADIUS=500;X-TITLE=1230 Fifth Avenue:geo:-73.9513662,40.7930766
END:VEVENT
END:VCALENDAR