BEGIN:VCALENDAR
VERSION:2.0
PRODID:-//PARENTGUIDENEWS - ECPv6.15.12.2//NONSGML v1.0//EN
CALSCALE:GREGORIAN
METHOD:PUBLISH
X-WR-CALNAME:PARENTGUIDENEWS
X-ORIGINAL-URL:https://parentguidenews.com
X-WR-CALDESC:Events for PARENTGUIDENEWS
REFRESH-INTERVAL;VALUE=DURATION:PT1H
X-Robots-Tag:noindex
X-PUBLISHED-TTL:PT1H
BEGIN:VTIMEZONE
TZID:America/New_York
BEGIN:DAYLIGHT
TZOFFSETFROM:-0500
TZOFFSETTO:-0400
TZNAME:EDT
DTSTART:20250309T070000
END:DAYLIGHT
BEGIN:STANDARD
TZOFFSETFROM:-0400
TZOFFSETTO:-0500
TZNAME:EST
DTSTART:20251102T060000
END:STANDARD
BEGIN:DAYLIGHT
TZOFFSETFROM:-0500
TZOFFSETTO:-0400
TZNAME:EDT
DTSTART:20260308T070000
END:DAYLIGHT
BEGIN:STANDARD
TZOFFSETFROM:-0400
TZOFFSETTO:-0500
TZNAME:EST
DTSTART:20261101T060000
END:STANDARD
BEGIN:DAYLIGHT
TZOFFSETFROM:-0500
TZOFFSETTO:-0400
TZNAME:EDT
DTSTART:20270314T070000
END:DAYLIGHT
BEGIN:STANDARD
TZOFFSETFROM:-0400
TZOFFSETTO:-0500
TZNAME:EST
DTSTART:20271107T060000
END:STANDARD
END:VTIMEZONE
BEGIN:VEVENT
DTSTART;TZID=America/New_York:20260217T100000
DTEND;TZID=America/New_York:20260217T110000
DTSTAMP:20260419T190640
CREATED:20240309T155333Z
LAST-MODIFIED:20240309T155333Z
UID:10017726-1771322400-1771326000@parentguidenews.com
SUMMARY:Storytime at Barnes & Noble
DESCRIPTION:Join us for Storytime every Tuesday and Thursday at 10 a.m. Watch your kids as they embark on an exciting adventure with our Storytime expert. We will introduce your little one to some of your childhood favorites\, as well as read some you may have never heard before!
URL:https://parentguidenews.com/event/storytime-at-barnes-noble/2026-02-17/
LOCATION:Barnes & Noble\, 112 Eisenhower Parkway\, Livingston\, NJ\, 07039\, United States
CATEGORIES:Classes for Kids
GEO:40.7771625;-74.353982
X-APPLE-STRUCTURED-LOCATION;VALUE=URI;X-ADDRESS=Barnes & Noble 112 Eisenhower Parkway Livingston NJ 07039 United States;X-APPLE-RADIUS=500;X-TITLE=112 Eisenhower Parkway:geo:-74.353982,40.7771625
END:VEVENT
BEGIN:VEVENT
DTSTART;TZID=America/New_York:20260217T100000
DTEND;TZID=America/New_York:20260217T120000
DTSTAMP:20260419T190640
CREATED:20230829T030250Z
LAST-MODIFIED:20230829T030250Z
UID:10007562-1771322400-1771329600@parentguidenews.com
SUMMARY:Kids Art Classes at the Museum
DESCRIPTION:Join us two days a week from 10 am – 12pm for fun art-making in the Museum walkway! \nRecommended for ages 2-5. All children must be accompanied by an adult. \nArt materials are provided. Seating is available on a first-come\, first-served basis. \nA $5 suggested donation is appreciated. Ms. Lisa is excited to create some art with you!
URL:https://parentguidenews.com/event/kids-art-classes-at-the-museum/2026-02-17/
LOCATION:Hoboken Historical Museum\, 1301 Hudson St\, Hoboken\, NJ\, United States
CATEGORIES:Arts & Crafts
ATTACH;FMTTYPE=image/jpeg:https://parentguidenews.com/wp-content/uploads/2023/08/Lisa-art-class-1.jpg
GEO:40.7521954;-74.0251241
X-APPLE-STRUCTURED-LOCATION;VALUE=URI;X-ADDRESS=Hoboken Historical Museum 1301 Hudson St Hoboken NJ United States;X-APPLE-RADIUS=500;X-TITLE=1301 Hudson St:geo:-74.0251241,40.7521954
END:VEVENT
BEGIN:VEVENT
DTSTART;TZID=America/New_York:20260217T100000
DTEND;TZID=America/New_York:20260217T130000
DTSTAMP:20260419T190640
CREATED:20230306T171350Z
LAST-MODIFIED:20230306T171350Z
UID:10000896-1771322400-1771333200@parentguidenews.com
SUMMARY:Soil Stories
DESCRIPTION:A self-guided cozy nook in the greenhouse with curated books\, games\, and artmaking for quiet moments to enjoy with plants.
URL:https://parentguidenews.com/event/soil-stories/2026-02-17/
LOCATION:The Greenhouse and Education Center at Denny Farrell Riverbank State Park\, 679 Riverside Dr\, Greenhouse\, New York\, NY\, 10031\, United States
ATTACH;FMTTYPE=image/jpeg:https://parentguidenews.com/wp-content/uploads/2023/03/appointmentType-thumb-40023605-jpg.webp
GEO:40.8269525;-73.952552
X-APPLE-STRUCTURED-LOCATION;VALUE=URI;X-ADDRESS=The Greenhouse and Education Center at Denny Farrell Riverbank State Park 679 Riverside Dr Greenhouse New York NY 10031 United States;X-APPLE-RADIUS=500;X-TITLE=679 Riverside Dr\, Greenhouse:geo:-73.952552,40.8269525
END:VEVENT
BEGIN:VEVENT
DTSTART;TZID=America/New_York:20260217T100000
DTEND;TZID=America/New_York:20260217T170000
DTSTAMP:20260419T190640
CREATED:20240405T144456Z
LAST-MODIFIED:20240405T144456Z
UID:10020646-1771322400-1771347600@parentguidenews.com
SUMMARY:Story Time/ Music and Movement
DESCRIPTION:Story time- Spark children’s imagination and nurture their love for reading through monthly themed picture books and read-aloud- Every Day at 10 am and 4 pm \nMusic and Movement- Interactive class featuring puppets\, musical instruments\, and props.\n-Every day at 11am and 3 pm
URL:https://parentguidenews.com/event/story-time-music-and-movement-2/2026-02-17/
LOCATION:Westchester Children’s Museum\, 100 Playland Parkway\, Rye\, New York\, 10580
ATTACH;FMTTYPE=image/png:https://parentguidenews.com/wp-content/uploads/2024/04/Music-and-Movement.png
ORGANIZER;CN="westchester childrens museusum":MAILTO:info@discoverwcm.org
GEO:40.9642816;-73.6774881
X-APPLE-STRUCTURED-LOCATION;VALUE=URI;X-ADDRESS=Westchester Children’s Museum 100 Playland Parkway Rye New York 10580;X-APPLE-RADIUS=500;X-TITLE=100 Playland Parkway:geo:-73.6774881,40.9642816
END:VEVENT
BEGIN:VEVENT
DTSTART;TZID=America/New_York:20260217T110000
DTEND;TZID=America/New_York:20260217T111500
DTSTAMP:20260419T190640
CREATED:20231204T143851Z
LAST-MODIFIED:20231204T212500Z
UID:10012721-1771326000-1771326900@parentguidenews.com
SUMMARY:Music & Movement
DESCRIPTION:Interactive class featuring puppets\, musical instruments\, and props.
URL:https://parentguidenews.com/event/music-movement/2026-02-17/
LOCATION:Westchester Children’s Museum\, 100 Playland Parkway\, Rye\, New York\, 10580
CATEGORIES:Children,Classes for Kids,For Children,For the Family,Museums
ATTACH;FMTTYPE=image/png:https://parentguidenews.com/wp-content/uploads/2023/11/3.png
GEO:40.9642816;-73.6774881
X-APPLE-STRUCTURED-LOCATION;VALUE=URI;X-ADDRESS=Westchester Children’s Museum 100 Playland Parkway Rye New York 10580;X-APPLE-RADIUS=500;X-TITLE=100 Playland Parkway:geo:-73.6774881,40.9642816
END:VEVENT
BEGIN:VEVENT
DTSTART;TZID=America/New_York:20260217T110000
DTEND;TZID=America/New_York:20260217T120000
DTSTAMP:20260419T190640
CREATED:20230306T173523Z
LAST-MODIFIED:20231102T012102Z
UID:10001677-1771326000-1771329600@parentguidenews.com
SUMMARY:Sauté\, Sizzle\, Savor: Winter Cooking & Eating
DESCRIPTION:Gather around the table for collectively-crafted meals and food stories.
URL:https://parentguidenews.com/event/saute-sizzle-savor-winter-cooking-eating/2026-02-17/
LOCATION:The Greenhouse and Education Center at Denny Farrell Riverbank State Park\, 679 Riverside Dr\, Greenhouse\, New York\, NY\, 10031\, United States
CATEGORIES:Food
ATTACH;FMTTYPE=image/jpeg:https://parentguidenews.com/wp-content/uploads/2023/03/appointmentType-thumb-40023024-jpg.webp
GEO:40.8269525;-73.952552
X-APPLE-STRUCTURED-LOCATION;VALUE=URI;X-ADDRESS=The Greenhouse and Education Center at Denny Farrell Riverbank State Park 679 Riverside Dr Greenhouse New York NY 10031 United States;X-APPLE-RADIUS=500;X-TITLE=679 Riverside Dr\, Greenhouse:geo:-73.952552,40.8269525
END:VEVENT
BEGIN:VEVENT
DTSTART;TZID=America/New_York:20260217T113000
DTEND;TZID=America/New_York:20260217T170000
DTSTAMP:20260419T190640
CREATED:20231220T121312Z
LAST-MODIFIED:20231220T121312Z
UID:10014562-1771327800-1771347600@parentguidenews.com
SUMMARY:Museum Minis
DESCRIPTION:Music\, stories\, play\, and activities encourage caregiver interaction.
URL:https://parentguidenews.com/event/museum-minis-2/2026-02-17/
LOCATION:Westchester Children’s Museum\, 100 Playland Parkway\, Rye\, New York\, 10580
CATEGORIES:Children,Dance,Kids,Museums,Toddler
ATTACH;FMTTYPE=image/png:https://parentguidenews.com/wp-content/uploads/2023/12/5.png
ORGANIZER;CN="westchester childrens museusum":MAILTO:info@discoverwcm.org
GEO:40.9642816;-73.6774881
X-APPLE-STRUCTURED-LOCATION;VALUE=URI;X-ADDRESS=Westchester Children’s Museum 100 Playland Parkway Rye New York 10580;X-APPLE-RADIUS=500;X-TITLE=100 Playland Parkway:geo:-73.6774881,40.9642816
END:VEVENT
BEGIN:VEVENT
DTSTART;TZID=America/New_York:20260217T180000
DTEND;TZID=America/New_York:20260217T190000
DTSTAMP:20260419T190640
CREATED:20260119T104348Z
LAST-MODIFIED:20260119T104348Z
UID:10036047-1771351200-1771354800@parentguidenews.com
SUMMARY:Yoga in the Gallery
DESCRIPTION:Yoga in the Gallery
URL:https://parentguidenews.com/event/yoga-in-the-gallery-25/
LOCATION:Rockefeller State Park Preserve\, 125 Phelps Way\, Pleasantville\, NY\, 10570\, United States
ATTACH;FMTTYPE=image/jpeg:https://parentguidenews.com/wp-content/uploads/2025/11/c32c5c6d43fcde540f656434ddaec289.jpg
GEO:41.1117676;-73.8370464
X-APPLE-STRUCTURED-LOCATION;VALUE=URI;X-ADDRESS=Rockefeller State Park Preserve 125 Phelps Way Pleasantville NY 10570 United States;X-APPLE-RADIUS=500;X-TITLE=125 Phelps Way:geo:-73.8370464,41.1117676
END:VEVENT
BEGIN:VEVENT
DTSTART;TZID=America/New_York:20260217T180000
DTEND;TZID=America/New_York:20260217T190000
DTSTAMP:20260419T190640
CREATED:20260119T104856Z
LAST-MODIFIED:20260119T104856Z
UID:10036055-1771351200-1771354800@parentguidenews.com
SUMMARY:Enslavement to Freedom: 1627-1827-2027
DESCRIPTION:Join us for Black History Month by learning the surprising history of enslaved people in New York through their freedom into today.\n\n\nJoin us for Black History Month by learning the surprising history of enslaved people in New York State through their freedom into today with Lavada Nahon\, Interpreter of African American History for New York State Parks. \n In 2027\, New York State commemorates two momentous Black history anniversaries: the 200th anniversary of the legal end of slavery in New York\, and the 400th anniversary of the arrival and enslavement of the first twenty-two African people in New Netherland.  \nMs. Nahon will bring a local perspective that dates to Frederick Philipse’s vast Hudson Valley lands and estates. Please join us for this virtual presentation. \n Registered participants will receive a link to join the video call.
URL:https://parentguidenews.com/event/enslavement-to-freedom-1627-1827-2027/
LOCATION:NY
ATTACH;FMTTYPE=image/jpeg:https://parentguidenews.com/wp-content/uploads/2026/01/9a3c75177ac0298e5a08336c1ea70125.jpg
END:VEVENT
END:VCALENDAR