BEGIN:VCALENDAR
VERSION:2.0
PRODID:-//PARENTGUIDENEWS - ECPv6.15.12.2//NONSGML v1.0//EN
CALSCALE:GREGORIAN
METHOD:PUBLISH
X-ORIGINAL-URL:https://parentguidenews.com
X-WR-CALDESC:Events for PARENTGUIDENEWS
REFRESH-INTERVAL;VALUE=DURATION:PT1H
X-Robots-Tag:noindex
X-PUBLISHED-TTL:PT1H
BEGIN:VTIMEZONE
TZID:America/New_York
BEGIN:DAYLIGHT
TZOFFSETFROM:-0500
TZOFFSETTO:-0400
TZNAME:EDT
DTSTART:20250309T070000
END:DAYLIGHT
BEGIN:STANDARD
TZOFFSETFROM:-0400
TZOFFSETTO:-0500
TZNAME:EST
DTSTART:20251102T060000
END:STANDARD
BEGIN:DAYLIGHT
TZOFFSETFROM:-0500
TZOFFSETTO:-0400
TZNAME:EDT
DTSTART:20260308T070000
END:DAYLIGHT
BEGIN:STANDARD
TZOFFSETFROM:-0400
TZOFFSETTO:-0500
TZNAME:EST
DTSTART:20261101T060000
END:STANDARD
BEGIN:DAYLIGHT
TZOFFSETFROM:-0500
TZOFFSETTO:-0400
TZNAME:EDT
DTSTART:20270314T070000
END:DAYLIGHT
BEGIN:STANDARD
TZOFFSETFROM:-0400
TZOFFSETTO:-0500
TZNAME:EST
DTSTART:20271107T060000
END:STANDARD
END:VTIMEZONE
BEGIN:VEVENT
DTSTART;TZID=America/New_York:20260126T080000
DTEND;TZID=America/New_York:20260126T100000
DTSTAMP:20260419T174439
CREATED:20260119T103720Z
LAST-MODIFIED:20260119T103720Z
UID:10036037-1769414400-1769421600@parentguidenews.com
SUMMARY:Birdwatching with the Saw Mill River Audubon Society
DESCRIPTION:Birdwatch with experts from Saw Mill River Audubon Society and contribute to global bird count data!
URL:https://parentguidenews.com/event/birdwatching-with-the-saw-mill-river-audubon-society-5/
LOCATION:Rockefeller State Park Preserve\, 125 Phelps Way\, Pleasantville\, NY\, 10570\, United States
ATTACH;FMTTYPE=image/jpeg:https://parentguidenews.com/wp-content/uploads/2025/11/094205bacb8f6bdea21978e48c6cac55.jpg
GEO:41.1117676;-73.8370464
X-APPLE-STRUCTURED-LOCATION;VALUE=URI;X-ADDRESS=Rockefeller State Park Preserve 125 Phelps Way Pleasantville NY 10570 United States;X-APPLE-RADIUS=500;X-TITLE=125 Phelps Way:geo:-73.8370464,41.1117676
END:VEVENT
BEGIN:VEVENT
DTSTART;TZID=America/New_York:20260126T094500
DTEND;TZID=America/New_York:20260126T101500
DTSTAMP:20260419T174439
CREATED:20260120T044713Z
LAST-MODIFIED:20260120T044713Z
UID:10036114-1769420700-1769422500@parentguidenews.com
SUMMARY:Moving Up! Active Storytime (Ages 18 mos-3 yrs) @ Library Meeting Room
DESCRIPTION:This storytime is for ages 18 months to 3 years with Ms. Laura!\n\n\nMoving Up Storytime! 📚\n\nThis is an active\, movement-based storytime for our movers and wigglers ages 18 months to 3 years\nJoin Ms. Laura in the library’s meeting room for stories\, songs\, and LOTS of moving around!\nSiblings are always welcome\nPlease sign up for one “ticket” as a family and list kids’ names on the order form
URL:https://parentguidenews.com/event/moving-up-active-storytime-ages-18-mos-3-yrs-library-meeting-room-2/
LOCATION:Denville Library\, 121 Diamond Spring Road\, Denville\, NJ\, 07834\, United States
ATTACH;FMTTYPE=image/jpeg:https://parentguidenews.com/wp-content/uploads/2026/01/bf12b972d4832787a04aea83d6178760.jpg
GEO:40.8964961;-74.4734933
X-APPLE-STRUCTURED-LOCATION;VALUE=URI;X-ADDRESS=Denville Library 121 Diamond Spring Road Denville NJ 07834 United States;X-APPLE-RADIUS=500;X-TITLE=121 Diamond Spring Road:geo:-74.4734933,40.8964961
END:VEVENT
BEGIN:VEVENT
DTSTART;TZID=America/New_York:20260126T100000
DTEND;TZID=America/New_York:20260126T170000
DTSTAMP:20260419T174439
CREATED:20240405T144456Z
LAST-MODIFIED:20240405T144456Z
UID:10020624-1769421600-1769446800@parentguidenews.com
SUMMARY:Story Time/ Music and Movement
DESCRIPTION:Story time- Spark children’s imagination and nurture their love for reading through monthly themed picture books and read-aloud- Every Day at 10 am and 4 pm \nMusic and Movement- Interactive class featuring puppets\, musical instruments\, and props.\n-Every day at 11am and 3 pm
URL:https://parentguidenews.com/event/story-time-music-and-movement-2/2026-01-26/
LOCATION:Westchester Children’s Museum\, 100 Playland Parkway\, Rye\, New York\, 10580
ATTACH;FMTTYPE=image/png:https://parentguidenews.com/wp-content/uploads/2024/04/Music-and-Movement.png
ORGANIZER;CN="westchester childrens museusum":MAILTO:info@discoverwcm.org
GEO:40.9642816;-73.6774881
X-APPLE-STRUCTURED-LOCATION;VALUE=URI;X-ADDRESS=Westchester Children’s Museum 100 Playland Parkway Rye New York 10580;X-APPLE-RADIUS=500;X-TITLE=100 Playland Parkway:geo:-73.6774881,40.9642816
END:VEVENT
BEGIN:VEVENT
DTSTART;TZID=America/New_York:20260126T103000
DTEND;TZID=America/New_York:20260126T110000
DTSTAMP:20260419T174439
CREATED:20260120T044716Z
LAST-MODIFIED:20260120T044716Z
UID:10036115-1769423400-1769425200@parentguidenews.com
SUMMARY:Storytime for Ages 2+ @ Library Meeting Room
DESCRIPTION:This storytime is for kids ages 2 and up who can sit for one or two short books. There will still be lots of opportunities to move around!\n\n\nStorytime for Kids Ages 2+! 📚 \n\nIn this storytime\, we will sit down and read one or two SHORT books together\nNever fear\, there will still be lots of opportunities to get up and stretch\, dance\, and move around!\nSiblings are always welcome\nPlease sign up for one “ticket” as a family and list kids’ names on the order form
URL:https://parentguidenews.com/event/storytime-for-ages-2-library-meeting-room-2/
LOCATION:Denville Library\, 121 Diamond Spring Road\, Denville\, NJ\, 07834\, United States
ATTACH;FMTTYPE=image/jpeg:https://parentguidenews.com/wp-content/uploads/2026/01/165c77eff9ccd545ef34f712dc82cf08.jpg
GEO:40.8964961;-74.4734933
X-APPLE-STRUCTURED-LOCATION;VALUE=URI;X-ADDRESS=Denville Library 121 Diamond Spring Road Denville NJ 07834 United States;X-APPLE-RADIUS=500;X-TITLE=121 Diamond Spring Road:geo:-74.4734933,40.8964961
END:VEVENT
BEGIN:VEVENT
DTSTART;TZID=America/New_York:20260126T110000
DTEND;TZID=America/New_York:20260126T111500
DTSTAMP:20260419T174439
CREATED:20231204T143851Z
LAST-MODIFIED:20231204T212500Z
UID:10012699-1769425200-1769426100@parentguidenews.com
SUMMARY:Music & Movement
DESCRIPTION:Interactive class featuring puppets\, musical instruments\, and props.
URL:https://parentguidenews.com/event/music-movement/2026-01-26/
LOCATION:Westchester Children’s Museum\, 100 Playland Parkway\, Rye\, New York\, 10580
CATEGORIES:Children,Classes for Kids,For Children,For the Family,Museums
ATTACH;FMTTYPE=image/png:https://parentguidenews.com/wp-content/uploads/2023/11/3.png
GEO:40.9642816;-73.6774881
X-APPLE-STRUCTURED-LOCATION;VALUE=URI;X-ADDRESS=Westchester Children’s Museum 100 Playland Parkway Rye New York 10580;X-APPLE-RADIUS=500;X-TITLE=100 Playland Parkway:geo:-73.6774881,40.9642816
END:VEVENT
BEGIN:VEVENT
DTSTART;TZID=America/New_York:20260126T113000
DTEND;TZID=America/New_York:20260126T170000
DTSTAMP:20260419T174439
CREATED:20231220T121312Z
LAST-MODIFIED:20231220T121312Z
UID:10014551-1769427000-1769446800@parentguidenews.com
SUMMARY:Museum Minis
DESCRIPTION:Music\, stories\, play\, and activities encourage caregiver interaction.
URL:https://parentguidenews.com/event/museum-minis-2/2026-01-26/
LOCATION:Westchester Children’s Museum\, 100 Playland Parkway\, Rye\, New York\, 10580
CATEGORIES:Children,Dance,Kids,Museums,Toddler
ATTACH;FMTTYPE=image/png:https://parentguidenews.com/wp-content/uploads/2023/12/5.png
ORGANIZER;CN="westchester childrens museusum":MAILTO:info@discoverwcm.org
GEO:40.9642816;-73.6774881
X-APPLE-STRUCTURED-LOCATION;VALUE=URI;X-ADDRESS=Westchester Children’s Museum 100 Playland Parkway Rye New York 10580;X-APPLE-RADIUS=500;X-TITLE=100 Playland Parkway:geo:-73.6774881,40.9642816
END:VEVENT
END:VCALENDAR