BEGIN:VCALENDAR
VERSION:2.0
PRODID:-//PARENTGUIDENEWS - ECPv6.15.12.2//NONSGML v1.0//EN
CALSCALE:GREGORIAN
METHOD:PUBLISH
X-ORIGINAL-URL:https://parentguidenews.com
X-WR-CALDESC:Events for PARENTGUIDENEWS
REFRESH-INTERVAL;VALUE=DURATION:PT1H
X-Robots-Tag:noindex
X-PUBLISHED-TTL:PT1H
BEGIN:VTIMEZONE
TZID:America/New_York
BEGIN:DAYLIGHT
TZOFFSETFROM:-0500
TZOFFSETTO:-0400
TZNAME:EDT
DTSTART:20250309T070000
END:DAYLIGHT
BEGIN:STANDARD
TZOFFSETFROM:-0400
TZOFFSETTO:-0500
TZNAME:EST
DTSTART:20251102T060000
END:STANDARD
BEGIN:DAYLIGHT
TZOFFSETFROM:-0500
TZOFFSETTO:-0400
TZNAME:EDT
DTSTART:20260308T070000
END:DAYLIGHT
BEGIN:STANDARD
TZOFFSETFROM:-0400
TZOFFSETTO:-0500
TZNAME:EST
DTSTART:20261101T060000
END:STANDARD
BEGIN:DAYLIGHT
TZOFFSETFROM:-0500
TZOFFSETTO:-0400
TZNAME:EDT
DTSTART:20270314T070000
END:DAYLIGHT
BEGIN:STANDARD
TZOFFSETFROM:-0400
TZOFFSETTO:-0500
TZNAME:EST
DTSTART:20271107T060000
END:STANDARD
END:VTIMEZONE
BEGIN:VEVENT
DTSTART;VALUE=DATE:20260101
DTEND;VALUE=DATE:20260102
DTSTAMP:20260420T001443
CREATED:20250727T162120Z
LAST-MODIFIED:20250727T162921Z
UID:10031336-1767225600-1767311999@parentguidenews.com
SUMMARY:Gazillion Bubble Show
DESCRIPTION:More Than a Show — It’s a Global Phenomenon\n\nIt’s part science\, part spectacle\, and all sensational. Gazillion Bubble Show is the most unbubblievable show in the world! Bubble lovers of all ages are delighted with an incredibubble experience\, awashed with a bubble tide\, and perhaps even find themselves INSIDE a bubble. Mind-blowing bubble magic\, spectacular laser lighting effects\, and momentary soapy masterpieces will make you smile\, laugh\, and feel like a kid again. \n\n\n\n\n\n\n\n\n\n\n\n\n\nLocated at New World Stages Off Broadway.
URL:https://parentguidenews.com/event/gazillion-bubble-show-2/2026-01-01/
LOCATION:New World Stages\, 350 West 50 St\, New York\, NY\, United States
ATTACH;FMTTYPE=image/png:https://parentguidenews.com/wp-content/uploads/2025/07/kids-show-broadway-NYC.png
GEO:40.7629765;-73.9880576
X-APPLE-STRUCTURED-LOCATION;VALUE=URI;X-ADDRESS=New World Stages 350 West 50 St New York NY United States;X-APPLE-RADIUS=500;X-TITLE=350 West 50 St:geo:-73.9880576,40.7629765
END:VEVENT
BEGIN:VEVENT
DTSTART;TZID=America/New_York:20260101T090000
DTEND;TZID=America/New_York:20260101T110000
DTSTAMP:20260420T001443
CREATED:20251120T102310Z
LAST-MODIFIED:20251120T102310Z
UID:10035190-1767258000-1767265200@parentguidenews.com
SUMMARY:First Day Hike with the Saw Mill River Audubon Society
DESCRIPTION:Ring in the New Year with birding at our historic Rockwood Hall site overlooking the Hudson River!\n\n\nStart off your New Year with an invigorating 1.5 mile walk along the Hudson River across the beautiful landscape of Rockwood Hall\, guided by Larry Trachtenberg of the Saw Mill River Audubon Society.  \nWe will keep an eye out for winter birds including both bald eagles and red-tailed hawks often seen in this part of the Preserve. \nDress warmly since it’s always colder by the Hudson and bring binoculars if you have them. \nNo pets please.  \nThis hike is at Rockwood Hall\, DO NOT go to the main Preserve entrance. Gather at the Rockwood Hall parking lot on Kendal Way at the west end of route 117\, just after the intersection of Phelps and Regeneron. If the lot is full\, you may park in the Phelps Hospital garage (free). \nMax: 40 people. Suitable for ages 6+. \nIf heavy rain/ice/snow or road closures occur\, the walk will be canceled. You will be notified via email the day before. \nPhoto courtesy of Bill Golden
URL:https://parentguidenews.com/event/first-day-hike-with-the-saw-mill-river-audubon-society-2/
LOCATION:Rockwood Hall\, Phelps Way\, Pleasantville\, NY\, 10570\, United States
ATTACH;FMTTYPE=image/jpeg:https://parentguidenews.com/wp-content/uploads/2025/11/154b7e1acb491998f2c8908b15e4645b.jpg
GEO:41.1146944;-73.8306212
X-APPLE-STRUCTURED-LOCATION;VALUE=URI;X-ADDRESS=Rockwood Hall Phelps Way Pleasantville NY 10570 United States;X-APPLE-RADIUS=500;X-TITLE=Phelps Way:geo:-73.8306212,41.1146944
END:VEVENT
BEGIN:VEVENT
DTSTART;TZID=America/New_York:20260101T100000
DTEND;TZID=America/New_York:20260101T110000
DTSTAMP:20260420T001443
CREATED:20240309T155333Z
LAST-MODIFIED:20240309T155333Z
UID:10017713-1767261600-1767265200@parentguidenews.com
SUMMARY:Storytime at Barnes & Noble
DESCRIPTION:Join us for Storytime every Tuesday and Thursday at 10 a.m. Watch your kids as they embark on an exciting adventure with our Storytime expert. We will introduce your little one to some of your childhood favorites\, as well as read some you may have never heard before!
URL:https://parentguidenews.com/event/storytime-at-barnes-noble/2026-01-01/
LOCATION:Barnes & Noble\, 112 Eisenhower Parkway\, Livingston\, NJ\, 07039\, United States
CATEGORIES:Classes for Kids
GEO:40.7771625;-74.353982
X-APPLE-STRUCTURED-LOCATION;VALUE=URI;X-ADDRESS=Barnes & Noble 112 Eisenhower Parkway Livingston NJ 07039 United States;X-APPLE-RADIUS=500;X-TITLE=112 Eisenhower Parkway:geo:-74.353982,40.7771625
END:VEVENT
BEGIN:VEVENT
DTSTART;TZID=America/New_York:20260101T100000
DTEND;TZID=America/New_York:20260101T120000
DTSTAMP:20260420T001443
CREATED:20230829T030250Z
LAST-MODIFIED:20230829T030250Z
UID:10007549-1767261600-1767268800@parentguidenews.com
SUMMARY:Kids Art Classes at the Museum
DESCRIPTION:Join us two days a week from 10 am – 12pm for fun art-making in the Museum walkway! \nRecommended for ages 2-5. All children must be accompanied by an adult. \nArt materials are provided. Seating is available on a first-come\, first-served basis. \nA $5 suggested donation is appreciated. Ms. Lisa is excited to create some art with you!
URL:https://parentguidenews.com/event/kids-art-classes-at-the-museum/2026-01-01/
LOCATION:Hoboken Historical Museum\, 1301 Hudson St\, Hoboken\, NJ\, United States
CATEGORIES:Arts & Crafts
ATTACH;FMTTYPE=image/jpeg:https://parentguidenews.com/wp-content/uploads/2023/08/Lisa-art-class-1.jpg
GEO:40.7521954;-74.0251241
X-APPLE-STRUCTURED-LOCATION;VALUE=URI;X-ADDRESS=Hoboken Historical Museum 1301 Hudson St Hoboken NJ United States;X-APPLE-RADIUS=500;X-TITLE=1301 Hudson St:geo:-74.0251241,40.7521954
END:VEVENT
BEGIN:VEVENT
DTSTART;TZID=America/New_York:20260101T100000
DTEND;TZID=America/New_York:20260101T170000
DTSTAMP:20260420T001443
CREATED:20240405T144456Z
LAST-MODIFIED:20240405T144456Z
UID:10020599-1767261600-1767286800@parentguidenews.com
SUMMARY:Story Time/ Music and Movement
DESCRIPTION:Story time- Spark children’s imagination and nurture their love for reading through monthly themed picture books and read-aloud- Every Day at 10 am and 4 pm \nMusic and Movement- Interactive class featuring puppets\, musical instruments\, and props.\n-Every day at 11am and 3 pm
URL:https://parentguidenews.com/event/story-time-music-and-movement-2/2026-01-01/
LOCATION:Westchester Children’s Museum\, 100 Playland Parkway\, Rye\, New York\, 10580
ATTACH;FMTTYPE=image/png:https://parentguidenews.com/wp-content/uploads/2024/04/Music-and-Movement.png
ORGANIZER;CN="westchester childrens museusum":MAILTO:info@discoverwcm.org
GEO:40.9642816;-73.6774881
X-APPLE-STRUCTURED-LOCATION;VALUE=URI;X-ADDRESS=Westchester Children’s Museum 100 Playland Parkway Rye New York 10580;X-APPLE-RADIUS=500;X-TITLE=100 Playland Parkway:geo:-73.6774881,40.9642816
END:VEVENT
BEGIN:VEVENT
DTSTART;TZID=America/New_York:20260101T110000
DTEND;TZID=America/New_York:20260101T111500
DTSTAMP:20260420T001443
CREATED:20231204T143851Z
LAST-MODIFIED:20231204T212500Z
UID:10012674-1767265200-1767266100@parentguidenews.com
SUMMARY:Music & Movement
DESCRIPTION:Interactive class featuring puppets\, musical instruments\, and props.
URL:https://parentguidenews.com/event/music-movement/2026-01-01/
LOCATION:Westchester Children’s Museum\, 100 Playland Parkway\, Rye\, New York\, 10580
CATEGORIES:Children,Classes for Kids,For Children,For the Family,Museums
ATTACH;FMTTYPE=image/png:https://parentguidenews.com/wp-content/uploads/2023/11/3.png
GEO:40.9642816;-73.6774881
X-APPLE-STRUCTURED-LOCATION;VALUE=URI;X-ADDRESS=Westchester Children’s Museum 100 Playland Parkway Rye New York 10580;X-APPLE-RADIUS=500;X-TITLE=100 Playland Parkway:geo:-73.6774881,40.9642816
END:VEVENT
BEGIN:VEVENT
DTSTART;TZID=America/New_York:20260101T133000
DTEND;TZID=America/New_York:20260101T153000
DTSTAMP:20260420T001443
CREATED:20251113T102038Z
LAST-MODIFIED:20251214T211921Z
UID:10034340-1767274200-1767281400@parentguidenews.com
SUMMARY:Weekly Ground Force Session
DESCRIPTION:(age 14+\, age 12-13 with adult) \nJoin Our Horticulture Team! \nHelp maintain and enhance the beauty of our gardens and grounds all year long—spring\, summer\, fall\, and even winter! Volunteer indoors or outdoors alongside our horticulturists to support the care and upkeep of our landscape. Tasks vary by session and may include weeding\, mulching\, watering\, and more. \nGround Force Sessions: \n\n\nThrough October: Thursdays & Saturdays\, 10:00 AM – 12:00 PM \n\n\nStarting in November: Thursdays & Saturdays\, 1:30 PM – 3:30 PM \n\n\nWhat to Bring & Wear: \n\n\nLong pants\, long socks\, and sturdy closed-toe shoes \n\n\nInsect repellent\, sunscreen\, and a refillable water bottle \n\n\nRain gear if light rain is expected—we work in drizzle! \n\n\nRegistration is required to receive updates in case of cancellations or schedule changes. Please register at least 24 hours before each session. \nWe will supply gloves as well as all other tools and materials. For your safety\, all tools and gloves are washed and sanitized. Please meet at the barn in our parking lot. If the session is cancelled due to inclement weather or any other reason\, we will contact you. First-time volunteers must bring a completed Volunteer Waiver form to their first volunteer session. \n\n\n\n\n\n\nRegister here.
URL:https://parentguidenews.com/event/weekly-ground-force-session-58/
LOCATION:NY
CATEGORIES:Discovery Weekends
ATTACH;FMTTYPE=image/jpeg:https://parentguidenews.com/wp-content/uploads/2025/04/saturday-volunteers-featured_062-1Csss8tmp_.jpg
END:VEVENT
BEGIN:VEVENT
DTSTART;TZID=America/New_York:20260101T170000
DTEND;TZID=America/New_York:20260101T210000
DTSTAMP:20260420T001443
CREATED:20231005T145545Z
LAST-MODIFIED:20231005T145545Z
UID:10009501-1767286800-1767301200@parentguidenews.com
SUMMARY:Free First Thursdays
DESCRIPTION:MAM comes to life in this popular after-hours program. Join us for themed evenings with music\, live performances\, artmaking\, tours\, and more.
URL:https://parentguidenews.com/event/free-first-thursdays/2026-01-01/
LOCATION:Montclair Art Museum\, 3 South Mountain Avenue\, Montclair\, NJ\, 07042\, United States
CATEGORIES:Museums
GEO:40.8186382;-74.2242606
X-APPLE-STRUCTURED-LOCATION;VALUE=URI;X-ADDRESS=Montclair Art Museum 3 South Mountain Avenue Montclair NJ 07042 United States;X-APPLE-RADIUS=500;X-TITLE=3 South Mountain Avenue:geo:-74.2242606,40.8186382
END:VEVENT
END:VCALENDAR