BEGIN:VCALENDAR
VERSION:2.0
PRODID:-//PARENTGUIDENEWS - ECPv6.15.12.2//NONSGML v1.0//EN
CALSCALE:GREGORIAN
METHOD:PUBLISH
X-ORIGINAL-URL:https://parentguidenews.com
X-WR-CALDESC:Events for PARENTGUIDENEWS
REFRESH-INTERVAL;VALUE=DURATION:PT1H
X-Robots-Tag:noindex
X-PUBLISHED-TTL:PT1H
BEGIN:VTIMEZONE
TZID:America/New_York
BEGIN:DAYLIGHT
TZOFFSETFROM:-0500
TZOFFSETTO:-0400
TZNAME:EDT
DTSTART:20240310T070000
END:DAYLIGHT
BEGIN:STANDARD
TZOFFSETFROM:-0400
TZOFFSETTO:-0500
TZNAME:EST
DTSTART:20241103T060000
END:STANDARD
BEGIN:DAYLIGHT
TZOFFSETFROM:-0500
TZOFFSETTO:-0400
TZNAME:EDT
DTSTART:20250309T070000
END:DAYLIGHT
BEGIN:STANDARD
TZOFFSETFROM:-0400
TZOFFSETTO:-0500
TZNAME:EST
DTSTART:20251102T060000
END:STANDARD
BEGIN:DAYLIGHT
TZOFFSETFROM:-0500
TZOFFSETTO:-0400
TZNAME:EDT
DTSTART:20260308T070000
END:DAYLIGHT
BEGIN:STANDARD
TZOFFSETFROM:-0400
TZOFFSETTO:-0500
TZNAME:EST
DTSTART:20261101T060000
END:STANDARD
END:VTIMEZONE
BEGIN:VEVENT
DTSTART;TZID=America/New_York:20251231T100000
DTEND;TZID=America/New_York:20251231T110000
DTSTAMP:20260420T002400
CREATED:20251220T110818Z
LAST-MODIFIED:20251220T110818Z
UID:10035630-1767175200-1767178800@parentguidenews.com
SUMMARY:Tiny Tots: Happy New Year! (Ages 3-5)\, $4.00 per child upon arrival
DESCRIPTION:Where the New Year starts with smiles and sparkles.\n\n\nExplore the natural world around us. These programs will connect children and their parents through short walks\, animal visitors\, and crafts.  \n \nClass will be held in the Environmental Education and Resiliency Center in Field 1 of Hempstead Lake State Park. $4 per child upon arrival at the front desk. No parking fees in effect. Reservations are required for all programs\, each child needs their own ticket. Space is limited. If you are unable to keep your reservation\, please cancel so others may have the opportunity to attend. Please try to arrive at least 15 minutes early. \n \nFor more details about Hempstead Lake State Park\, click here! \nFollow us on Facebook & Instagram!
URL:https://parentguidenews.com/event/tiny-tots-happy-new-year-ages-3-5-4-00-per-child-upon-arrival/
LOCATION:Environmental Education and Resiliency Center\, 880 Lake Dr\, West Hempstead\, NY\, 11552\, United States
ATTACH;FMTTYPE=image/jpeg:https://parentguidenews.com/wp-content/uploads/2025/12/74378dabce46a584f4021f12594914f1.jpg
GEO:40.6809288;-73.6446961
X-APPLE-STRUCTURED-LOCATION;VALUE=URI;X-ADDRESS=Environmental Education and Resiliency Center 880 Lake Dr West Hempstead NY 11552 United States;X-APPLE-RADIUS=500;X-TITLE=880 Lake Dr:geo:-73.6446961,40.6809288
END:VEVENT
BEGIN:VEVENT
DTSTART;TZID=America/New_York:20251231T100000
DTEND;TZID=America/New_York:20251231T170000
DTSTAMP:20260420T002400
CREATED:20240405T144456Z
LAST-MODIFIED:20240405T144456Z
UID:10020598-1767175200-1767200400@parentguidenews.com
SUMMARY:Story Time/ Music and Movement
DESCRIPTION:Story time- Spark children’s imagination and nurture their love for reading through monthly themed picture books and read-aloud- Every Day at 10 am and 4 pm \nMusic and Movement- Interactive class featuring puppets\, musical instruments\, and props.\n-Every day at 11am and 3 pm
URL:https://parentguidenews.com/event/story-time-music-and-movement-2/2025-12-31/
LOCATION:Westchester Children’s Museum\, 100 Playland Parkway\, Rye\, New York\, 10580
ATTACH;FMTTYPE=image/png:https://parentguidenews.com/wp-content/uploads/2024/04/Music-and-Movement.png
ORGANIZER;CN="westchester childrens museusum":MAILTO:info@discoverwcm.org
GEO:40.9642816;-73.6774881
X-APPLE-STRUCTURED-LOCATION;VALUE=URI;X-ADDRESS=Westchester Children’s Museum 100 Playland Parkway Rye New York 10580;X-APPLE-RADIUS=500;X-TITLE=100 Playland Parkway:geo:-73.6774881,40.9642816
END:VEVENT
BEGIN:VEVENT
DTSTART;TZID=America/New_York:20251231T110000
DTEND;TZID=America/New_York:20251231T111500
DTSTAMP:20260420T002400
CREATED:20231204T143851Z
LAST-MODIFIED:20231204T212500Z
UID:10012673-1767178800-1767179700@parentguidenews.com
SUMMARY:Music & Movement
DESCRIPTION:Interactive class featuring puppets\, musical instruments\, and props.
URL:https://parentguidenews.com/event/music-movement/2025-12-31/
LOCATION:Westchester Children’s Museum\, 100 Playland Parkway\, Rye\, New York\, 10580
CATEGORIES:Children,Classes for Kids,For Children,For the Family,Museums
ATTACH;FMTTYPE=image/png:https://parentguidenews.com/wp-content/uploads/2023/11/3.png
GEO:40.9642816;-73.6774881
X-APPLE-STRUCTURED-LOCATION;VALUE=URI;X-ADDRESS=Westchester Children’s Museum 100 Playland Parkway Rye New York 10580;X-APPLE-RADIUS=500;X-TITLE=100 Playland Parkway:geo:-73.6774881,40.9642816
END:VEVENT
BEGIN:VEVENT
DTSTART;TZID=America/New_York:20251231T113000
DTEND;TZID=America/New_York:20251231T170000
DTSTAMP:20260420T002400
CREATED:20231220T121312Z
LAST-MODIFIED:20231220T121312Z
UID:10014538-1767180600-1767200400@parentguidenews.com
SUMMARY:Museum Minis
DESCRIPTION:Music\, stories\, play\, and activities encourage caregiver interaction.
URL:https://parentguidenews.com/event/museum-minis-2/2025-12-31/
LOCATION:Westchester Children’s Museum\, 100 Playland Parkway\, Rye\, New York\, 10580
CATEGORIES:Children,Dance,Kids,Museums,Toddler
ATTACH;FMTTYPE=image/png:https://parentguidenews.com/wp-content/uploads/2023/12/5.png
ORGANIZER;CN="westchester childrens museusum":MAILTO:info@discoverwcm.org
GEO:40.9642816;-73.6774881
X-APPLE-STRUCTURED-LOCATION;VALUE=URI;X-ADDRESS=Westchester Children’s Museum 100 Playland Parkway Rye New York 10580;X-APPLE-RADIUS=500;X-TITLE=100 Playland Parkway:geo:-73.6774881,40.9642816
END:VEVENT
BEGIN:VEVENT
DTSTART;TZID=America/New_York:20251231T113500
DTEND;TZID=America/New_York:20251231T120500
DTSTAMP:20260420T002400
CREATED:20230124T002125Z
LAST-MODIFIED:20231102T012058Z
UID:10009688-1767180900-1767182700@parentguidenews.com
SUMMARY:Museum Minis
DESCRIPTION:Music\, movement\, stories\, play\, and fun! A special program for our youngest visitors\, held every Wednesday in Toddler Beach. \nLimited to 12 guests (plus 1 caregiver). Ages 6 months – 30 months \nFree with Museum admission\, first come first served. Sign up at admission desk.
URL:https://parentguidenews.com/event/museum-minis/2025-12-31/
LOCATION:Westchester Children’s Museum\, 100 Playland Parkway\, Rye\, New York\, 10580
CATEGORIES:Classes for Kids,Museums
ATTACH;FMTTYPE=image/jpeg:https://parentguidenews.com/wp-content/uploads/2023/01/2F70C0CC852341D9A0B57D2450BEAD0A.jpg
GEO:40.9642816;-73.6774881
X-APPLE-STRUCTURED-LOCATION;VALUE=URI;X-ADDRESS=Westchester Children’s Museum 100 Playland Parkway Rye New York 10580;X-APPLE-RADIUS=500;X-TITLE=100 Playland Parkway:geo:-73.6774881,40.9642816
END:VEVENT
END:VCALENDAR