BEGIN:VCALENDAR
VERSION:2.0
PRODID:-//PARENTGUIDENEWS - ECPv6.15.12.2//NONSGML v1.0//EN
CALSCALE:GREGORIAN
METHOD:PUBLISH
X-ORIGINAL-URL:https://parentguidenews.com
X-WR-CALDESC:Events for PARENTGUIDENEWS
REFRESH-INTERVAL;VALUE=DURATION:PT1H
X-Robots-Tag:noindex
X-PUBLISHED-TTL:PT1H
BEGIN:VTIMEZONE
TZID:America/New_York
BEGIN:DAYLIGHT
TZOFFSETFROM:-0500
TZOFFSETTO:-0400
TZNAME:EDT
DTSTART:20240310T070000
END:DAYLIGHT
BEGIN:STANDARD
TZOFFSETFROM:-0400
TZOFFSETTO:-0500
TZNAME:EST
DTSTART:20241103T060000
END:STANDARD
BEGIN:DAYLIGHT
TZOFFSETFROM:-0500
TZOFFSETTO:-0400
TZNAME:EDT
DTSTART:20250309T070000
END:DAYLIGHT
BEGIN:STANDARD
TZOFFSETFROM:-0400
TZOFFSETTO:-0500
TZNAME:EST
DTSTART:20251102T060000
END:STANDARD
BEGIN:DAYLIGHT
TZOFFSETFROM:-0500
TZOFFSETTO:-0400
TZNAME:EDT
DTSTART:20260308T070000
END:DAYLIGHT
BEGIN:STANDARD
TZOFFSETFROM:-0400
TZOFFSETTO:-0500
TZNAME:EST
DTSTART:20261101T060000
END:STANDARD
END:VTIMEZONE
BEGIN:VEVENT
DTSTART;TZID=America/New_York:20251120T170000
DTEND;TZID=America/New_York:20251224T180000
DTSTAMP:20260420T002358
CREATED:20251121T041850Z
LAST-MODIFIED:20251221T042628Z
UID:10035403-1763658000-1766599200@parentguidenews.com
SUMMARY:Art in the Garden: Garden-Gathered Light - Gratitude Candle Vessels
DESCRIPTION:Use herbs\, seeds\, and dried garden treasures to make a gratitude-filled table piece.\n\n\nWhat has rooted in you this year? What are you still calling in?\nAs the growing season settles into quiet\, we’ll gather in the greenhouse to honor all the plants that bloomed\, seeded\, and those that continue to offer their textures\, colors\, and stories\, even after a season of growth. \nIn this hands-on workshop\, you’ll create a natural and upcycled table centerpiece by creating your own gratitude candle vessel using dried and suspended botanicals sourced from the garden\, as well as your own intentions\, as a small tabletop archive of this year’s growth. \nTogether\, we’ll explore how plants can anchor our gratitude rituals: how a sprig of rosemary can hold memory\, how marigold petals can evoke protection\, how seeds can symbolize future possibility.\nBy the end\, you’ll have a finished centerpiece and gratitude candle vessel to bring home—an altar of sorts for your table\, filled with the quiet beauty of botanical materials and the warmth of your intention.\n\n\n\nYour Facilitator: Junell Banks\nJunell Banks is a creative visionary from Harlem\, who blends her passions for creative direction\, youth empowerment\, and self-love advocacy. Through her multifaceted initiatives\, she embodies a commitment to inspiring those around her to embrace their authentic selves with creativity and confidence. \n\n\n\nGrounded in the garden\, join us to critically and creatively engage in a diversity of artmaking techniques that open us up to deeper dialogue on place\, our relationships to our lived environments\, ecological concerns\, and contemporary culture. Learn meditative and mindful drawing\, printmaking and sculptural techniques\, scientific observation with plant portraiture\, nature-inspired intuitive artmaking and mixed media exploration\, and other various practices from botanical and ecologically-focused contemporary artists to create works of art to nurture your relationship to the garden.\n \nImmerse yourself in the learning garden\, greenhouse\, and across Riverbank State Park’s green roof overlooking the Hudson River to create artwork that is rooted in place and in partnership with plants.\n\n\n\nWorkshops are rain or shine. \nWhen inside the greenhouse and kitchen we will open our double-doors and windows to vent the space and encourage masking and social distancing when in more closed-in spaces. \nAccessibility: Our kitchen/classroom space is wheelchair accessible. With prior planning\, we can add a few small mats onto the pebbled ground of greenhouse to make a small wheel-chair accessible path. Our learning garden has grass paths\, and the entrance is through a gate with a small\, raised entrance. Our tables can be lowered/raised\, and we have several backless benches or stools. Our kitchen is in regular use\, and while we try to cook without peanuts\, much of our cookware is shared and we cannot guarantee a nut-free environment. We have a first aid kit\, and the closest AED is in another building several yards away. Drinking water is made available in refillable pitchers. \nOur closest bathrooms are a building away\, about a one-minute walk. A gender neutral bathroom is also available\, and this is accessible by key which you can request from staff. We are not a scent-free zone\, and because herbalism classes take place here\, cannot guarantee that the site will be clear of any essential oil smells. If you have needs not addressed here\, please reach out to Mallory Craig at mcraig@thehort.org.
URL:https://parentguidenews.com/event/art-in-the-garden-garden-gathered-light-gratitude-candle-vessels/
LOCATION:The Greenhouse and Education Center at Denny Farrell Riverbank State Park\, 679 Riverside Dr\, Greenhouse\, New York\, NY\, 10031\, United States
ATTACH;FMTTYPE=image/jpeg:https://parentguidenews.com/wp-content/uploads/2025/11/66f3b08a6c922bc8756a50bcc5123c33.jpg
GEO:40.8269525;-73.952552
X-APPLE-STRUCTURED-LOCATION;VALUE=URI;X-ADDRESS=The Greenhouse and Education Center at Denny Farrell Riverbank State Park 679 Riverside Dr Greenhouse New York NY 10031 United States;X-APPLE-RADIUS=500;X-TITLE=679 Riverside Dr\, Greenhouse:geo:-73.952552,40.8269525
END:VEVENT
BEGIN:VEVENT
DTSTART;VALUE=DATE:20251219
DTEND;VALUE=DATE:20251220
DTSTAMP:20260420T002358
CREATED:20250727T162120Z
LAST-MODIFIED:20250727T162921Z
UID:10031329-1766102400-1766188799@parentguidenews.com
SUMMARY:Gazillion Bubble Show
DESCRIPTION:More Than a Show — It’s a Global Phenomenon\n\nIt’s part science\, part spectacle\, and all sensational. Gazillion Bubble Show is the most unbubblievable show in the world! Bubble lovers of all ages are delighted with an incredibubble experience\, awashed with a bubble tide\, and perhaps even find themselves INSIDE a bubble. Mind-blowing bubble magic\, spectacular laser lighting effects\, and momentary soapy masterpieces will make you smile\, laugh\, and feel like a kid again. \n\n\n\n\n\n\n\n\n\n\n\n\n\nLocated at New World Stages Off Broadway.
URL:https://parentguidenews.com/event/gazillion-bubble-show-2/2025-12-19/
LOCATION:New World Stages\, 350 West 50 St\, New York\, NY\, United States
ATTACH;FMTTYPE=image/png:https://parentguidenews.com/wp-content/uploads/2025/07/kids-show-broadway-NYC.png
GEO:40.7629765;-73.9880576
X-APPLE-STRUCTURED-LOCATION;VALUE=URI;X-ADDRESS=New World Stages 350 West 50 St New York NY United States;X-APPLE-RADIUS=500;X-TITLE=350 West 50 St:geo:-73.9880576,40.7629765
END:VEVENT
BEGIN:VEVENT
DTSTART;TZID=America/New_York:20251219T090000
DTEND;TZID=America/New_York:20251219T103000
DTSTAMP:20260420T002358
CREATED:20251120T102151Z
LAST-MODIFIED:20251120T102151Z
UID:10035187-1766134800-1766140200@parentguidenews.com
SUMMARY:Sensory Stroll: Awaken Your Senses
DESCRIPTION:Sensory Stroll: Awaken Your Senses!\n\n\nAwaken your senses as you slow down and tune in to nature in this embodied experience with Linda Parker. You’ll be amazed at what you notice when you focus on one sense at a time. \n Meet in the Visitor Center courtyard.  \nDress comfortably and bring water to drink. In case of bad weather\, the program may be canceled or postponed; you will be notified via email by 5 pm the day before. \n Max: 15 people. Cost: $4. Parking: $6 per vehicle; NYS residents over 62 park free on weekdays. Photo courtesy of Kim Fendrich.
URL:https://parentguidenews.com/event/sensory-stroll-awaken-your-senses-2/
LOCATION:Rockefeller State Park Preserve\, 125 Phelps Way\, Pleasantville\, NY\, 10570\, United States
ATTACH;FMTTYPE=image/jpeg:https://parentguidenews.com/wp-content/uploads/2025/11/660bba13710c6848aa7f7c8460d7f014.jpg
GEO:41.1117676;-73.8370464
X-APPLE-STRUCTURED-LOCATION;VALUE=URI;X-ADDRESS=Rockefeller State Park Preserve 125 Phelps Way Pleasantville NY 10570 United States;X-APPLE-RADIUS=500;X-TITLE=125 Phelps Way:geo:-73.8370464,41.1117676
END:VEVENT
BEGIN:VEVENT
DTSTART;TZID=America/New_York:20251219T100000
DTEND;TZID=America/New_York:20251219T110000
DTSTAMP:20260420T002358
CREATED:20230829T030517Z
LAST-MODIFIED:20230829T030517Z
UID:10007946-1766138400-1766142000@parentguidenews.com
SUMMARY:Friday Storytime at the Museum
DESCRIPTION:Museum staff and other guest readers share stories\, rhymes and sing-alongs with children ages 2 to 5 years and their caregivers every Friday at 10:00 am. A $5 suggested donation is appreciated. \nLaunched in 2005 by librarian and former Museum Trustee Penny Metsch\, the program is open to all on a first-come\, first-served basis\, and children must be accompanied by a parent or guardian. \nDue to weather or staffing shortages\, the program may be canceled without advance notice. To confirm on the day of the event\, please call 201/656-2240\, or contact us at info@hobokenmuseum.org. \nTips and Guidelines for making Storytime successful: \n\nIf your child is crying or having a difficult time\, please take him or her outside so as not to disturb the others and try to come back another time.\nIf your child is not being gentle with another child\, please separate the children and make sure it doesn’t happen again.\nCell phones are fine for taking pictures of your child\, but not for talking on or texting.\nAll the adults are role models for the children. If they see you sitting and listening to the story\, they will too. If they see you talking or texting\, they won’t.\nPlease enjoy your food AFTER Storytime\, not during\, and take any cups or wrappers with you.\n\nThank you for your cooperation!
URL:https://parentguidenews.com/event/friday-storytime-at-the-museum/2025-12-19/
LOCATION:Hoboken Historical Museum\, 1301 Hudson St\, Hoboken\, NJ\, United States
CATEGORIES:Storytime
GEO:40.7521954;-74.0251241
X-APPLE-STRUCTURED-LOCATION;VALUE=URI;X-ADDRESS=Hoboken Historical Museum 1301 Hudson St Hoboken NJ United States;X-APPLE-RADIUS=500;X-TITLE=1301 Hudson St:geo:-74.0251241,40.7521954
END:VEVENT
BEGIN:VEVENT
DTSTART;TZID=America/New_York:20251219T100000
DTEND;TZID=America/New_York:20251219T120000
DTSTAMP:20260420T002358
CREATED:20251113T101956Z
LAST-MODIFIED:20251214T211859Z
UID:10034332-1766138400-1766145600@parentguidenews.com
SUMMARY:Friday Woodland Restoration Session
DESCRIPTION:(age 14+\, age 12-13 with adult) \nJoin Our Horticulture Team! \nVolunteers will reestablish existing trails\, plant native trees\, identify and remove invasives\, as well as other tasks. No experience is necessary. \nGround Force Sessions: \n\n\nFridays\, 10:30 AM – 12:30 PM \n\n\nWhat to Bring & Wear: \n\n\nLong pants\, long socks\, and sturdy closed-toe shoes \n\n\nInsect repellent\, sunscreen\, and a refillable water bottle \n\n\nRain gear if light rain is expected—we work in drizzle! \n\n\nRegistration is required to receive updates in case of cancellations or schedule changes. Please register at least 24 hours before each session. \nWe will supply gloves as well as all other tools and materials. For your safety\, all tools and gloves are washed and sanitized. Please meet at the barn in our parking lot. If the session is cancelled due to inclement weather or any other reason\, we will contact you. First-time volunteers must bring a completed Volunteer Waiver form to their first volunteer session. \n\n\n\n\n\n\nRegister here.
URL:https://parentguidenews.com/event/friday-woodland-restoration-session-33/
LOCATION:NY
CATEGORIES:Discovery Weekends
ATTACH;FMTTYPE=image/jpeg:https://parentguidenews.com/wp-content/uploads/2025/04/woodland-volunteer-photo-feat-qoRgEItmp_.jpg
END:VEVENT
BEGIN:VEVENT
DTSTART;TZID=America/New_York:20251219T100000
DTEND;TZID=America/New_York:20251219T170000
DTSTAMP:20260420T002358
CREATED:20240405T144456Z
LAST-MODIFIED:20240405T144456Z
UID:10020586-1766138400-1766163600@parentguidenews.com
SUMMARY:Story Time/ Music and Movement
DESCRIPTION:Story time- Spark children’s imagination and nurture their love for reading through monthly themed picture books and read-aloud- Every Day at 10 am and 4 pm \nMusic and Movement- Interactive class featuring puppets\, musical instruments\, and props.\n-Every day at 11am and 3 pm
URL:https://parentguidenews.com/event/story-time-music-and-movement-2/2025-12-19/
LOCATION:Westchester Children’s Museum\, 100 Playland Parkway\, Rye\, New York\, 10580
ATTACH;FMTTYPE=image/png:https://parentguidenews.com/wp-content/uploads/2024/04/Music-and-Movement.png
ORGANIZER;CN="westchester childrens museusum":MAILTO:info@discoverwcm.org
GEO:40.9642816;-73.6774881
X-APPLE-STRUCTURED-LOCATION;VALUE=URI;X-ADDRESS=Westchester Children’s Museum 100 Playland Parkway Rye New York 10580;X-APPLE-RADIUS=500;X-TITLE=100 Playland Parkway:geo:-73.6774881,40.9642816
END:VEVENT
BEGIN:VEVENT
DTSTART;TZID=America/New_York:20251219T110000
DTEND;TZID=America/New_York:20251219T111500
DTSTAMP:20260420T002358
CREATED:20231204T143851Z
LAST-MODIFIED:20231204T212500Z
UID:10012661-1766142000-1766142900@parentguidenews.com
SUMMARY:Music & Movement
DESCRIPTION:Interactive class featuring puppets\, musical instruments\, and props.
URL:https://parentguidenews.com/event/music-movement/2025-12-19/
LOCATION:Westchester Children’s Museum\, 100 Playland Parkway\, Rye\, New York\, 10580
CATEGORIES:Children,Classes for Kids,For Children,For the Family,Museums
ATTACH;FMTTYPE=image/png:https://parentguidenews.com/wp-content/uploads/2023/11/3.png
GEO:40.9642816;-73.6774881
X-APPLE-STRUCTURED-LOCATION;VALUE=URI;X-ADDRESS=Westchester Children’s Museum 100 Playland Parkway Rye New York 10580;X-APPLE-RADIUS=500;X-TITLE=100 Playland Parkway:geo:-73.6774881,40.9642816
END:VEVENT
BEGIN:VEVENT
DTSTART;TZID=America/New_York:20251219T110000
DTEND;TZID=America/New_York:20251219T160000
DTSTAMP:20260420T002358
CREATED:20251120T100729Z
LAST-MODIFIED:20251120T100729Z
UID:10035136-1766142000-1766160000@parentguidenews.com
SUMMARY:Liberty Hall Museum Tour
DESCRIPTION:Come visit us!! As we celebrate our Silver Jubilee!
URL:https://parentguidenews.com/event/liberty-hall-museum-tour-276/
LOCATION:Liberty Hall Museum\, 1003 Morris Avenue\, Union\, NJ\, 07083\, United States
ATTACH;FMTTYPE=image/jpeg:https://parentguidenews.com/wp-content/uploads/2023/03/7677a30b45003a2e5a2996e2ca91851b-jpg.webp
GEO:40.67942;-74.2282269
X-APPLE-STRUCTURED-LOCATION;VALUE=URI;X-ADDRESS=Liberty Hall Museum 1003 Morris Avenue Union NJ 07083 United States;X-APPLE-RADIUS=500;X-TITLE=1003 Morris Avenue:geo:-74.2282269,40.67942
END:VEVENT
BEGIN:VEVENT
DTSTART;TZID=America/New_York:20251219T113000
DTEND;TZID=America/New_York:20251219T170000
DTSTAMP:20260420T002358
CREATED:20231220T121312Z
LAST-MODIFIED:20231220T121312Z
UID:10014532-1766143800-1766163600@parentguidenews.com
SUMMARY:Museum Minis
DESCRIPTION:Music\, stories\, play\, and activities encourage caregiver interaction.
URL:https://parentguidenews.com/event/museum-minis-2/2025-12-19/
LOCATION:Westchester Children’s Museum\, 100 Playland Parkway\, Rye\, New York\, 10580
CATEGORIES:Children,Dance,Kids,Museums,Toddler
ATTACH;FMTTYPE=image/png:https://parentguidenews.com/wp-content/uploads/2023/12/5.png
ORGANIZER;CN="westchester childrens museusum":MAILTO:info@discoverwcm.org
GEO:40.9642816;-73.6774881
X-APPLE-STRUCTURED-LOCATION;VALUE=URI;X-ADDRESS=Westchester Children’s Museum 100 Playland Parkway Rye New York 10580;X-APPLE-RADIUS=500;X-TITLE=100 Playland Parkway:geo:-73.6774881,40.9642816
END:VEVENT
BEGIN:VEVENT
DTSTART;TZID=America/New_York:20251219T160000
DTEND;TZID=America/New_York:20251219T170000
DTSTAMP:20260420T002358
CREATED:20251113T101958Z
LAST-MODIFIED:20251217T215028Z
UID:10034333-1766160000-1766163600@parentguidenews.com
SUMMARY:Winter Solstice Celebration!
DESCRIPTION:(ages 4 and up with an adult) \nCelebrate the shortest day of the year with stories and cocoa around the campfire as we reflect on the ancient traditions surrounding the first day of winter. A wonderful opportunity to pause and regroup heading into the hectic holiday weekend. Please dress warmly\, as we will be outdoors! \nRegistration is required. Please note that the cost is per person. \nMember Price: $10 | Non-Member Price: $20 \nNotice: Due to ongoing construction for the Path for All project\, starting Monday\, August 25\, Arboretum parking will be unavailable Monday through Friday\, from 8:00 AM to 5:00 PM. Please use street parking during these hours. Handicap parking will remain available. \n 
URL:https://parentguidenews.com/event/winter-solstice-celebration/
LOCATION:NY
CATEGORIES:Classes,Kids Programs,Seasonal Programs
ATTACH;FMTTYPE=image/jpeg:https://parentguidenews.com/wp-content/uploads/2025/11/Winter-Solstice-Tree-Sunset-Photo-scaled-dx0Jhs.jpe
END:VEVENT
BEGIN:VEVENT
DTSTART;TZID=America/New_York:20251219T170000
DTEND;TZID=America/New_York:20251219T200000
DTSTAMP:20260420T002358
CREATED:20251121T173710Z
LAST-MODIFIED:20251121T173710Z
UID:10035425-1766163600-1766174400@parentguidenews.com
SUMMARY:Lumina
DESCRIPTION:At Lumina\, a magical light experience at Harvest Moon Farm & Orchard in North Salem\, visitors can stroll through a dazzling trail illuminated by over half a million lights\, where festive sights include a music-synchronized Nutcracker display and a whimsical Gingerbread City brought to life by The Sugarplops—tiny\, mischievous bakers hard at work behind glowing windows. Wander the sparkling paths with a cup of hot cider in hand\, enjoying fresh donuts\, toasty s’mores and the joyful spirit of the season.
URL:https://parentguidenews.com/event/lumina-5/
LOCATION:Harvest Moon Farm & Orchard\, 130 Hardscrabble Rd.\, North Salem\, NY\, 10560
CATEGORIES:Westchester
ATTACH;FMTTYPE=image/jpeg:https://parentguidenews.com/wp-content/uploads/2025/11/Resized-WDO04727-rY5wmW.jpe
END:VEVENT
BEGIN:VEVENT
DTSTART;TZID=America/New_York:20251219T190000
DTEND;TZID=America/New_York:20251219T210000
DTSTAMP:20260420T002358
CREATED:20251120T101323Z
LAST-MODIFIED:20251120T101323Z
UID:10035163-1766170800-1766178000@parentguidenews.com
SUMMARY:Candy Canes and Cocktails
DESCRIPTION:A Gingerbread House Decorating Workshop!
URL:https://parentguidenews.com/event/candy-canes-and-cocktails-6/
LOCATION:Liberty Hall Museum\, 1003 Morris Avenue\, Union\, NJ\, 07083\, United States
ATTACH;FMTTYPE=image/jpeg:https://parentguidenews.com/wp-content/uploads/2024/11/9c7e3fcd01243d4f8647286481f8d902.jpg
GEO:40.67942;-74.2282269
X-APPLE-STRUCTURED-LOCATION;VALUE=URI;X-ADDRESS=Liberty Hall Museum 1003 Morris Avenue Union NJ 07083 United States;X-APPLE-RADIUS=500;X-TITLE=1003 Morris Avenue:geo:-74.2282269,40.67942
END:VEVENT
END:VCALENDAR