BEGIN:VCALENDAR
VERSION:2.0
PRODID:-//PARENTGUIDENEWS - ECPv6.15.12.2//NONSGML v1.0//EN
CALSCALE:GREGORIAN
METHOD:PUBLISH
X-ORIGINAL-URL:https://parentguidenews.com
X-WR-CALDESC:Events for PARENTGUIDENEWS
REFRESH-INTERVAL;VALUE=DURATION:PT1H
X-Robots-Tag:noindex
X-PUBLISHED-TTL:PT1H
BEGIN:VTIMEZONE
TZID:America/New_York
BEGIN:DAYLIGHT
TZOFFSETFROM:-0500
TZOFFSETTO:-0400
TZNAME:EDT
DTSTART:20240310T070000
END:DAYLIGHT
BEGIN:STANDARD
TZOFFSETFROM:-0400
TZOFFSETTO:-0500
TZNAME:EST
DTSTART:20241103T060000
END:STANDARD
BEGIN:DAYLIGHT
TZOFFSETFROM:-0500
TZOFFSETTO:-0400
TZNAME:EDT
DTSTART:20250309T070000
END:DAYLIGHT
BEGIN:STANDARD
TZOFFSETFROM:-0400
TZOFFSETTO:-0500
TZNAME:EST
DTSTART:20251102T060000
END:STANDARD
BEGIN:DAYLIGHT
TZOFFSETFROM:-0500
TZOFFSETTO:-0400
TZNAME:EDT
DTSTART:20260308T070000
END:DAYLIGHT
BEGIN:STANDARD
TZOFFSETFROM:-0400
TZOFFSETTO:-0500
TZNAME:EST
DTSTART:20261101T060000
END:STANDARD
END:VTIMEZONE
BEGIN:VEVENT
DTSTART;TZID=America/New_York:20251120T170000
DTEND;TZID=America/New_York:20251224T180000
DTSTAMP:20260420T001617
CREATED:20251121T041850Z
LAST-MODIFIED:20251221T042628Z
UID:10035403-1763658000-1766599200@parentguidenews.com
SUMMARY:Art in the Garden: Garden-Gathered Light - Gratitude Candle Vessels
DESCRIPTION:Use herbs\, seeds\, and dried garden treasures to make a gratitude-filled table piece.\n\n\nWhat has rooted in you this year? What are you still calling in?\nAs the growing season settles into quiet\, we’ll gather in the greenhouse to honor all the plants that bloomed\, seeded\, and those that continue to offer their textures\, colors\, and stories\, even after a season of growth. \nIn this hands-on workshop\, you’ll create a natural and upcycled table centerpiece by creating your own gratitude candle vessel using dried and suspended botanicals sourced from the garden\, as well as your own intentions\, as a small tabletop archive of this year’s growth. \nTogether\, we’ll explore how plants can anchor our gratitude rituals: how a sprig of rosemary can hold memory\, how marigold petals can evoke protection\, how seeds can symbolize future possibility.\nBy the end\, you’ll have a finished centerpiece and gratitude candle vessel to bring home—an altar of sorts for your table\, filled with the quiet beauty of botanical materials and the warmth of your intention.\n\n\n\nYour Facilitator: Junell Banks\nJunell Banks is a creative visionary from Harlem\, who blends her passions for creative direction\, youth empowerment\, and self-love advocacy. Through her multifaceted initiatives\, she embodies a commitment to inspiring those around her to embrace their authentic selves with creativity and confidence. \n\n\n\nGrounded in the garden\, join us to critically and creatively engage in a diversity of artmaking techniques that open us up to deeper dialogue on place\, our relationships to our lived environments\, ecological concerns\, and contemporary culture. Learn meditative and mindful drawing\, printmaking and sculptural techniques\, scientific observation with plant portraiture\, nature-inspired intuitive artmaking and mixed media exploration\, and other various practices from botanical and ecologically-focused contemporary artists to create works of art to nurture your relationship to the garden.\n \nImmerse yourself in the learning garden\, greenhouse\, and across Riverbank State Park’s green roof overlooking the Hudson River to create artwork that is rooted in place and in partnership with plants.\n\n\n\nWorkshops are rain or shine. \nWhen inside the greenhouse and kitchen we will open our double-doors and windows to vent the space and encourage masking and social distancing when in more closed-in spaces. \nAccessibility: Our kitchen/classroom space is wheelchair accessible. With prior planning\, we can add a few small mats onto the pebbled ground of greenhouse to make a small wheel-chair accessible path. Our learning garden has grass paths\, and the entrance is through a gate with a small\, raised entrance. Our tables can be lowered/raised\, and we have several backless benches or stools. Our kitchen is in regular use\, and while we try to cook without peanuts\, much of our cookware is shared and we cannot guarantee a nut-free environment. We have a first aid kit\, and the closest AED is in another building several yards away. Drinking water is made available in refillable pitchers. \nOur closest bathrooms are a building away\, about a one-minute walk. A gender neutral bathroom is also available\, and this is accessible by key which you can request from staff. We are not a scent-free zone\, and because herbalism classes take place here\, cannot guarantee that the site will be clear of any essential oil smells. If you have needs not addressed here\, please reach out to Mallory Craig at mcraig@thehort.org.
URL:https://parentguidenews.com/event/art-in-the-garden-garden-gathered-light-gratitude-candle-vessels/
LOCATION:The Greenhouse and Education Center at Denny Farrell Riverbank State Park\, 679 Riverside Dr\, Greenhouse\, New York\, NY\, 10031\, United States
ATTACH;FMTTYPE=image/jpeg:https://parentguidenews.com/wp-content/uploads/2025/11/66f3b08a6c922bc8756a50bcc5123c33.jpg
GEO:40.8269525;-73.952552
X-APPLE-STRUCTURED-LOCATION;VALUE=URI;X-ADDRESS=The Greenhouse and Education Center at Denny Farrell Riverbank State Park 679 Riverside Dr Greenhouse New York NY 10031 United States;X-APPLE-RADIUS=500;X-TITLE=679 Riverside Dr\, Greenhouse:geo:-73.952552,40.8269525
END:VEVENT
BEGIN:VEVENT
DTSTART;VALUE=DATE:20251204
DTEND;VALUE=DATE:20251205
DTSTAMP:20260420T001617
CREATED:20250727T162120Z
LAST-MODIFIED:20250727T162921Z
UID:10031320-1764806400-1764892799@parentguidenews.com
SUMMARY:Gazillion Bubble Show
DESCRIPTION:More Than a Show — It’s a Global Phenomenon\n\nIt’s part science\, part spectacle\, and all sensational. Gazillion Bubble Show is the most unbubblievable show in the world! Bubble lovers of all ages are delighted with an incredibubble experience\, awashed with a bubble tide\, and perhaps even find themselves INSIDE a bubble. Mind-blowing bubble magic\, spectacular laser lighting effects\, and momentary soapy masterpieces will make you smile\, laugh\, and feel like a kid again. \n\n\n\n\n\n\n\n\n\n\n\n\n\nLocated at New World Stages Off Broadway.
URL:https://parentguidenews.com/event/gazillion-bubble-show-2/2025-12-04/
LOCATION:New World Stages\, 350 West 50 St\, New York\, NY\, United States
ATTACH;FMTTYPE=image/png:https://parentguidenews.com/wp-content/uploads/2025/07/kids-show-broadway-NYC.png
GEO:40.7629765;-73.9880576
X-APPLE-STRUCTURED-LOCATION;VALUE=URI;X-ADDRESS=New World Stages 350 West 50 St New York NY United States;X-APPLE-RADIUS=500;X-TITLE=350 West 50 St:geo:-73.9880576,40.7629765
END:VEVENT
BEGIN:VEVENT
DTSTART;VALUE=DATE:20251204
DTEND;VALUE=DATE:20251205
DTSTAMP:20260420T001617
CREATED:20251113T085222Z
LAST-MODIFIED:20251204T193454Z
UID:10034293-1764806400-1764892799@parentguidenews.com
SUMMARY:Cream Tea – SOLD OUT
DESCRIPTION:11:30 am\, 12:00 pm\, 1:00 pm\, and 2:00 pm\nYou are invited to enjoy an enchanting Cream Tea in Wisner House overlooking the Arboretum’s beautiful grounds! \nUpon arrival\, you will be offered a menu of fine teas and infusions. Your choice of tea will be brewed to perfection. Once everyone is settled in\, the tiers will arrive with freshly baked scones\, jam\, homemade clotted cream\, scrumptious sandwiches\, and a sweet treat. \nIn the last part of the service\, you’ll be offered a complimentary glass of Prosecco\, a Mimosa\, or sparkling lemonade. We hope you will join us! \nThis event is for adults and children ages 13+. Seatings are 90 minutes\, and registration is required. If you prefer Sun Porch seating\, please purchase tickets for 11:30 am or 12:00 pm. \nA 10% gratuity for your server is included in tea pricing. \nGroups larger than 8 people\, please email Richard at richard@secrettearoom.us for booking information. \nDIETARY AND SEATING REQUESTS:  Please put notes in the participant’s box on the checkout page about dietary restrictions or seating requests. If you are seated on your own\, please let us know. A gluten-free option is available with prior notice. We are not able to accommodate a dairy-free or vegan diet. In warmer weather months\, please indicate if you would prefer seating outdoors. All requests must be communicated to us 48 hours before the event. \nCANCELLATIONS: We are unable to accommodate cancellations or rescheduling.  If you find you are no longer able to attend your scheduled event\, you may transfer your ticket(s) to another person(s) to attend instead. Please notify both the Arboretum Office Manager and Secret Tea Room host listed below so we can update the ticket name(s) for event check-in. \nNotice: Due to ongoing construction for the Path for All project\, starting Monday\, August 25\, Arboretum parking will be unavailable Monday through Friday\, from 8:00 AM to 5:00 PM. Please use street parking during these hours. Handicap parking will remain available. \nArboretum Office Manager\, Marilyn\, m.foehrenbach@reeves-reedarboretum.org \nTea Room Host\, Richard\, richard@secrettearoom.us \nMember Price: $45\nNon-member Price: $50
URL:https://parentguidenews.com/event/cream-tea-16/
LOCATION:NY
CATEGORIES:Adult Programs,Cream Tea,Tea Room
ATTACH;FMTTYPE=image/jpeg:https://parentguidenews.com/wp-content/uploads/2025/11/holiday-cream-tea-red-1_001-N18dkJ.jpe
END:VEVENT
BEGIN:VEVENT
DTSTART;TZID=America/New_York:20251204T100000
DTEND;TZID=America/New_York:20251204T110000
DTSTAMP:20260420T001617
CREATED:20240309T155333Z
LAST-MODIFIED:20240309T155333Z
UID:10017705-1764842400-1764846000@parentguidenews.com
SUMMARY:Storytime at Barnes & Noble
DESCRIPTION:Join us for Storytime every Tuesday and Thursday at 10 a.m. Watch your kids as they embark on an exciting adventure with our Storytime expert. We will introduce your little one to some of your childhood favorites\, as well as read some you may have never heard before!
URL:https://parentguidenews.com/event/storytime-at-barnes-noble/2025-12-04/
LOCATION:Barnes & Noble\, 112 Eisenhower Parkway\, Livingston\, NJ\, 07039\, United States
CATEGORIES:Classes for Kids
GEO:40.7771625;-74.353982
X-APPLE-STRUCTURED-LOCATION;VALUE=URI;X-ADDRESS=Barnes & Noble 112 Eisenhower Parkway Livingston NJ 07039 United States;X-APPLE-RADIUS=500;X-TITLE=112 Eisenhower Parkway:geo:-74.353982,40.7771625
END:VEVENT
BEGIN:VEVENT
DTSTART;TZID=America/New_York:20251204T100000
DTEND;TZID=America/New_York:20251204T120000
DTSTAMP:20260420T001617
CREATED:20230829T030250Z
LAST-MODIFIED:20230829T030250Z
UID:10007541-1764842400-1764849600@parentguidenews.com
SUMMARY:Kids Art Classes at the Museum
DESCRIPTION:Join us two days a week from 10 am – 12pm for fun art-making in the Museum walkway! \nRecommended for ages 2-5. All children must be accompanied by an adult. \nArt materials are provided. Seating is available on a first-come\, first-served basis. \nA $5 suggested donation is appreciated. Ms. Lisa is excited to create some art with you!
URL:https://parentguidenews.com/event/kids-art-classes-at-the-museum/2025-12-04/
LOCATION:Hoboken Historical Museum\, 1301 Hudson St\, Hoboken\, NJ\, United States
CATEGORIES:Arts & Crafts
ATTACH;FMTTYPE=image/jpeg:https://parentguidenews.com/wp-content/uploads/2023/08/Lisa-art-class-1.jpg
GEO:40.7521954;-74.0251241
X-APPLE-STRUCTURED-LOCATION;VALUE=URI;X-ADDRESS=Hoboken Historical Museum 1301 Hudson St Hoboken NJ United States;X-APPLE-RADIUS=500;X-TITLE=1301 Hudson St:geo:-74.0251241,40.7521954
END:VEVENT
BEGIN:VEVENT
DTSTART;TZID=America/New_York:20251204T100000
DTEND;TZID=America/New_York:20251204T170000
DTSTAMP:20260420T001617
CREATED:20240405T144456Z
LAST-MODIFIED:20240405T144456Z
UID:10020571-1764842400-1764867600@parentguidenews.com
SUMMARY:Story Time/ Music and Movement
DESCRIPTION:Story time- Spark children’s imagination and nurture their love for reading through monthly themed picture books and read-aloud- Every Day at 10 am and 4 pm \nMusic and Movement- Interactive class featuring puppets\, musical instruments\, and props.\n-Every day at 11am and 3 pm
URL:https://parentguidenews.com/event/story-time-music-and-movement-2/2025-12-04/
LOCATION:Westchester Children’s Museum\, 100 Playland Parkway\, Rye\, New York\, 10580
ATTACH;FMTTYPE=image/png:https://parentguidenews.com/wp-content/uploads/2024/04/Music-and-Movement.png
ORGANIZER;CN="westchester childrens museusum":MAILTO:info@discoverwcm.org
GEO:40.9642816;-73.6774881
X-APPLE-STRUCTURED-LOCATION;VALUE=URI;X-ADDRESS=Westchester Children’s Museum 100 Playland Parkway Rye New York 10580;X-APPLE-RADIUS=500;X-TITLE=100 Playland Parkway:geo:-73.6774881,40.9642816
END:VEVENT
BEGIN:VEVENT
DTSTART;TZID=America/New_York:20251204T110000
DTEND;TZID=America/New_York:20251204T111500
DTSTAMP:20260420T001617
CREATED:20231204T143851Z
LAST-MODIFIED:20231204T212500Z
UID:10012646-1764846000-1764846900@parentguidenews.com
SUMMARY:Music & Movement
DESCRIPTION:Interactive class featuring puppets\, musical instruments\, and props.
URL:https://parentguidenews.com/event/music-movement/2025-12-04/
LOCATION:Westchester Children’s Museum\, 100 Playland Parkway\, Rye\, New York\, 10580
CATEGORIES:Children,Classes for Kids,For Children,For the Family,Museums
ATTACH;FMTTYPE=image/png:https://parentguidenews.com/wp-content/uploads/2023/11/3.png
GEO:40.9642816;-73.6774881
X-APPLE-STRUCTURED-LOCATION;VALUE=URI;X-ADDRESS=Westchester Children’s Museum 100 Playland Parkway Rye New York 10580;X-APPLE-RADIUS=500;X-TITLE=100 Playland Parkway:geo:-73.6774881,40.9642816
END:VEVENT
BEGIN:VEVENT
DTSTART;TZID=America/New_York:20251204T110000
DTEND;TZID=America/New_York:20251204T160000
DTSTAMP:20260420T001617
CREATED:20251120T100448Z
LAST-MODIFIED:20251120T100448Z
UID:10035125-1764846000-1764864000@parentguidenews.com
SUMMARY:Liberty Hall Museum Tour
DESCRIPTION:Come visit us!! As we celebrate our Silver Jubilee!
URL:https://parentguidenews.com/event/liberty-hall-museum-tour-265/
LOCATION:Liberty Hall Museum\, 1003 Morris Avenue\, Union\, NJ\, 07083\, United States
ATTACH;FMTTYPE=image/jpeg:https://parentguidenews.com/wp-content/uploads/2023/03/7677a30b45003a2e5a2996e2ca91851b-jpg.webp
GEO:40.67942;-74.2282269
X-APPLE-STRUCTURED-LOCATION;VALUE=URI;X-ADDRESS=Liberty Hall Museum 1003 Morris Avenue Union NJ 07083 United States;X-APPLE-RADIUS=500;X-TITLE=1003 Morris Avenue:geo:-74.2282269,40.67942
END:VEVENT
BEGIN:VEVENT
DTSTART;TZID=America/New_York:20251204T133000
DTEND;TZID=America/New_York:20251204T153000
DTSTAMP:20260420T001617
CREATED:20251113T085224Z
LAST-MODIFIED:20251204T193455Z
UID:10034294-1764855000-1764862200@parentguidenews.com
SUMMARY:Weekly Ground Force Session
DESCRIPTION:(age 14+\, age 12-13 with adult) \nJoin Our Horticulture Team! \nHelp maintain and enhance the beauty of our gardens and grounds all year long—spring\, summer\, fall\, and even winter! Volunteer indoors or outdoors alongside our horticulturists to support the care and upkeep of our landscape. Tasks vary by session and may include weeding\, mulching\, watering\, and more. \nGround Force Sessions: \n\n\nThrough October: Thursdays & Saturdays\, 10:00 AM – 12:00 PM \n\n\nStarting in November: Thursdays & Saturdays\, 1:30 PM – 3:30 PM \n\n\nWhat to Bring & Wear: \n\n\nLong pants\, long socks\, and sturdy closed-toe shoes \n\n\nInsect repellent\, sunscreen\, and a refillable water bottle \n\n\nRain gear if light rain is expected—we work in drizzle! \n\n\nRegistration is required to receive updates in case of cancellations or schedule changes. Please register at least 24 hours before each session. \nWe will supply gloves as well as all other tools and materials. For your safety\, all tools and gloves are washed and sanitized. Please meet at the barn in our parking lot. If the session is cancelled due to inclement weather or any other reason\, we will contact you. First-time volunteers must bring a completed Volunteer Waiver form to their first volunteer session. \n\n\n\n\n\n\nRegister here.
URL:https://parentguidenews.com/event/weekly-ground-force-session-50/
LOCATION:NY
CATEGORIES:Discovery Weekends
ATTACH;FMTTYPE=image/jpeg:https://parentguidenews.com/wp-content/uploads/2025/04/saturday-volunteers-featured_062-1Csss8tmp_.jpg
END:VEVENT
BEGIN:VEVENT
DTSTART;TZID=America/New_York:20251204T161500
DTEND;TZID=America/New_York:20251204T181500
DTSTAMP:20260420T001617
CREATED:20251120T101947Z
LAST-MODIFIED:20251120T101947Z
UID:10035178-1764864900-1764872100@parentguidenews.com
SUMMARY:Full Moon Hike: “Cold Moon"
DESCRIPTION:Join Shayla and Hailey in the Preserve after dark for a full moon hike!\n\n\nExperience the Preserve after dark! Join Shayla\, Hailey\, and Dave for a 4-mile hike on carriage roads lit by moonlight. \nWe walk at a brisk pace and there will be hills; some hiking experience is recommended. Leashed dogs are welcome. \nMeet in the Visitor Center courtyard. Please bring water and wear comfortable closed-toed shoes. \nIMPORTANT: As most private transportation providers\, such as Uber and Lyft\, will not service the Preserve location in the evening hours\, please secure your transportation arrangements accordingly. \nWe leave promptly at scheduled times. This hike takes place after the park has closed; latecomers will not be able to join after the group has departed. In the event of inclement weather\, the hike will be canceled; you will be notified at least 2 hours in advance. \nCost: $4 \nPhoto courtesy of Kim Fendrich
URL:https://parentguidenews.com/event/full-moon-hike-cold-moon-2/
LOCATION:Rockefeller State Park Preserve\, 125 Phelps Way\, Pleasantville\, NY\, 10570\, United States
ATTACH;FMTTYPE=image/jpeg:https://parentguidenews.com/wp-content/uploads/2025/11/fbe85d0a0edf3f1b6db35dc93174900b.jpg
GEO:41.1117676;-73.8370464
X-APPLE-STRUCTURED-LOCATION;VALUE=URI;X-ADDRESS=Rockefeller State Park Preserve 125 Phelps Way Pleasantville NY 10570 United States;X-APPLE-RADIUS=500;X-TITLE=125 Phelps Way:geo:-73.8370464,41.1117676
END:VEVENT
BEGIN:VEVENT
DTSTART;TZID=America/New_York:20251204T170000
DTEND;TZID=America/New_York:20251204T210000
DTSTAMP:20260420T001617
CREATED:20231005T145545Z
LAST-MODIFIED:20231005T145545Z
UID:10009500-1764867600-1764882000@parentguidenews.com
SUMMARY:Free First Thursdays
DESCRIPTION:MAM comes to life in this popular after-hours program. Join us for themed evenings with music\, live performances\, artmaking\, tours\, and more.
URL:https://parentguidenews.com/event/free-first-thursdays/2025-12-04/
LOCATION:Montclair Art Museum\, 3 South Mountain Avenue\, Montclair\, NJ\, 07042\, United States
CATEGORIES:Museums
GEO:40.8186382;-74.2242606
X-APPLE-STRUCTURED-LOCATION;VALUE=URI;X-ADDRESS=Montclair Art Museum 3 South Mountain Avenue Montclair NJ 07042 United States;X-APPLE-RADIUS=500;X-TITLE=3 South Mountain Avenue:geo:-74.2242606,40.8186382
END:VEVENT
END:VCALENDAR