BEGIN:VCALENDAR
VERSION:2.0
PRODID:-//PARENTGUIDENEWS - ECPv6.15.12.2//NONSGML v1.0//EN
CALSCALE:GREGORIAN
METHOD:PUBLISH
X-WR-CALNAME:PARENTGUIDENEWS
X-ORIGINAL-URL:https://parentguidenews.com
X-WR-CALDESC:Events for PARENTGUIDENEWS
REFRESH-INTERVAL;VALUE=DURATION:PT1H
X-Robots-Tag:noindex
X-PUBLISHED-TTL:PT1H
BEGIN:VTIMEZONE
TZID:America/New_York
BEGIN:DAYLIGHT
TZOFFSETFROM:-0500
TZOFFSETTO:-0400
TZNAME:EDT
DTSTART:20240310T070000
END:DAYLIGHT
BEGIN:STANDARD
TZOFFSETFROM:-0400
TZOFFSETTO:-0500
TZNAME:EST
DTSTART:20241103T060000
END:STANDARD
BEGIN:DAYLIGHT
TZOFFSETFROM:-0500
TZOFFSETTO:-0400
TZNAME:EDT
DTSTART:20250309T070000
END:DAYLIGHT
BEGIN:STANDARD
TZOFFSETFROM:-0400
TZOFFSETTO:-0500
TZNAME:EST
DTSTART:20251102T060000
END:STANDARD
BEGIN:DAYLIGHT
TZOFFSETFROM:-0500
TZOFFSETTO:-0400
TZNAME:EDT
DTSTART:20260308T070000
END:DAYLIGHT
BEGIN:STANDARD
TZOFFSETFROM:-0400
TZOFFSETTO:-0500
TZNAME:EST
DTSTART:20261101T060000
END:STANDARD
END:VTIMEZONE
BEGIN:VEVENT
DTSTART;TZID=America/New_York:20251120T170000
DTEND;TZID=America/New_York:20251224T180000
DTSTAMP:20260419T172236
CREATED:20251121T041850Z
LAST-MODIFIED:20251221T042628Z
UID:10035403-1763658000-1766599200@parentguidenews.com
SUMMARY:Art in the Garden: Garden-Gathered Light - Gratitude Candle Vessels
DESCRIPTION:Use herbs\, seeds\, and dried garden treasures to make a gratitude-filled table piece.\n\n\nWhat has rooted in you this year? What are you still calling in?\nAs the growing season settles into quiet\, we’ll gather in the greenhouse to honor all the plants that bloomed\, seeded\, and those that continue to offer their textures\, colors\, and stories\, even after a season of growth. \nIn this hands-on workshop\, you’ll create a natural and upcycled table centerpiece by creating your own gratitude candle vessel using dried and suspended botanicals sourced from the garden\, as well as your own intentions\, as a small tabletop archive of this year’s growth. \nTogether\, we’ll explore how plants can anchor our gratitude rituals: how a sprig of rosemary can hold memory\, how marigold petals can evoke protection\, how seeds can symbolize future possibility.\nBy the end\, you’ll have a finished centerpiece and gratitude candle vessel to bring home—an altar of sorts for your table\, filled with the quiet beauty of botanical materials and the warmth of your intention.\n\n\n\nYour Facilitator: Junell Banks\nJunell Banks is a creative visionary from Harlem\, who blends her passions for creative direction\, youth empowerment\, and self-love advocacy. Through her multifaceted initiatives\, she embodies a commitment to inspiring those around her to embrace their authentic selves with creativity and confidence. \n\n\n\nGrounded in the garden\, join us to critically and creatively engage in a diversity of artmaking techniques that open us up to deeper dialogue on place\, our relationships to our lived environments\, ecological concerns\, and contemporary culture. Learn meditative and mindful drawing\, printmaking and sculptural techniques\, scientific observation with plant portraiture\, nature-inspired intuitive artmaking and mixed media exploration\, and other various practices from botanical and ecologically-focused contemporary artists to create works of art to nurture your relationship to the garden.\n \nImmerse yourself in the learning garden\, greenhouse\, and across Riverbank State Park’s green roof overlooking the Hudson River to create artwork that is rooted in place and in partnership with plants.\n\n\n\nWorkshops are rain or shine. \nWhen inside the greenhouse and kitchen we will open our double-doors and windows to vent the space and encourage masking and social distancing when in more closed-in spaces. \nAccessibility: Our kitchen/classroom space is wheelchair accessible. With prior planning\, we can add a few small mats onto the pebbled ground of greenhouse to make a small wheel-chair accessible path. Our learning garden has grass paths\, and the entrance is through a gate with a small\, raised entrance. Our tables can be lowered/raised\, and we have several backless benches or stools. Our kitchen is in regular use\, and while we try to cook without peanuts\, much of our cookware is shared and we cannot guarantee a nut-free environment. We have a first aid kit\, and the closest AED is in another building several yards away. Drinking water is made available in refillable pitchers. \nOur closest bathrooms are a building away\, about a one-minute walk. A gender neutral bathroom is also available\, and this is accessible by key which you can request from staff. We are not a scent-free zone\, and because herbalism classes take place here\, cannot guarantee that the site will be clear of any essential oil smells. If you have needs not addressed here\, please reach out to Mallory Craig at mcraig@thehort.org.
URL:https://parentguidenews.com/event/art-in-the-garden-garden-gathered-light-gratitude-candle-vessels/
LOCATION:The Greenhouse and Education Center at Denny Farrell Riverbank State Park\, 679 Riverside Dr\, Greenhouse\, New York\, NY\, 10031\, United States
ATTACH;FMTTYPE=image/jpeg:https://parentguidenews.com/wp-content/uploads/2025/11/66f3b08a6c922bc8756a50bcc5123c33.jpg
GEO:40.8269525;-73.952552
X-APPLE-STRUCTURED-LOCATION;VALUE=URI;X-ADDRESS=The Greenhouse and Education Center at Denny Farrell Riverbank State Park 679 Riverside Dr Greenhouse New York NY 10031 United States;X-APPLE-RADIUS=500;X-TITLE=679 Riverside Dr\, Greenhouse:geo:-73.952552,40.8269525
END:VEVENT
BEGIN:VEVENT
DTSTART;VALUE=DATE:20251124
DTEND;VALUE=DATE:20251125
DTSTAMP:20260419T172236
CREATED:20251113T085150Z
LAST-MODIFIED:20251124T174739Z
UID:10034284-1763942400-1764028799@parentguidenews.com
SUMMARY:Annual Holiday Greens Online Sale
DESCRIPTION:The Reeves-Reed Arboretum Annual Holiday Greens Online Sale is officially underway! \nThis year\, we’re offering a beautiful selection of holiday wreaths\, centerpieces\, swags\, and mint julep cups to help you celebrate the season in style. Support the Arboretum and bring some festive cheer to your home with our handcrafted holiday greens. \nOnline Orders are live!  \nSale Details: \n\nOrder Deadline: December 5th\nPick-up Available Starting: November 30th @ 10:00 AM\nLimited Supplies: Be sure to place your order early!\n\nThe online sale runs through December 5\, 2025 — but supplies are limited\, so don’t wait! \nClick here to place your online order. \nPrefer to shop in person? Join us for our Holiday Open House on Sunday\, December 7th\, from 11:00 AM to 4:00 PM\, and buy your holiday greens at our on-site Holiday Greens Boutique. You’ll also find unique decorations and gifts to make your holidays even brighter! \n 
URL:https://parentguidenews.com/event/annual-holiday-greens-online-sale-2/
LOCATION:NY
CATEGORIES:Annual Events,Annual Events 2
ATTACH;FMTTYPE=image/jpeg:https://parentguidenews.com/wp-content/uploads/2025/11/holiday-greens-for-slider-revised-ZOXjlT.jpe
END:VEVENT
BEGIN:VEVENT
DTSTART;TZID=America/New_York:20251124T100000
DTEND;TZID=America/New_York:20251124T103000
DTSTAMP:20260419T172236
CREATED:20251121T043349Z
LAST-MODIFIED:20251121T043349Z
UID:10035407-1763978400-1763980200@parentguidenews.com
SUMMARY:Dancegiving! Thanksgiving Dance Party (Kids of All Ages)
DESCRIPTION:Join Ms. Ashley and Ms. Laura for a morning of turkey-tastic dancing\, full of our favorite thankful tunes!\n\n\nDancegiving! Thanksgiving Dance Party! 🕺🏿🦃\n\nFor our preschool friends of all ages!\nJoin Ms. Ashley and Ms. Laura for a special turkey-tastic morning as we dance along to our favorite thankful tunes\nWe will be dancing our hearts out for 25 minutes\, so please bring water and your best pair of dancing shoes!\nSiblings are always welcome\nPlease sign up for one “ticket” as a family and list kids’ names on the order form
URL:https://parentguidenews.com/event/dancegiving-thanksgiving-dance-party-kids-of-all-ages/
LOCATION:Denville Library\, 121 Diamond Spring Road\, Denville\, NJ\, 07834\, United States
ATTACH;FMTTYPE=image/jpeg:https://parentguidenews.com/wp-content/uploads/2025/11/87be4987442245b61218328072f818dc.jpg
GEO:40.8964961;-74.4734933
X-APPLE-STRUCTURED-LOCATION;VALUE=URI;X-ADDRESS=Denville Library 121 Diamond Spring Road Denville NJ 07834 United States;X-APPLE-RADIUS=500;X-TITLE=121 Diamond Spring Road:geo:-74.4734933,40.8964961
END:VEVENT
BEGIN:VEVENT
DTSTART;TZID=America/New_York:20251124T100000
DTEND;TZID=America/New_York:20251124T170000
DTSTAMP:20260419T172236
CREATED:20240405T144456Z
LAST-MODIFIED:20240405T144456Z
UID:10020561-1763978400-1764003600@parentguidenews.com
SUMMARY:Story Time/ Music and Movement
DESCRIPTION:Story time- Spark children’s imagination and nurture their love for reading through monthly themed picture books and read-aloud- Every Day at 10 am and 4 pm \nMusic and Movement- Interactive class featuring puppets\, musical instruments\, and props.\n-Every day at 11am and 3 pm
URL:https://parentguidenews.com/event/story-time-music-and-movement-2/2025-11-24/
LOCATION:Westchester Children’s Museum\, 100 Playland Parkway\, Rye\, New York\, 10580
ATTACH;FMTTYPE=image/png:https://parentguidenews.com/wp-content/uploads/2024/04/Music-and-Movement.png
ORGANIZER;CN="westchester childrens museusum":MAILTO:info@discoverwcm.org
GEO:40.9642816;-73.6774881
X-APPLE-STRUCTURED-LOCATION;VALUE=URI;X-ADDRESS=Westchester Children’s Museum 100 Playland Parkway Rye New York 10580;X-APPLE-RADIUS=500;X-TITLE=100 Playland Parkway:geo:-73.6774881,40.9642816
END:VEVENT
BEGIN:VEVENT
DTSTART;TZID=America/New_York:20251124T110000
DTEND;TZID=America/New_York:20251124T111500
DTSTAMP:20260419T172236
CREATED:20231204T143851Z
LAST-MODIFIED:20231204T212500Z
UID:10012636-1763982000-1763982900@parentguidenews.com
SUMMARY:Music & Movement
DESCRIPTION:Interactive class featuring puppets\, musical instruments\, and props.
URL:https://parentguidenews.com/event/music-movement/2025-11-24/
LOCATION:Westchester Children’s Museum\, 100 Playland Parkway\, Rye\, New York\, 10580
CATEGORIES:Children,Classes for Kids,For Children,For the Family,Museums
ATTACH;FMTTYPE=image/png:https://parentguidenews.com/wp-content/uploads/2023/11/3.png
GEO:40.9642816;-73.6774881
X-APPLE-STRUCTURED-LOCATION;VALUE=URI;X-ADDRESS=Westchester Children’s Museum 100 Playland Parkway Rye New York 10580;X-APPLE-RADIUS=500;X-TITLE=100 Playland Parkway:geo:-73.6774881,40.9642816
END:VEVENT
BEGIN:VEVENT
DTSTART;TZID=America/New_York:20251124T180000
DTEND;TZID=America/New_York:20251124T183000
DTSTAMP:20260419T172236
CREATED:20251121T043352Z
LAST-MODIFIED:20251121T043352Z
UID:10035408-1764007200-1764009000@parentguidenews.com
SUMMARY:Evening Storytime: Turkey Tales! (Kids of All Ages) @ Library Meeting Room
DESCRIPTION:Join Ms. Ashley and Ms. Megan for an Evening Storytime with stories and songs about some silly Thanksgiving turkeys!\n\n\nEvening Storytime: Turkey Tales! 🦃📖\nJoin Ms. Ashley and Ms. Megan for this Evening Storytime intended for kids of all ages \n\nHeld in the library’s meeting room\nWe will read fun stories about Thanksgiving and turkeys\, dance to our favorite songs\, and make a super-fun turkey craft to take home!\nSiblings are always welcome\nPlease sign up for one “ticket” as a family and list kids’ names on the order form
URL:https://parentguidenews.com/event/evening-storytime-turkey-tales-kids-of-all-ages-library-meeting-room/
LOCATION:Denville Library\, 121 Diamond Spring Road\, Denville\, NJ\, 07834\, United States
ATTACH;FMTTYPE=image/jpeg:https://parentguidenews.com/wp-content/uploads/2025/11/cf5766db2d9837f3b6345497d05e10f0.jpg
GEO:40.8964961;-74.4734933
X-APPLE-STRUCTURED-LOCATION;VALUE=URI;X-ADDRESS=Denville Library 121 Diamond Spring Road Denville NJ 07834 United States;X-APPLE-RADIUS=500;X-TITLE=121 Diamond Spring Road:geo:-74.4734933,40.8964961
END:VEVENT
END:VCALENDAR