BEGIN:VCALENDAR
VERSION:2.0
PRODID:-//PARENTGUIDENEWS - ECPv6.15.12.2//NONSGML v1.0//EN
CALSCALE:GREGORIAN
METHOD:PUBLISH
X-WR-CALNAME:PARENTGUIDENEWS
X-ORIGINAL-URL:https://parentguidenews.com
X-WR-CALDESC:Events for PARENTGUIDENEWS
REFRESH-INTERVAL;VALUE=DURATION:PT1H
X-Robots-Tag:noindex
X-PUBLISHED-TTL:PT1H
BEGIN:VTIMEZONE
TZID:America/New_York
BEGIN:DAYLIGHT
TZOFFSETFROM:-0500
TZOFFSETTO:-0400
TZNAME:EDT
DTSTART:20240310T070000
END:DAYLIGHT
BEGIN:STANDARD
TZOFFSETFROM:-0400
TZOFFSETTO:-0500
TZNAME:EST
DTSTART:20241103T060000
END:STANDARD
BEGIN:DAYLIGHT
TZOFFSETFROM:-0500
TZOFFSETTO:-0400
TZNAME:EDT
DTSTART:20250309T070000
END:DAYLIGHT
BEGIN:STANDARD
TZOFFSETFROM:-0400
TZOFFSETTO:-0500
TZNAME:EST
DTSTART:20251102T060000
END:STANDARD
BEGIN:DAYLIGHT
TZOFFSETFROM:-0500
TZOFFSETTO:-0400
TZNAME:EDT
DTSTART:20260308T070000
END:DAYLIGHT
BEGIN:STANDARD
TZOFFSETFROM:-0400
TZOFFSETTO:-0500
TZNAME:EST
DTSTART:20261101T060000
END:STANDARD
END:VTIMEZONE
BEGIN:VEVENT
DTSTART;VALUE=DATE:20250914
DTEND;VALUE=DATE:20250915
DTSTAMP:20260420T040406
CREATED:20250727T162120Z
LAST-MODIFIED:20250727T162921Z
UID:10031275-1757808000-1757894399@parentguidenews.com
SUMMARY:Gazillion Bubble Show
DESCRIPTION:More Than a Show — It’s a Global Phenomenon\n\nIt’s part science\, part spectacle\, and all sensational. Gazillion Bubble Show is the most unbubblievable show in the world! Bubble lovers of all ages are delighted with an incredibubble experience\, awashed with a bubble tide\, and perhaps even find themselves INSIDE a bubble. Mind-blowing bubble magic\, spectacular laser lighting effects\, and momentary soapy masterpieces will make you smile\, laugh\, and feel like a kid again. \n\n\n\n\n\n\n\n\n\n\n\n\n\nLocated at New World Stages Off Broadway.
URL:https://parentguidenews.com/event/gazillion-bubble-show-2/2025-09-14/
LOCATION:New World Stages\, 350 West 50 St\, New York\, NY\, United States
ATTACH;FMTTYPE=image/png:https://parentguidenews.com/wp-content/uploads/2025/07/kids-show-broadway-NYC.png
GEO:40.7629765;-73.9880576
X-APPLE-STRUCTURED-LOCATION;VALUE=URI;X-ADDRESS=New World Stages 350 West 50 St New York NY United States;X-APPLE-RADIUS=500;X-TITLE=350 West 50 St:geo:-73.9880576,40.7629765
END:VEVENT
BEGIN:VEVENT
DTSTART;TZID=America/New_York:20250914T093000
DTEND;TZID=America/New_York:20250914T120000
DTSTAMP:20260420T040406
CREATED:20250625T220027Z
LAST-MODIFIED:20250824T021914Z
UID:10029048-1757842200-1757851200@parentguidenews.com
SUMMARY:Forest Bathing Mini-Retreat
DESCRIPTION:(for adults) \nForest Bathing\, also known as Nature and Forest Therapy\, is a slow meditative walk in nature that takes a holistic view of the physiological\, mental\, emotional\, and psycho-spiritual benefits to be derived from an embodied contact with nature and aims to engage humans through their senses\, not their intellects. Forest Bathing can be viewed as an effective strategy to maintain and boost immune strength in human beings. \nEnjoy this spiritually and emotionally enriching experience on the beautiful grounds of Reeves-Reed Arboretum. Rich Collins will be the guide for this wonderful morning in nature. \nA few tips from Rich to make your walk more comfortable: \n\nThe walk will last for about 2.5 hours.\nWe will be moving slowly and using our senses to connect with nature so this will not be an athletic walk.\nPlease dress in layers so you can be comfortable with temperature changes.\nIf you wish\, you can bring sunscreen\, bug spray\, and/or water.\nRich will provide small mats to use when sitting.\n\nRich Collins is a Certified Guide for the Association of Nature and Forest Therapy Guides and Programs (ANFT)\, based in Morristown & Barnegat Light\, New Jersey.  His company\, Friendly Territory\, specializes in Nature & Forest Therapy walks and retreats. He is a husband\, proud father and grandfather\, entrepreneur\, and daily meditator.  \nMember Price: $25 | Non-Member Price: $35
URL:https://parentguidenews.com/event/forest-bathing-mini-retreat-6/
CATEGORIES:Adult Programs,Classes,Wellness
ATTACH;FMTTYPE=image/jpeg:https://parentguidenews.com/wp-content/uploads/2025/02/forest-bathing-featured_007-AXSL6ytmp_.jpg
END:VEVENT
BEGIN:VEVENT
DTSTART;TZID=America/New_York:20250914T100000
DTEND;TZID=America/New_York:20250914T160000
DTSTAMP:20260420T040406
CREATED:20250625T220029Z
LAST-MODIFIED:20250824T021915Z
UID:10029049-1757844000-1757865600@parentguidenews.com
SUMMARY:Nature’s Tapestry
DESCRIPTION:Nature’s Tapestry Improvisational Quilts by Carolyn McKibbin \nReeves-Reed Arboretum is pleased to announce our latest art exhibition\, Nature’s Tapestry—a vibrant collection of improvisational quilts by local artist Carolyn McKibbin. In addition to wall-hung works\, the exhibition features functional quilted pieces\, including wearables\, pillows\, and clothing. \nMcKibbin’s quilts capture the beauty of nature through organic forms\, earthy textures\, and seasonal hues. From abstract patterns to botanical inspirations\, Nature’s Tapestry reimagines traditional quilting as a celebration of the garden. Many of the works are created using repurposed and reclaimed materials\, showcasing the sustainable potential of quilting as an art form. \nAbout the ArtistCarolyn McKibbin is an improv quilter and Summit resident. A former member of the Summit Garden Club and a seasonal gardener at Reeves-Reed Arboretum\, her own garden was featured on the Spring 2024 Summit Garden Tour. Organic shapes and bold colors are signature elements in both her quilts and her gardens. In 2023\, her fine art quilt Mojo was selected to compete at QuiltCon in Atlanta—the world’s premier modern quilt show. \n Instagram\n@quiltergardener. \nExhibition DatesJune 7 – October 31\, 2025 \nAll works are available for purchase. The artist has generously pledged to donate 30% of each sale to Reeves-Reed Arboretum. \nGallery HoursTuesday through Sunday\, 10 AM – 4 PM(Closed during private events. Click here to confirm gallery hours.) \nQuestions about this exhibition can be directed to Arboretum Office Manager Marilyn Foehrenbach at m.foehrenbach@reeves-reedarboretum.org.
URL:https://parentguidenews.com/event/natures-tapestry-15/
CATEGORIES:Art Exhibits
ATTACH;FMTTYPE=image/jpeg:https://parentguidenews.com/wp-content/uploads/2025/06/Mom-Jeans_Carolyn-McKibbin-LagXBK.jpe
END:VEVENT
BEGIN:VEVENT
DTSTART;TZID=America/New_York:20250914T100000
DTEND;TZID=America/New_York:20250914T170000
DTSTAMP:20260420T040406
CREATED:20240405T144456Z
LAST-MODIFIED:20240405T144456Z
UID:10020490-1757844000-1757869200@parentguidenews.com
SUMMARY:Story Time/ Music and Movement
DESCRIPTION:Story time- Spark children’s imagination and nurture their love for reading through monthly themed picture books and read-aloud- Every Day at 10 am and 4 pm \nMusic and Movement- Interactive class featuring puppets\, musical instruments\, and props.\n-Every day at 11am and 3 pm
URL:https://parentguidenews.com/event/story-time-music-and-movement-2/2025-09-14/
LOCATION:Westchester Children’s Museum\, 100 Playland Parkway\, Rye\, New York\, 10580
ATTACH;FMTTYPE=image/png:https://parentguidenews.com/wp-content/uploads/2024/04/Music-and-Movement.png
ORGANIZER;CN="westchester childrens museusum":MAILTO:info@discoverwcm.org
GEO:40.9642816;-73.6774881
X-APPLE-STRUCTURED-LOCATION;VALUE=URI;X-ADDRESS=Westchester Children’s Museum 100 Playland Parkway Rye New York 10580;X-APPLE-RADIUS=500;X-TITLE=100 Playland Parkway:geo:-73.6774881,40.9642816
END:VEVENT
BEGIN:VEVENT
DTSTART;TZID=America/New_York:20250914T110000
DTEND;TZID=America/New_York:20250914T111500
DTSTAMP:20260420T040406
CREATED:20231204T143851Z
LAST-MODIFIED:20231204T212500Z
UID:10012565-1757847600-1757848500@parentguidenews.com
SUMMARY:Music & Movement
DESCRIPTION:Interactive class featuring puppets\, musical instruments\, and props.
URL:https://parentguidenews.com/event/music-movement/2025-09-14/
LOCATION:Westchester Children’s Museum\, 100 Playland Parkway\, Rye\, New York\, 10580
CATEGORIES:Children,Classes for Kids,For Children,For the Family,Museums
ATTACH;FMTTYPE=image/png:https://parentguidenews.com/wp-content/uploads/2023/11/3.png
GEO:40.9642816;-73.6774881
X-APPLE-STRUCTURED-LOCATION;VALUE=URI;X-ADDRESS=Westchester Children’s Museum 100 Playland Parkway Rye New York 10580;X-APPLE-RADIUS=500;X-TITLE=100 Playland Parkway:geo:-73.6774881,40.9642816
END:VEVENT
BEGIN:VEVENT
DTSTART;TZID=America/New_York:20250914T113000
DTEND;TZID=America/New_York:20250914T170000
DTSTAMP:20260420T040406
CREATED:20231220T121312Z
LAST-MODIFIED:20231220T121312Z
UID:10014484-1757849400-1757869200@parentguidenews.com
SUMMARY:Museum Minis
DESCRIPTION:Music\, stories\, play\, and activities encourage caregiver interaction.
URL:https://parentguidenews.com/event/museum-minis-2/2025-09-14/
LOCATION:Westchester Children’s Museum\, 100 Playland Parkway\, Rye\, New York\, 10580
CATEGORIES:Children,Dance,Kids,Museums,Toddler
ATTACH;FMTTYPE=image/png:https://parentguidenews.com/wp-content/uploads/2023/12/5.png
ORGANIZER;CN="westchester childrens museusum":MAILTO:info@discoverwcm.org
GEO:40.9642816;-73.6774881
X-APPLE-STRUCTURED-LOCATION;VALUE=URI;X-ADDRESS=Westchester Children’s Museum 100 Playland Parkway Rye New York 10580;X-APPLE-RADIUS=500;X-TITLE=100 Playland Parkway:geo:-73.6774881,40.9642816
END:VEVENT
BEGIN:VEVENT
DTSTART;TZID=America/New_York:20250914T180000
DTEND;TZID=America/New_York:20250914T213000
DTSTAMP:20260420T040406
CREATED:20240715T211251Z
LAST-MODIFIED:20240715T211251Z
UID:10023487-1757872800-1757885400@parentguidenews.com
SUMMARY:SpookyFest
DESCRIPTION:The scare is back! Spookyfest 2024 features a VERY scary haunted woods. For the younger set\, Spookyfest offers an Enchanted Walk with the new Mystical Garden\, a beautiful\, fanciful place. Kids will also enjoy Face Painting\, The Glow Tent\, Fortune Telling\, Crafts and more! Meet friendly characters\, and take lots of pictures. Music will fill the night for everyone to enjoy! Kids will get lots of surprises. All Fridays\, Saturdays and Sundays in October 6-9:30. Get tickets at CSTL.org. Center for Science is a non-profit organization and all proceeds from Spookyfest go to the mission of science education and to the care of our rescued animals. For more information go to CSTL.org or call 516-764-0045
URL:https://parentguidenews.com/event/spookyfest/2025-09-14/
LOCATION:Center for Science Teaching & Learning\, 1450 Tanglewood Road\, Rockville Centre\, NY\, 11570
CATEGORIES:Festivals & Fairs,Halloween,Kids & Family
ATTACH;FMTTYPE=image/jpeg:https://parentguidenews.com/wp-content/uploads/2024/07/Scary-dino.jpg
ORGANIZER;CN="Center for Science Teaching &amp%3B Learning":MAILTO:brandon@cstl.org
GEO:40.6649396;-73.6586153
X-APPLE-STRUCTURED-LOCATION;VALUE=URI;X-ADDRESS=Center for Science Teaching & Learning 1450 Tanglewood Road Rockville Centre NY 11570;X-APPLE-RADIUS=500;X-TITLE=1450 Tanglewood Road:geo:-73.6586153,40.6649396
END:VEVENT
BEGIN:VEVENT
DTSTART;TZID=America/New_York:20250914T180000
DTEND;TZID=America/New_York:20250914T213000
DTSTAMP:20260420T040406
CREATED:20240904T170905Z
LAST-MODIFIED:20240904T170905Z
UID:10024360-1757872800-1757885400@parentguidenews.com
SUMMARY:Spooky Fest
DESCRIPTION:The scare is back with new family friendly attractions at Spooky Fest 2024 presented by The Center for Science. Experience jump scares with zombies and scary monsters along the quarter-mile Haunted Woods Walk. Watch out for the flesh-eating dinosaurs as well. Children can explore the new Mystic Garden in the enchanted walk area for a magical experience. Friendly Halloween monsters and characters share candy\, stickers and pose for photos. Open every weekend in October at Tanglewood Preserve Rockville Centre\, NY. Unforgettable scares and family friendly fun\, including glow-in-the-dark slime\, fortune tellers and music every night. The Center for Science is a nonprofit organization; Spooky Fest is the organization’s largest fundraising event of the year. Tickets can be purchased in advance at www.cstl.org \nhttps://www.youtube.com/watch?v=7PhevZqKM_k
URL:https://parentguidenews.com/event/spooky-fest-2/2025-09-14/
LOCATION:Center for Science Teaching & Learning\, 1450 Tanglewood Road\, Rockville Centre\, NY\, 11570
CATEGORIES:Family,Family Friendly,Festivals,For Children,For Everyone,For the Family
ATTACH;FMTTYPE=image/png:https://parentguidenews.com/wp-content/uploads/2024/08/cstl-logo.png
ORGANIZER;CN="Center for Science Teaching &amp%3B Learning":MAILTO:brandon@cstl.org
GEO:40.6649396;-73.6586153
X-APPLE-STRUCTURED-LOCATION;VALUE=URI;X-ADDRESS=Center for Science Teaching & Learning 1450 Tanglewood Road Rockville Centre NY 11570;X-APPLE-RADIUS=500;X-TITLE=1450 Tanglewood Road:geo:-73.6586153,40.6649396
END:VEVENT
END:VCALENDAR