BEGIN:VCALENDAR
VERSION:2.0
PRODID:-//PARENTGUIDENEWS - ECPv6.15.12.2//NONSGML v1.0//EN
CALSCALE:GREGORIAN
METHOD:PUBLISH
X-ORIGINAL-URL:https://parentguidenews.com
X-WR-CALDESC:Events for PARENTGUIDENEWS
REFRESH-INTERVAL;VALUE=DURATION:PT1H
X-Robots-Tag:noindex
X-PUBLISHED-TTL:PT1H
BEGIN:VTIMEZONE
TZID:America/New_York
BEGIN:DAYLIGHT
TZOFFSETFROM:-0500
TZOFFSETTO:-0400
TZNAME:EDT
DTSTART:20230312T070000
END:DAYLIGHT
BEGIN:STANDARD
TZOFFSETFROM:-0400
TZOFFSETTO:-0500
TZNAME:EST
DTSTART:20231105T060000
END:STANDARD
BEGIN:DAYLIGHT
TZOFFSETFROM:-0500
TZOFFSETTO:-0400
TZNAME:EDT
DTSTART:20240310T070000
END:DAYLIGHT
BEGIN:STANDARD
TZOFFSETFROM:-0400
TZOFFSETTO:-0500
TZNAME:EST
DTSTART:20241103T060000
END:STANDARD
BEGIN:DAYLIGHT
TZOFFSETFROM:-0500
TZOFFSETTO:-0400
TZNAME:EDT
DTSTART:20250309T070000
END:DAYLIGHT
BEGIN:STANDARD
TZOFFSETFROM:-0400
TZOFFSETTO:-0500
TZNAME:EST
DTSTART:20251102T060000
END:STANDARD
END:VTIMEZONE
BEGIN:VEVENT
DTSTART;VALUE=DATE:20240601
DTEND;VALUE=DATE:20240701
DTSTAMP:20260419T220136
CREATED:20240619T191240Z
LAST-MODIFIED:20240619T191240Z
UID:10023042-1717200000-1719791999@parentguidenews.com
SUMMARY:Streaming in June: TADA! Youth Theater’s Common Ground
DESCRIPTION:TADA! Youth Theater\, a unique Drama Desk award-winning nonprofit youth theater\, presents a virtual event to watch its most recent production via online streaming. TADA!’s first two act musical and world premiere of Common Ground is available now through June 30\, 2024 for your viewing pleasure at home (or anywhere you like)! \nThis 90 minute musical\, performed by a diverse cast of talented young actors\, ages 11-18\, is recommended for ages 11 and up. This production contains mature language and flashing lights.  \nFor more information and to purchase tickets: https://tadayouththeater.anywhereseat.com/channel.php\nTickets cost $10 for two views. \nSynopsis: America is a story that we keep telling. Until it comes true. It’s 2018. Immigration crackdowns. Family separation. Life is scary for immigrants in the U.S. But 15-year-old Ysabella Martinez hits town with stars in her eyes\, ready to conquer New York and win fame and fortune as an influencer. She joins an after school program for fellow immigrants from all over the world\, finds a prickly new best friend in NYC-born Emma\, and begins to build her new life. But when ICE detains her and her family\, she and her new friends discover that America is nothing like they thought it was.  \nPerformances took place at TADA! Theater from April 20th through May 11th and were presented by talented members of the Resident Youth Ensemble of TADA! (RYET). The young actors showcase the rich diversity of New York City.  They come from various neighborhoods and boroughs of New York City\, encompassing different economic\, racial\, ethnic\, and cultural backgrounds\, as well as diverse abilities and members of the LGBTQIA+ community.
URL:https://parentguidenews.com/event/streaming-in-june-tada-youth-theaters-common-ground/
LOCATION:Virtual (Online)
CATEGORIES:performance
ORGANIZER;CN="TADA!":MAILTO:education@tadatheater.com
END:VEVENT
BEGIN:VEVENT
DTSTART;TZID=America/New_York:20240620T060000
DTEND;TZID=America/New_York:20240707T000000
DTSTAMP:20260419T220136
CREATED:20240521T141544Z
LAST-MODIFIED:20240521T141544Z
UID:10023023-1718863200-1720310400@parentguidenews.com
SUMMARY:State Fair Meadowlands
DESCRIPTION:The State Fair Meadowlands is dedicated to providing the best value in family entertainment. With over 100 rides\, free shows\, and 50 food options\, our Fair has something for all ages. Come check out New Jersey’s largest event from June 20 through July 7 – you won’t want to miss out!
URL:https://parentguidenews.com/event/state-fair-meadowlands-2/
LOCATION:NY
CATEGORIES:Family Friendly
END:VEVENT
BEGIN:VEVENT
DTSTART;VALUE=DATE:20240626
DTEND;VALUE=DATE:20240701
DTSTAMP:20260419T220136
CREATED:20240619T191249Z
LAST-MODIFIED:20240619T191249Z
UID:10023043-1719360000-1719791999@parentguidenews.com
SUMMARY:Hicksville Summer Carnival at Broadway Commons
DESCRIPTION:Experience the sights\, sounds and aromas of the electrifying midway with rides and games for all ages and tasty carnival eats. \nAdmission and parking are free. Unlimited ride wristbands (for riders 36″ & taller) are $42 on site ($2 cash discount) while supplies last\, or online before 5 pm June 26 for $29 each\, 2/$55 or 4/$99. \nRide tickets are $1.50 each\, $32/20 tickets\, or $62/50 tickets plus 1 free ride. ($2 cash discount. Rides take 2 or more tickets each.) Online pre-sale special: $45/50 tickets + 1 free ride \nVisit the website for coupon savings on rides and food and event updates. \nMidway hours: 5-10 pm Wednesday – Thursday\, 5-11 pm Friday\, noon-11 pm Saturday\, noon-10 pm Sunday. Guests under age 21 must be accompanied by a parent or guardian age 21+. \nFor additional information\, call 866-666-3247.
URL:https://parentguidenews.com/event/hicksville-summer-carnival-at-broadway-commons-2/
LOCATION:Broadway Commons\, 358 North Broadway\, Hicksville\, NY\, 11801\, United States
CATEGORIES:Family Friendly,Festivals
ATTACH;FMTTYPE=image/jpeg:https://parentguidenews.com/wp-content/uploads/2024/06/Dreamland-Largo-rides-970x770-1.jpg
GEO:40.7739924;-73.5328717
X-APPLE-STRUCTURED-LOCATION;VALUE=URI;X-ADDRESS=Broadway Commons 358 North Broadway Hicksville NY 11801 United States;X-APPLE-RADIUS=500;X-TITLE=358 North Broadway:geo:-73.5328717,40.7739924
END:VEVENT
BEGIN:VEVENT
DTSTART;VALUE=DATE:20240628
DTEND;VALUE=DATE:20240715
DTSTAMP:20260419T220136
CREATED:20240619T191256Z
LAST-MODIFIED:20240619T191256Z
UID:10023045-1719532800-1721001599@parentguidenews.com
SUMMARY:Empire State Fair
DESCRIPTION:Enjoy family entertainment including four nights of dazzling Fireworks by Grucci\, exciting midway rides for all ages\, and tantalizing carnival cuisine. \nIncluded with fair admission: Pirates of the Colombian Caribbean thrill show\, Anastasini Circus\, Big Bee Transforming Robot Car\, an educational petting zoo\, interactive Kidbucks Game Show\, and fireworks displays on June 28\, the 4th of July\, July 6 and July 13. \nAdmission: $10 (free for kids under 36″ tall). Parking is free. \nUnlimited ride wristbands (for riders 36″ & taller) are $40 on site\, or online before 5 pm June 28 for $29\, 2/$55 or 4/$99. \nRide tickets are $1.50 each\, $30/20 tickets\, or $60/50 tickets plus 1 free ride. (Rides take 2+ tickets each.) Online pre-sale special: $45/50 tickets + 1 free ride \nFair hours: 5-11 pm weekdays and noon-11 pm Saturdays\, Sundays and July 4-5. Guests under age 21 must be accompanied by a parent or guardian age 21+. \nFor more information\, call 866-666-3247.
URL:https://parentguidenews.com/event/empire-state-fair-2/
LOCATION:Nassau Coliseum\, 1255 Hempstead Turnpike\, Uniondale\, NY\, 11553\, United States
CATEGORIES:Festivals & Fairs
ATTACH;FMTTYPE=image/jpeg:https://parentguidenews.com/wp-content/uploads/2024/06/Dreamland-Wacky-Worm-1050x750-7x5-1.jpg
GEO:40.7228919;-73.5905136
X-APPLE-STRUCTURED-LOCATION;VALUE=URI;X-ADDRESS=Nassau Coliseum 1255 Hempstead Turnpike Uniondale NY 11553 United States;X-APPLE-RADIUS=500;X-TITLE=1255 Hempstead Turnpike:geo:-73.5905136,40.7228919
END:VEVENT
BEGIN:VEVENT
DTSTART;TZID=America/New_York:20240629T083000
DTEND;TZID=America/New_York:20240629T133000
DTSTAMP:20260419T220136
CREATED:20240426T200921Z
LAST-MODIFIED:20240625T001009Z
UID:10022656-1719649800-1719667800@parentguidenews.com
SUMMARY:TaSH Farmers Market
DESCRIPTION:Stop by TaSH\, Tarrytown’s and Sleepy Hollow’s weekly farmers market\, for fresh Hudson Valley produce\, meat\, bread\, cut flowers\, dairy products\, preserves\, wine\, and beer. There are weekly live music performances\, children’s events as well as ongoing educational activities and programs. Don’t miss the weekly free samplings! Well behaved dogs are welcome\, provided your pooch is leashed (reward that well behaved pooch at Fi-Dough dog treats!). \nRegular vendors include Majestic Farm\, Wave Hill Breads\, Mead Orchards\, Cooperstown Cheese\, Warwick Valley Winery & Distillery\, Broken Bow Brewery and Soup Farms maple products. \nSaturdays\, 8:30 am to 1:30 pm rain or shine.
URL:https://parentguidenews.com/event/tash-farmers-market-13/
LOCATION:Patriots Park\, Patriots Park\, Tarrytown\, NY\, 10591\, United States
CATEGORIES:Family,Markets,Outdoors
ATTACH;FMTTYPE=image/jpeg:https://parentguidenews.com/wp-content/uploads/2023/09/berry-brook-farm-scaled-OcK985.tmp_.jpg
ORGANIZER;CN="Rivertowns Village Green%2C Inc.":MAILTO:info@tashfarmersmarket.org
GEO:41.0817462;-73.858794
X-APPLE-STRUCTURED-LOCATION;VALUE=URI;X-ADDRESS=Patriots Park Patriots Park Tarrytown NY 10591 United States;X-APPLE-RADIUS=500;X-TITLE=Patriots Park:geo:-73.858794,41.0817462
END:VEVENT
BEGIN:VEVENT
DTSTART;TZID=America/New_York:20240629T100000
DTEND;TZID=America/New_York:20240629T170000
DTSTAMP:20260419T220136
CREATED:20240405T144456Z
LAST-MODIFIED:20240405T144456Z
UID:10020048-1719655200-1719680400@parentguidenews.com
SUMMARY:Story Time/ Music and Movement
DESCRIPTION:Story time- Spark children’s imagination and nurture their love for reading through monthly themed picture books and read-aloud- Every Day at 10 am and 4 pm \nMusic and Movement- Interactive class featuring puppets\, musical instruments\, and props.\n-Every day at 11am and 3 pm
URL:https://parentguidenews.com/event/story-time-music-and-movement-2/2024-06-29/
LOCATION:Westchester Children’s Museum\, 100 Playland Parkway\, Rye\, New York\, 10580
ATTACH;FMTTYPE=image/png:https://parentguidenews.com/wp-content/uploads/2024/04/Music-and-Movement.png
ORGANIZER;CN="westchester childrens museusum":MAILTO:info@discoverwcm.org
GEO:40.9642816;-73.6774881
X-APPLE-STRUCTURED-LOCATION;VALUE=URI;X-ADDRESS=Westchester Children’s Museum 100 Playland Parkway Rye New York 10580;X-APPLE-RADIUS=500;X-TITLE=100 Playland Parkway:geo:-73.6774881,40.9642816
END:VEVENT
BEGIN:VEVENT
DTSTART;TZID=America/New_York:20240629T110000
DTEND;TZID=America/New_York:20240629T111500
DTSTAMP:20260419T220136
CREATED:20231204T143851Z
LAST-MODIFIED:20231204T212500Z
UID:10012123-1719658800-1719659700@parentguidenews.com
SUMMARY:Music & Movement
DESCRIPTION:Interactive class featuring puppets\, musical instruments\, and props.
URL:https://parentguidenews.com/event/music-movement/2024-06-29/
LOCATION:Westchester Children’s Museum\, 100 Playland Parkway\, Rye\, New York\, 10580
CATEGORIES:Children,Classes for Kids,For Children,For the Family,Museums
ATTACH;FMTTYPE=image/png:https://parentguidenews.com/wp-content/uploads/2023/11/3.png
GEO:40.9642816;-73.6774881
X-APPLE-STRUCTURED-LOCATION;VALUE=URI;X-ADDRESS=Westchester Children’s Museum 100 Playland Parkway Rye New York 10580;X-APPLE-RADIUS=500;X-TITLE=100 Playland Parkway:geo:-73.6774881,40.9642816
END:VEVENT
BEGIN:VEVENT
DTSTART;TZID=America/New_York:20240629T110000
DTEND;TZID=America/New_York:20240629T120000
DTSTAMP:20260419T220136
CREATED:20230818T232618Z
LAST-MODIFIED:20230818T232618Z
UID:10006816-1719658800-1719662400@parentguidenews.com
SUMMARY:Story Hour at Sugar Hill Museum
DESCRIPTION:
URL:https://parentguidenews.com/event/story-hour-at-sugar-hill-museum/2024-06-29/
LOCATION:Sugar Hill Museum\, 898 St. Nicholas Avenue @ 155th Street\, New York\, NY\, 10032\, United States
ATTACH;FMTTYPE=image/jpeg:https://parentguidenews.com/wp-content/uploads/2023/08/sugarHill-storiesntehStoop-frame-updatedImage-v2.jpeg
GEO:40.8303403;-73.9410448
X-APPLE-STRUCTURED-LOCATION;VALUE=URI;X-ADDRESS=Sugar Hill Museum 898 St. Nicholas Avenue @ 155th Street New York NY 10032 United States;X-APPLE-RADIUS=500;X-TITLE=898 St. Nicholas Avenue @ 155th Street:geo:-73.9410448,40.8303403
END:VEVENT
BEGIN:VEVENT
DTSTART;TZID=America/New_York:20240629T110000
DTEND;TZID=America/New_York:20240629T160000
DTSTAMP:20260419T220136
CREATED:20231113T165807Z
LAST-MODIFIED:20231116T203910Z
UID:10011567-1719658800-1719676800@parentguidenews.com
SUMMARY:Walk-in Workshop: Purple Collage
DESCRIPTION:What could you make if you only could use purple materials?  You’ll get a chance to see in our Walk-in! Workshop in November. We’ll be making vibrant abstract art only in shades of purple in honor of Alzheimer’s Awareness Month. Come and join this fun challenge!
URL:https://parentguidenews.com/event/walk-in-workshop-purple-collage/2024-06-29/
LOCATION:Staten Island Children’s Museum\, 1000 Richmond Terrace\, Building M\, Staten Island\, NY\, 10301\, United States
CATEGORIES:art,Art-Making,crafts
ATTACH;FMTTYPE=image/png:https://parentguidenews.com/wp-content/uploads/2023/11/Purple-Collage-Rhombus-MGQewx.tmp_.png
GEO:40.6445604;-74.1027528
X-APPLE-STRUCTURED-LOCATION;VALUE=URI;X-ADDRESS=Staten Island Children’s Museum 1000 Richmond Terrace Building M Staten Island NY 10301 United States;X-APPLE-RADIUS=500;X-TITLE=1000 Richmond Terrace\, Building M:geo:-74.1027528,40.6445604
END:VEVENT
BEGIN:VEVENT
DTSTART;TZID=America/New_York:20240629T113000
DTEND;TZID=America/New_York:20240629T123000
DTSTAMP:20260419T220136
CREATED:20240625T010239Z
LAST-MODIFIED:20240701T185935Z
UID:10023324-1719660600-1719664200@parentguidenews.com
SUMMARY:Practice Reading with a Pooch
DESCRIPTION:[vc_row content_placement=”middle”][vc_column width=”2/3″][vc_column_text]Therapy dogs from Luv on a Leash are eager to hear stories read to them by our visitors. The dogs are well-trained\, registered\, and insured therapy dogs who love literature and will listen without judgement or comment. They hope to help children improve their reading ability\, build confidence and develop a life-long love of books. Visitors are welcome to bring their favorite reads. Limited Availability. \nFree with admission. Only twelve spots are available\, please pick up an event pass at the front desk. First come\, first served.[/vc_column_text][/vc_column][vc_column width=”1/3″][vc_single_image source=”featured_image” img_size=”full”][/vc_column][/vc_row]
URL:https://parentguidenews.com/event/practice-reading-with-a-pooch/
LOCATION:Staten Island Children’s Museum\, 1000 Richmond Terrace\, Building M\, Staten Island\, NY\, 10301\, United States
CATEGORIES:Family Friendly
ATTACH;FMTTYPE=image/png:https://parentguidenews.com/wp-content/uploads/2024/06/PRWAP_Rhombus-0zOB99.tmp_.png
ORGANIZER;CN="Staten Island Children&#8217%3Bs Museum":MAILTO:info@sichildrensmuseum.org
GEO:40.6445604;-74.1027528
X-APPLE-STRUCTURED-LOCATION;VALUE=URI;X-ADDRESS=Staten Island Children’s Museum 1000 Richmond Terrace Building M Staten Island NY 10301 United States;X-APPLE-RADIUS=500;X-TITLE=1000 Richmond Terrace\, Building M:geo:-74.1027528,40.6445604
END:VEVENT
BEGIN:VEVENT
DTSTART;TZID=America/New_York:20240629T113000
DTEND;TZID=America/New_York:20240629T170000
DTSTAMP:20260419T220136
CREATED:20231220T121312Z
LAST-MODIFIED:20231220T121312Z
UID:10014263-1719660600-1719680400@parentguidenews.com
SUMMARY:Museum Minis
DESCRIPTION:Music\, stories\, play\, and activities encourage caregiver interaction.
URL:https://parentguidenews.com/event/museum-minis-2/2024-06-29/
LOCATION:Westchester Children’s Museum\, 100 Playland Parkway\, Rye\, New York\, 10580
CATEGORIES:Children,Dance,Kids,Museums,Toddler
ATTACH;FMTTYPE=image/png:https://parentguidenews.com/wp-content/uploads/2023/12/5.png
ORGANIZER;CN="westchester childrens museusum":MAILTO:info@discoverwcm.org
GEO:40.9642816;-73.6774881
X-APPLE-STRUCTURED-LOCATION;VALUE=URI;X-ADDRESS=Westchester Children’s Museum 100 Playland Parkway Rye New York 10580;X-APPLE-RADIUS=500;X-TITLE=100 Playland Parkway:geo:-73.6774881,40.9642816
END:VEVENT
BEGIN:VEVENT
DTSTART;TZID=America/New_York:20240629T130000
DTEND;TZID=America/New_York:20240629T140000
DTSTAMP:20260419T220136
CREATED:20230331T215511Z
LAST-MODIFIED:20230331T215511Z
UID:10004422-1719666000-1719669600@parentguidenews.com
SUMMARY:Boogie Down Storytime
DESCRIPTION:Boogie Down Storytime is a family-friendly experience that cultivates early literacy awareness through joyful reading experiences. Join us for an interactive story hour that incorporates mindful breathing\, which helps build social-emotional skills\, along with question and discussion activities that build community. Movement will be inspired by the week’s book selection led by a children’s yoga teacher. Hosted by Boogie Down Books. Register on Eventbrite\, though walk-ins are welcome! \nLocation: Urban Farm \nFor inquiries about accessibility\, to request an accommodation or for event information\, please email publicprograms@randallsisland.org.
URL:https://parentguidenews.com/event/boogie-down-storytime/2024-06-29/
LOCATION:Randall’s Island Park\, Randall's Island Park (Fields 39/40)\, New York\, NY\, 10035\, United States
ATTACH;FMTTYPE=image/png:https://parentguidenews.com/wp-content/uploads/2023/03/boogie-down-storytime.png
ORGANIZER;CN="Randall's Island Park Alliance":MAILTO:publicprograms@randallsisland.org
GEO:40.7959018;-73.9209735
X-APPLE-STRUCTURED-LOCATION;VALUE=URI;X-ADDRESS=Randall’s Island Park Randall's Island Park (Fields 39/40) New York NY 10035 United States;X-APPLE-RADIUS=500;X-TITLE=Randall's Island Park (Fields 39/40):geo:-73.9209735,40.7959018
END:VEVENT
BEGIN:VEVENT
DTSTART;TZID=America/New_York:20240629T140000
DTEND;TZID=America/New_York:20240629T160000
DTSTAMP:20260419T220136
CREATED:20230405T141732Z
LAST-MODIFIED:20230405T141732Z
UID:10004628-1719669600-1719676800@parentguidenews.com
SUMMARY:Fun on the Farm
DESCRIPTION:Engage in some fun on the Urban Farm every Saturday! Join Randall’s Island staff for seasonal activities inspired by the Farm and natural areas. All ages welcome. \nLocation: Urban Farm \nFor inquiries about accessibility\, to request an accommodation or for event information\, please email publicprograms@randallsisland.org.
URL:https://parentguidenews.com/event/fun-on-the-farm-2/2024-06-29/
LOCATION:Randall’s Island Park\, Randall's Island Park (Fields 39/40)\, New York\, NY\, 10035\, United States
CATEGORIES:Arts & Crafts,Parks & Outdoors
ATTACH;FMTTYPE=image/png:https://parentguidenews.com/wp-content/uploads/2023/04/fun-on-the-farm.png
ORGANIZER;CN="Randall's Island Park Alliance":MAILTO:publicprograms@randallsisland.org
GEO:40.7959018;-73.9209735
X-APPLE-STRUCTURED-LOCATION;VALUE=URI;X-ADDRESS=Randall’s Island Park Randall's Island Park (Fields 39/40) New York NY 10035 United States;X-APPLE-RADIUS=500;X-TITLE=Randall's Island Park (Fields 39/40):geo:-73.9209735,40.7959018
END:VEVENT
BEGIN:VEVENT
DTSTART;TZID=America/New_York:20240629T183000
DTEND;TZID=America/New_York:20240629T193000
DTSTAMP:20260419T220136
CREATED:20230331T215511Z
LAST-MODIFIED:20230331T215511Z
UID:10004546-1719685800-1719689400@parentguidenews.com
SUMMARY:Yoga in the Park
DESCRIPTION:Stretch\, breathe\, and find your inner peace at our outdoor yoga classes. \nFree. No registration required. Bring your own mat and water. \nLocation: along the waterfront adjacent to Field 80 \nFor inquiries about accessibility\, to request an accommodation or for event information\, please email publicprograms@randallsisland.org.
URL:https://parentguidenews.com/event/yoga-in-the-park/2024-06-29/
LOCATION:Randall’s Island Park\, Randall's Island Park (Fields 39/40)\, New York\, NY\, 10035\, United States
CATEGORIES:Parks & Outdoors
ATTACH;FMTTYPE=image/png:https://parentguidenews.com/wp-content/uploads/2023/03/yoga-in-the-park.png
ORGANIZER;CN="Randall's Island Park Alliance":MAILTO:publicprograms@randallsisland.org
GEO:40.7959018;-73.9209735
X-APPLE-STRUCTURED-LOCATION;VALUE=URI;X-ADDRESS=Randall’s Island Park Randall's Island Park (Fields 39/40) New York NY 10035 United States;X-APPLE-RADIUS=500;X-TITLE=Randall's Island Park (Fields 39/40):geo:-73.9209735,40.7959018
END:VEVENT
BEGIN:VEVENT
DTSTART;TZID=America/New_York:20240629T190000
DTEND;TZID=America/New_York:20240629T220000
DTSTAMP:20260419T220136
CREATED:20231102T010735Z
LAST-MODIFIED:20231102T010735Z
UID:10010925-1719687600-1719698400@parentguidenews.com
SUMMARY:Alvin Ailey American Dance Theater’s New York City Center Season November 29 – December 31\, 2023
DESCRIPTION:Alvin Ailey American Dance Theater\, beloved as one of the world’s most popular dance companies\, returns to New York City Center November 29 – December 31\, 2023\, for an engagement that has become a joyous holiday tradition. Ailey’s extraordinary dancers will move audiences with world premieres by Amy Hall Garner and Elizabeth Roxas-Dobrish along with new productions and a variety of repertory favorites. For this 65th anniversary season\, highlights of a dozen works by founder Alvin Ailey will be presented in special programs\, including performances featuring music by jazz greats and his American masterpiece Revelations\, both danced to live music at some performances. Tickets starting at $32 go on sale September 19 at the New York City Center Box Office\, through Customer Care at 212-581-1212\, or online at www.alvinailey.org or www.nycitycenter.org. For further information\, visit www.alvinailey.org. \nPerformance Times:\nOpening Night Gala (November 29) 7pm (note earlier curtain time)\nTuesday – Thursday evenings 7:30pm\nWednesday matinee (Dec. 20 & 27) 2pm\nFriday & Saturday evenings 8pm\nSaturday Family matinees 2pm\nSunday matinees 3pm\nNew Year’s Eve matinee 2pm
URL:https://parentguidenews.com/event/alvin-ailey-american-dance-theaters-new-york-city-center-season-november-29-december-31-2023/2024-06-29/
LOCATION:NY
ATTACH;FMTTYPE=image/jpeg:https://parentguidenews.com/wp-content/uploads/2023/11/Alvin-Ailey-American-Dance-Theater-in-Alvin-Aileys-Revelations.-Photo-by-Dario-Calmese_012-1.jpg
END:VEVENT
END:VCALENDAR