BEGIN:VCALENDAR
VERSION:2.0
PRODID:-//PARENTGUIDENEWS - ECPv6.15.12.2//NONSGML v1.0//EN
CALSCALE:GREGORIAN
METHOD:PUBLISH
X-ORIGINAL-URL:https://parentguidenews.com
X-WR-CALDESC:Events for PARENTGUIDENEWS
REFRESH-INTERVAL;VALUE=DURATION:PT1H
X-Robots-Tag:noindex
X-PUBLISHED-TTL:PT1H
BEGIN:VTIMEZONE
TZID:America/New_York
BEGIN:DAYLIGHT
TZOFFSETFROM:-0500
TZOFFSETTO:-0400
TZNAME:EDT
DTSTART:20230312T070000
END:DAYLIGHT
BEGIN:STANDARD
TZOFFSETFROM:-0400
TZOFFSETTO:-0500
TZNAME:EST
DTSTART:20231105T060000
END:STANDARD
BEGIN:DAYLIGHT
TZOFFSETFROM:-0500
TZOFFSETTO:-0400
TZNAME:EDT
DTSTART:20240310T070000
END:DAYLIGHT
BEGIN:STANDARD
TZOFFSETFROM:-0400
TZOFFSETTO:-0500
TZNAME:EST
DTSTART:20241103T060000
END:STANDARD
BEGIN:DAYLIGHT
TZOFFSETFROM:-0500
TZOFFSETTO:-0400
TZNAME:EDT
DTSTART:20250309T070000
END:DAYLIGHT
BEGIN:STANDARD
TZOFFSETFROM:-0400
TZOFFSETTO:-0500
TZNAME:EST
DTSTART:20251102T060000
END:STANDARD
END:VTIMEZONE
BEGIN:VEVENT
DTSTART;VALUE=DATE:20240601
DTEND;VALUE=DATE:20240701
DTSTAMP:20260419T201819
CREATED:20240619T191240Z
LAST-MODIFIED:20240619T191240Z
UID:10023042-1717200000-1719791999@parentguidenews.com
SUMMARY:Streaming in June: TADA! Youth Theater’s Common Ground
DESCRIPTION:TADA! Youth Theater\, a unique Drama Desk award-winning nonprofit youth theater\, presents a virtual event to watch its most recent production via online streaming. TADA!’s first two act musical and world premiere of Common Ground is available now through June 30\, 2024 for your viewing pleasure at home (or anywhere you like)! \nThis 90 minute musical\, performed by a diverse cast of talented young actors\, ages 11-18\, is recommended for ages 11 and up. This production contains mature language and flashing lights.  \nFor more information and to purchase tickets: https://tadayouththeater.anywhereseat.com/channel.php\nTickets cost $10 for two views. \nSynopsis: America is a story that we keep telling. Until it comes true. It’s 2018. Immigration crackdowns. Family separation. Life is scary for immigrants in the U.S. But 15-year-old Ysabella Martinez hits town with stars in her eyes\, ready to conquer New York and win fame and fortune as an influencer. She joins an after school program for fellow immigrants from all over the world\, finds a prickly new best friend in NYC-born Emma\, and begins to build her new life. But when ICE detains her and her family\, she and her new friends discover that America is nothing like they thought it was.  \nPerformances took place at TADA! Theater from April 20th through May 11th and were presented by talented members of the Resident Youth Ensemble of TADA! (RYET). The young actors showcase the rich diversity of New York City.  They come from various neighborhoods and boroughs of New York City\, encompassing different economic\, racial\, ethnic\, and cultural backgrounds\, as well as diverse abilities and members of the LGBTQIA+ community.
URL:https://parentguidenews.com/event/streaming-in-june-tada-youth-theaters-common-ground/
LOCATION:Virtual (Online)
CATEGORIES:performance
ORGANIZER;CN="TADA!":MAILTO:education@tadatheater.com
END:VEVENT
BEGIN:VEVENT
DTSTART;TZID=America/New_York:20240620T060000
DTEND;TZID=America/New_York:20240707T000000
DTSTAMP:20260419T201819
CREATED:20240521T141544Z
LAST-MODIFIED:20240521T141544Z
UID:10023023-1718863200-1720310400@parentguidenews.com
SUMMARY:State Fair Meadowlands
DESCRIPTION:The State Fair Meadowlands is dedicated to providing the best value in family entertainment. With over 100 rides\, free shows\, and 50 food options\, our Fair has something for all ages. Come check out New Jersey’s largest event from June 20 through July 7 – you won’t want to miss out!
URL:https://parentguidenews.com/event/state-fair-meadowlands-2/
LOCATION:NY
CATEGORIES:Family Friendly
END:VEVENT
BEGIN:VEVENT
DTSTART;TZID=America/New_York:20240625T093000
DTEND;TZID=America/New_York:20240625T103000
DTSTAMP:20260419T201819
CREATED:20240501T135333Z
LAST-MODIFIED:20240501T135333Z
UID:10022949-1719307800-1719311400@parentguidenews.com
SUMMARY:Special Program for Home Schooled Students
DESCRIPTION:Special Program for Home-Schooled Students – 9:30 AM\nTuesdays starting June 13\, 2023 | 9:30 AM \nElementary Education (6-12 years old) \n  \nInterested in history and what life was like for children 6 through 12 years of age during the early 1900s? How about understanding what an Arboretum is and learning about the beautiful trees and wildlife at the Arboretum? \nWe welcome you and your children to explore our program. Tours are available on Tuesdays at 9:30 am starting June 13\, 2023. Reservations are required and payment must be made in advance. For more information\, please contact Carolann Gaites\, Volunteer Coordinator\, at 631-581-1002\, ext. 105. \n  \nDownload the Special Program for Homeschooled Students Here
URL:https://parentguidenews.com/event/special-program-for-home-schooled-students-24/
LOCATION:Bayard Cutting Arboretum\, 440 Montauk Highway\, Great River\, NY\, 11739\, United States
CATEGORIES:Elementary Education,Middle School Education
ORGANIZER;CN="Bayard Cutting Arboretum":MAILTO:Kristen.Cella@parks.ny.gov
GEO:40.7394821;-73.1629152
X-APPLE-STRUCTURED-LOCATION;VALUE=URI;X-ADDRESS=Bayard Cutting Arboretum 440 Montauk Highway Great River NY 11739 United States;X-APPLE-RADIUS=500;X-TITLE=440 Montauk Highway:geo:-73.1629152,40.7394821
END:VEVENT
BEGIN:VEVENT
DTSTART;TZID=America/New_York:20240625T100000
DTEND;TZID=America/New_York:20240625T110000
DTSTAMP:20260419T201819
CREATED:20240309T155333Z
LAST-MODIFIED:20240309T155333Z
UID:10017554-1719309600-1719313200@parentguidenews.com
SUMMARY:Storytime at Barnes & Noble
DESCRIPTION:Join us for Storytime every Tuesday and Thursday at 10 a.m. Watch your kids as they embark on an exciting adventure with our Storytime expert. We will introduce your little one to some of your childhood favorites\, as well as read some you may have never heard before!
URL:https://parentguidenews.com/event/storytime-at-barnes-noble/2024-06-25/
LOCATION:Barnes & Noble\, 112 Eisenhower Parkway\, Livingston\, NJ\, 07039\, United States
CATEGORIES:Classes for Kids
GEO:40.7771625;-74.353982
X-APPLE-STRUCTURED-LOCATION;VALUE=URI;X-ADDRESS=Barnes & Noble 112 Eisenhower Parkway Livingston NJ 07039 United States;X-APPLE-RADIUS=500;X-TITLE=112 Eisenhower Parkway:geo:-74.353982,40.7771625
END:VEVENT
BEGIN:VEVENT
DTSTART;TZID=America/New_York:20240625T100000
DTEND;TZID=America/New_York:20240625T120000
DTSTAMP:20260419T201819
CREATED:20230829T030250Z
LAST-MODIFIED:20230829T030250Z
UID:10007390-1719309600-1719316800@parentguidenews.com
SUMMARY:Kids Art Classes at the Museum
DESCRIPTION:Join us two days a week from 10 am – 12pm for fun art-making in the Museum walkway! \nRecommended for ages 2-5. All children must be accompanied by an adult. \nArt materials are provided. Seating is available on a first-come\, first-served basis. \nA $5 suggested donation is appreciated. Ms. Lisa is excited to create some art with you!
URL:https://parentguidenews.com/event/kids-art-classes-at-the-museum/2024-06-25/
LOCATION:Hoboken Historical Museum\, 1301 Hudson St\, Hoboken\, NJ\, United States
CATEGORIES:Arts & Crafts
ATTACH;FMTTYPE=image/jpeg:https://parentguidenews.com/wp-content/uploads/2023/08/Lisa-art-class-1.jpg
GEO:40.7521954;-74.0251241
X-APPLE-STRUCTURED-LOCATION;VALUE=URI;X-ADDRESS=Hoboken Historical Museum 1301 Hudson St Hoboken NJ United States;X-APPLE-RADIUS=500;X-TITLE=1301 Hudson St:geo:-74.0251241,40.7521954
END:VEVENT
BEGIN:VEVENT
DTSTART;TZID=America/New_York:20240625T100000
DTEND;TZID=America/New_York:20240625T130000
DTSTAMP:20260419T201819
CREATED:20230306T171350Z
LAST-MODIFIED:20230306T171350Z
UID:10000810-1719309600-1719320400@parentguidenews.com
SUMMARY:Soil Stories
DESCRIPTION:A self-guided cozy nook in the greenhouse with curated books\, games\, and artmaking for quiet moments to enjoy with plants.
URL:https://parentguidenews.com/event/soil-stories/2024-06-25/
LOCATION:The Greenhouse and Education Center at Denny Farrell Riverbank State Park\, 679 Riverside Dr\, Greenhouse\, New York\, NY\, 10031\, United States
ATTACH;FMTTYPE=image/jpeg:https://parentguidenews.com/wp-content/uploads/2023/03/appointmentType-thumb-40023605-jpg.webp
GEO:40.8269525;-73.952552
X-APPLE-STRUCTURED-LOCATION;VALUE=URI;X-ADDRESS=The Greenhouse and Education Center at Denny Farrell Riverbank State Park 679 Riverside Dr Greenhouse New York NY 10031 United States;X-APPLE-RADIUS=500;X-TITLE=679 Riverside Dr\, Greenhouse:geo:-73.952552,40.8269525
END:VEVENT
BEGIN:VEVENT
DTSTART;TZID=America/New_York:20240625T100000
DTEND;TZID=America/New_York:20240625T170000
DTSTAMP:20260419T201819
CREATED:20240405T144456Z
LAST-MODIFIED:20240405T144456Z
UID:10020044-1719309600-1719334800@parentguidenews.com
SUMMARY:Story Time/ Music and Movement
DESCRIPTION:Story time- Spark children’s imagination and nurture their love for reading through monthly themed picture books and read-aloud- Every Day at 10 am and 4 pm \nMusic and Movement- Interactive class featuring puppets\, musical instruments\, and props.\n-Every day at 11am and 3 pm
URL:https://parentguidenews.com/event/story-time-music-and-movement-2/2024-06-25/
LOCATION:Westchester Children’s Museum\, 100 Playland Parkway\, Rye\, New York\, 10580
ATTACH;FMTTYPE=image/png:https://parentguidenews.com/wp-content/uploads/2024/04/Music-and-Movement.png
ORGANIZER;CN="westchester childrens museusum":MAILTO:info@discoverwcm.org
GEO:40.9642816;-73.6774881
X-APPLE-STRUCTURED-LOCATION;VALUE=URI;X-ADDRESS=Westchester Children’s Museum 100 Playland Parkway Rye New York 10580;X-APPLE-RADIUS=500;X-TITLE=100 Playland Parkway:geo:-73.6774881,40.9642816
END:VEVENT
BEGIN:VEVENT
DTSTART;TZID=America/New_York:20240625T110000
DTEND;TZID=America/New_York:20240625T111500
DTSTAMP:20260419T201819
CREATED:20231204T143851Z
LAST-MODIFIED:20231204T212500Z
UID:10012119-1719313200-1719314100@parentguidenews.com
SUMMARY:Music & Movement
DESCRIPTION:Interactive class featuring puppets\, musical instruments\, and props.
URL:https://parentguidenews.com/event/music-movement/2024-06-25/
LOCATION:Westchester Children’s Museum\, 100 Playland Parkway\, Rye\, New York\, 10580
CATEGORIES:Children,Classes for Kids,For Children,For the Family,Museums
ATTACH;FMTTYPE=image/png:https://parentguidenews.com/wp-content/uploads/2023/11/3.png
GEO:40.9642816;-73.6774881
X-APPLE-STRUCTURED-LOCATION;VALUE=URI;X-ADDRESS=Westchester Children’s Museum 100 Playland Parkway Rye New York 10580;X-APPLE-RADIUS=500;X-TITLE=100 Playland Parkway:geo:-73.6774881,40.9642816
END:VEVENT
BEGIN:VEVENT
DTSTART;TZID=America/New_York:20240625T110000
DTEND;TZID=America/New_York:20240625T120000
DTSTAMP:20260419T201819
CREATED:20230306T173523Z
LAST-MODIFIED:20231102T012102Z
UID:10001591-1719313200-1719316800@parentguidenews.com
SUMMARY:Sauté\, Sizzle\, Savor: Winter Cooking & Eating
DESCRIPTION:Gather around the table for collectively-crafted meals and food stories.
URL:https://parentguidenews.com/event/saute-sizzle-savor-winter-cooking-eating/2024-06-25/
LOCATION:The Greenhouse and Education Center at Denny Farrell Riverbank State Park\, 679 Riverside Dr\, Greenhouse\, New York\, NY\, 10031\, United States
CATEGORIES:Food
ATTACH;FMTTYPE=image/jpeg:https://parentguidenews.com/wp-content/uploads/2023/03/appointmentType-thumb-40023024-jpg.webp
GEO:40.8269525;-73.952552
X-APPLE-STRUCTURED-LOCATION;VALUE=URI;X-ADDRESS=The Greenhouse and Education Center at Denny Farrell Riverbank State Park 679 Riverside Dr Greenhouse New York NY 10031 United States;X-APPLE-RADIUS=500;X-TITLE=679 Riverside Dr\, Greenhouse:geo:-73.952552,40.8269525
END:VEVENT
BEGIN:VEVENT
DTSTART;TZID=America/New_York:20240625T110000
DTEND;TZID=America/New_York:20240625T160000
DTSTAMP:20260419T201819
CREATED:20231113T165807Z
LAST-MODIFIED:20231116T203910Z
UID:10011563-1719313200-1719331200@parentguidenews.com
SUMMARY:Walk-in Workshop: Purple Collage
DESCRIPTION:What could you make if you only could use purple materials?  You’ll get a chance to see in our Walk-in! Workshop in November. We’ll be making vibrant abstract art only in shades of purple in honor of Alzheimer’s Awareness Month. Come and join this fun challenge!
URL:https://parentguidenews.com/event/walk-in-workshop-purple-collage/2024-06-25/
LOCATION:Staten Island Children’s Museum\, 1000 Richmond Terrace\, Building M\, Staten Island\, NY\, 10301\, United States
CATEGORIES:art,Art-Making,crafts
ATTACH;FMTTYPE=image/png:https://parentguidenews.com/wp-content/uploads/2023/11/Purple-Collage-Rhombus-MGQewx.tmp_.png
GEO:40.6445604;-74.1027528
X-APPLE-STRUCTURED-LOCATION;VALUE=URI;X-ADDRESS=Staten Island Children’s Museum 1000 Richmond Terrace Building M Staten Island NY 10301 United States;X-APPLE-RADIUS=500;X-TITLE=1000 Richmond Terrace\, Building M:geo:-74.1027528,40.6445604
END:VEVENT
BEGIN:VEVENT
DTSTART;TZID=America/New_York:20240625T113000
DTEND;TZID=America/New_York:20240625T170000
DTSTAMP:20260419T201819
CREATED:20231220T121312Z
LAST-MODIFIED:20231220T121312Z
UID:10014261-1719315000-1719334800@parentguidenews.com
SUMMARY:Museum Minis
DESCRIPTION:Music\, stories\, play\, and activities encourage caregiver interaction.
URL:https://parentguidenews.com/event/museum-minis-2/2024-06-25/
LOCATION:Westchester Children’s Museum\, 100 Playland Parkway\, Rye\, New York\, 10580
CATEGORIES:Children,Dance,Kids,Museums,Toddler
ATTACH;FMTTYPE=image/png:https://parentguidenews.com/wp-content/uploads/2023/12/5.png
ORGANIZER;CN="westchester childrens museusum":MAILTO:info@discoverwcm.org
GEO:40.9642816;-73.6774881
X-APPLE-STRUCTURED-LOCATION;VALUE=URI;X-ADDRESS=Westchester Children’s Museum 100 Playland Parkway Rye New York 10580;X-APPLE-RADIUS=500;X-TITLE=100 Playland Parkway:geo:-73.6774881,40.9642816
END:VEVENT
BEGIN:VEVENT
DTSTART;TZID=America/New_York:20240625T180000
DTEND;TZID=America/New_York:20240625T190000
DTSTAMP:20260419T201819
CREATED:20240427T021725Z
LAST-MODIFIED:20240427T021725Z
UID:10022845-1719338400-1719342000@parentguidenews.com
SUMMARY:Sunset Yoga at Rockwood
DESCRIPTION:Sunset Yoga at Rockwood
URL:https://parentguidenews.com/event/sunset-yoga-at-rockwood-22/
LOCATION:Rockwood Hall\, Phelps Way\, Pleasantville\, NY\, 10570\, United States
ATTACH;FMTTYPE=image/jpeg:https://parentguidenews.com/wp-content/uploads/2024/04/a210a0f77ff1ebca29fa05776e4637ca.jpg
GEO:41.1146944;-73.8306212
X-APPLE-STRUCTURED-LOCATION;VALUE=URI;X-ADDRESS=Rockwood Hall Phelps Way Pleasantville NY 10570 United States;X-APPLE-RADIUS=500;X-TITLE=Phelps Way:geo:-73.8306212,41.1146944
END:VEVENT
BEGIN:VEVENT
DTSTART;TZID=America/New_York:20240625T183000
DTEND;TZID=America/New_York:20240625T193000
DTSTAMP:20260419T201819
CREATED:20230331T215511Z
LAST-MODIFIED:20230331T215511Z
UID:10004545-1719340200-1719343800@parentguidenews.com
SUMMARY:Yoga in the Park
DESCRIPTION:Stretch\, breathe\, and find your inner peace at our outdoor yoga classes. \nFree. No registration required. Bring your own mat and water. \nLocation: along the waterfront adjacent to Field 80 \nFor inquiries about accessibility\, to request an accommodation or for event information\, please email publicprograms@randallsisland.org.
URL:https://parentguidenews.com/event/yoga-in-the-park/2024-06-25/
LOCATION:Randall’s Island Park\, Randall's Island Park (Fields 39/40)\, New York\, NY\, 10035\, United States
CATEGORIES:Parks & Outdoors
ATTACH;FMTTYPE=image/png:https://parentguidenews.com/wp-content/uploads/2023/03/yoga-in-the-park.png
ORGANIZER;CN="Randall's Island Park Alliance":MAILTO:publicprograms@randallsisland.org
GEO:40.7959018;-73.9209735
X-APPLE-STRUCTURED-LOCATION;VALUE=URI;X-ADDRESS=Randall’s Island Park Randall's Island Park (Fields 39/40) New York NY 10035 United States;X-APPLE-RADIUS=500;X-TITLE=Randall's Island Park (Fields 39/40):geo:-73.9209735,40.7959018
END:VEVENT
BEGIN:VEVENT
DTSTART;TZID=America/New_York:20240625T190000
DTEND;TZID=America/New_York:20240625T220000
DTSTAMP:20260419T201819
CREATED:20231102T010735Z
LAST-MODIFIED:20231102T010735Z
UID:10010921-1719342000-1719352800@parentguidenews.com
SUMMARY:Alvin Ailey American Dance Theater’s New York City Center Season November 29 – December 31\, 2023
DESCRIPTION:Alvin Ailey American Dance Theater\, beloved as one of the world’s most popular dance companies\, returns to New York City Center November 29 – December 31\, 2023\, for an engagement that has become a joyous holiday tradition. Ailey’s extraordinary dancers will move audiences with world premieres by Amy Hall Garner and Elizabeth Roxas-Dobrish along with new productions and a variety of repertory favorites. For this 65th anniversary season\, highlights of a dozen works by founder Alvin Ailey will be presented in special programs\, including performances featuring music by jazz greats and his American masterpiece Revelations\, both danced to live music at some performances. Tickets starting at $32 go on sale September 19 at the New York City Center Box Office\, through Customer Care at 212-581-1212\, or online at www.alvinailey.org or www.nycitycenter.org. For further information\, visit www.alvinailey.org. \nPerformance Times:\nOpening Night Gala (November 29) 7pm (note earlier curtain time)\nTuesday – Thursday evenings 7:30pm\nWednesday matinee (Dec. 20 & 27) 2pm\nFriday & Saturday evenings 8pm\nSaturday Family matinees 2pm\nSunday matinees 3pm\nNew Year’s Eve matinee 2pm
URL:https://parentguidenews.com/event/alvin-ailey-american-dance-theaters-new-york-city-center-season-november-29-december-31-2023/2024-06-25/
LOCATION:NY
ATTACH;FMTTYPE=image/jpeg:https://parentguidenews.com/wp-content/uploads/2023/11/Alvin-Ailey-American-Dance-Theater-in-Alvin-Aileys-Revelations.-Photo-by-Dario-Calmese_012-1.jpg
END:VEVENT
END:VCALENDAR