BEGIN:VCALENDAR
VERSION:2.0
PRODID:-//PARENTGUIDENEWS - ECPv6.15.12.2//NONSGML v1.0//EN
CALSCALE:GREGORIAN
METHOD:PUBLISH
X-ORIGINAL-URL:https://parentguidenews.com
X-WR-CALDESC:Events for PARENTGUIDENEWS
REFRESH-INTERVAL;VALUE=DURATION:PT1H
X-Robots-Tag:noindex
X-PUBLISHED-TTL:PT1H
BEGIN:VTIMEZONE
TZID:America/New_York
BEGIN:DAYLIGHT
TZOFFSETFROM:-0500
TZOFFSETTO:-0400
TZNAME:EDT
DTSTART:20230312T070000
END:DAYLIGHT
BEGIN:STANDARD
TZOFFSETFROM:-0400
TZOFFSETTO:-0500
TZNAME:EST
DTSTART:20231105T060000
END:STANDARD
BEGIN:DAYLIGHT
TZOFFSETFROM:-0500
TZOFFSETTO:-0400
TZNAME:EDT
DTSTART:20240310T070000
END:DAYLIGHT
BEGIN:STANDARD
TZOFFSETFROM:-0400
TZOFFSETTO:-0500
TZNAME:EST
DTSTART:20241103T060000
END:STANDARD
BEGIN:DAYLIGHT
TZOFFSETFROM:-0500
TZOFFSETTO:-0400
TZNAME:EDT
DTSTART:20250309T070000
END:DAYLIGHT
BEGIN:STANDARD
TZOFFSETFROM:-0400
TZOFFSETTO:-0500
TZNAME:EST
DTSTART:20251102T060000
END:STANDARD
END:VTIMEZONE
BEGIN:VEVENT
DTSTART;VALUE=DATE:20240601
DTEND;VALUE=DATE:20240701
DTSTAMP:20260419T201842
CREATED:20240619T191240Z
LAST-MODIFIED:20240619T191240Z
UID:10023042-1717200000-1719791999@parentguidenews.com
SUMMARY:Streaming in June: TADA! Youth Theater’s Common Ground
DESCRIPTION:TADA! Youth Theater\, a unique Drama Desk award-winning nonprofit youth theater\, presents a virtual event to watch its most recent production via online streaming. TADA!’s first two act musical and world premiere of Common Ground is available now through June 30\, 2024 for your viewing pleasure at home (or anywhere you like)! \nThis 90 minute musical\, performed by a diverse cast of talented young actors\, ages 11-18\, is recommended for ages 11 and up. This production contains mature language and flashing lights.  \nFor more information and to purchase tickets: https://tadayouththeater.anywhereseat.com/channel.php\nTickets cost $10 for two views. \nSynopsis: America is a story that we keep telling. Until it comes true. It’s 2018. Immigration crackdowns. Family separation. Life is scary for immigrants in the U.S. But 15-year-old Ysabella Martinez hits town with stars in her eyes\, ready to conquer New York and win fame and fortune as an influencer. She joins an after school program for fellow immigrants from all over the world\, finds a prickly new best friend in NYC-born Emma\, and begins to build her new life. But when ICE detains her and her family\, she and her new friends discover that America is nothing like they thought it was.  \nPerformances took place at TADA! Theater from April 20th through May 11th and were presented by talented members of the Resident Youth Ensemble of TADA! (RYET). The young actors showcase the rich diversity of New York City.  They come from various neighborhoods and boroughs of New York City\, encompassing different economic\, racial\, ethnic\, and cultural backgrounds\, as well as diverse abilities and members of the LGBTQIA+ community.
URL:https://parentguidenews.com/event/streaming-in-june-tada-youth-theaters-common-ground/
LOCATION:Virtual (Online)
CATEGORIES:performance
ORGANIZER;CN="TADA!":MAILTO:education@tadatheater.com
END:VEVENT
BEGIN:VEVENT
DTSTART;TZID=America/New_York:20240610T100000
DTEND;TZID=America/New_York:20240610T170000
DTSTAMP:20260419T201842
CREATED:20240405T144456Z
LAST-MODIFIED:20240405T144456Z
UID:10020029-1718013600-1718038800@parentguidenews.com
SUMMARY:Story Time/ Music and Movement
DESCRIPTION:Story time- Spark children’s imagination and nurture their love for reading through monthly themed picture books and read-aloud- Every Day at 10 am and 4 pm \nMusic and Movement- Interactive class featuring puppets\, musical instruments\, and props.\n-Every day at 11am and 3 pm
URL:https://parentguidenews.com/event/story-time-music-and-movement-2/2024-06-10/
LOCATION:Westchester Children’s Museum\, 100 Playland Parkway\, Rye\, New York\, 10580
ATTACH;FMTTYPE=image/png:https://parentguidenews.com/wp-content/uploads/2024/04/Music-and-Movement.png
ORGANIZER;CN="westchester childrens museusum":MAILTO:info@discoverwcm.org
GEO:40.9642816;-73.6774881
X-APPLE-STRUCTURED-LOCATION;VALUE=URI;X-ADDRESS=Westchester Children’s Museum 100 Playland Parkway Rye New York 10580;X-APPLE-RADIUS=500;X-TITLE=100 Playland Parkway:geo:-73.6774881,40.9642816
END:VEVENT
BEGIN:VEVENT
DTSTART;TZID=America/New_York:20240610T110000
DTEND;TZID=America/New_York:20240610T111500
DTSTAMP:20260419T201842
CREATED:20231204T143851Z
LAST-MODIFIED:20231204T212500Z
UID:10012104-1718017200-1718018100@parentguidenews.com
SUMMARY:Music & Movement
DESCRIPTION:Interactive class featuring puppets\, musical instruments\, and props.
URL:https://parentguidenews.com/event/music-movement/2024-06-10/
LOCATION:Westchester Children’s Museum\, 100 Playland Parkway\, Rye\, New York\, 10580
CATEGORIES:Children,Classes for Kids,For Children,For the Family,Museums
ATTACH;FMTTYPE=image/png:https://parentguidenews.com/wp-content/uploads/2023/11/3.png
GEO:40.9642816;-73.6774881
X-APPLE-STRUCTURED-LOCATION;VALUE=URI;X-ADDRESS=Westchester Children’s Museum 100 Playland Parkway Rye New York 10580;X-APPLE-RADIUS=500;X-TITLE=100 Playland Parkway:geo:-73.6774881,40.9642816
END:VEVENT
BEGIN:VEVENT
DTSTART;TZID=America/New_York:20240610T110000
DTEND;TZID=America/New_York:20240610T160000
DTSTAMP:20260419T201842
CREATED:20231113T165807Z
LAST-MODIFIED:20231116T203910Z
UID:10011548-1718017200-1718035200@parentguidenews.com
SUMMARY:Walk-in Workshop: Purple Collage
DESCRIPTION:What could you make if you only could use purple materials?  You’ll get a chance to see in our Walk-in! Workshop in November. We’ll be making vibrant abstract art only in shades of purple in honor of Alzheimer’s Awareness Month. Come and join this fun challenge!
URL:https://parentguidenews.com/event/walk-in-workshop-purple-collage/2024-06-10/
LOCATION:Staten Island Children’s Museum\, 1000 Richmond Terrace\, Building M\, Staten Island\, NY\, 10301\, United States
CATEGORIES:art,Art-Making,crafts
ATTACH;FMTTYPE=image/png:https://parentguidenews.com/wp-content/uploads/2023/11/Purple-Collage-Rhombus-MGQewx.tmp_.png
GEO:40.6445604;-74.1027528
X-APPLE-STRUCTURED-LOCATION;VALUE=URI;X-ADDRESS=Staten Island Children’s Museum 1000 Richmond Terrace Building M Staten Island NY 10301 United States;X-APPLE-RADIUS=500;X-TITLE=1000 Richmond Terrace\, Building M:geo:-74.1027528,40.6445604
END:VEVENT
BEGIN:VEVENT
DTSTART;TZID=America/New_York:20240610T130000
DTEND;TZID=America/New_York:20240610T140000
DTSTAMP:20260419T201842
CREATED:20240424T190621Z
LAST-MODIFIED:20240424T190621Z
UID:10022029-1718024400-1718028000@parentguidenews.com
SUMMARY:Backyard Sugaring @ Muscoot Farm
DESCRIPTION:Did you know that you can make your own maple syrup right in your backyard? Come by to learn about the equipment you will need\, identifying sugar maples in all seasons\, the right way to tap trees\, and how to turn sap from maples in your yard into syrup on your pancakes! Sessions will meet at 1:00pm and 2:00pm at Muscoot’s Sugar Shack to tour our equipment and see our maples.
URL:https://parentguidenews.com/event/backyard-sugaring-muscoot-farm-147/
LOCATION:NY
CATEGORIES:Westchester
END:VEVENT
BEGIN:VEVENT
DTSTART;TZID=America/New_York:20240610T190000
DTEND;TZID=America/New_York:20240610T220000
DTSTAMP:20260419T201842
CREATED:20231102T010735Z
LAST-MODIFIED:20231102T010735Z
UID:10010906-1718046000-1718056800@parentguidenews.com
SUMMARY:Alvin Ailey American Dance Theater’s New York City Center Season November 29 – December 31\, 2023
DESCRIPTION:Alvin Ailey American Dance Theater\, beloved as one of the world’s most popular dance companies\, returns to New York City Center November 29 – December 31\, 2023\, for an engagement that has become a joyous holiday tradition. Ailey’s extraordinary dancers will move audiences with world premieres by Amy Hall Garner and Elizabeth Roxas-Dobrish along with new productions and a variety of repertory favorites. For this 65th anniversary season\, highlights of a dozen works by founder Alvin Ailey will be presented in special programs\, including performances featuring music by jazz greats and his American masterpiece Revelations\, both danced to live music at some performances. Tickets starting at $32 go on sale September 19 at the New York City Center Box Office\, through Customer Care at 212-581-1212\, or online at www.alvinailey.org or www.nycitycenter.org. For further information\, visit www.alvinailey.org. \nPerformance Times:\nOpening Night Gala (November 29) 7pm (note earlier curtain time)\nTuesday – Thursday evenings 7:30pm\nWednesday matinee (Dec. 20 & 27) 2pm\nFriday & Saturday evenings 8pm\nSaturday Family matinees 2pm\nSunday matinees 3pm\nNew Year’s Eve matinee 2pm
URL:https://parentguidenews.com/event/alvin-ailey-american-dance-theaters-new-york-city-center-season-november-29-december-31-2023/2024-06-10/
LOCATION:NY
ATTACH;FMTTYPE=image/jpeg:https://parentguidenews.com/wp-content/uploads/2023/11/Alvin-Ailey-American-Dance-Theater-in-Alvin-Aileys-Revelations.-Photo-by-Dario-Calmese_012-1.jpg
END:VEVENT
END:VCALENDAR