BEGIN:VCALENDAR
VERSION:2.0
PRODID:-//PARENTGUIDENEWS - ECPv6.15.12.2//NONSGML v1.0//EN
CALSCALE:GREGORIAN
METHOD:PUBLISH
X-WR-CALNAME:PARENTGUIDENEWS
X-ORIGINAL-URL:https://parentguidenews.com
X-WR-CALDESC:Events for PARENTGUIDENEWS
REFRESH-INTERVAL;VALUE=DURATION:PT1H
X-Robots-Tag:noindex
X-PUBLISHED-TTL:PT1H
BEGIN:VTIMEZONE
TZID:America/New_York
BEGIN:DAYLIGHT
TZOFFSETFROM:-0500
TZOFFSETTO:-0400
TZNAME:EDT
DTSTART:20230312T070000
END:DAYLIGHT
BEGIN:STANDARD
TZOFFSETFROM:-0400
TZOFFSETTO:-0500
TZNAME:EST
DTSTART:20231105T060000
END:STANDARD
BEGIN:DAYLIGHT
TZOFFSETFROM:-0500
TZOFFSETTO:-0400
TZNAME:EDT
DTSTART:20240310T070000
END:DAYLIGHT
BEGIN:STANDARD
TZOFFSETFROM:-0400
TZOFFSETTO:-0500
TZNAME:EST
DTSTART:20241103T060000
END:STANDARD
BEGIN:DAYLIGHT
TZOFFSETFROM:-0500
TZOFFSETTO:-0400
TZNAME:EDT
DTSTART:20250309T070000
END:DAYLIGHT
BEGIN:STANDARD
TZOFFSETFROM:-0400
TZOFFSETTO:-0500
TZNAME:EST
DTSTART:20251102T060000
END:STANDARD
END:VTIMEZONE
BEGIN:VEVENT
DTSTART;VALUE=DATE:20240530
DTEND;VALUE=DATE:20240610
DTSTAMP:20260420T055758
CREATED:20240530T205941Z
LAST-MODIFIED:20240530T205941Z
UID:10023021-1717027200-1717977599@parentguidenews.com
SUMMARY:South Shore Mall Carnival
DESCRIPTION:There’s something for everyone at this family-fun event\, from rides and games for all ages to deep-fried treats\, sweets and other carnival eats. \nAdmission and parking are free. \nUnlimited ride wristbands (for riders 36″ & taller) are $42 on site ($2 cash discount) while supplies last\, or online before 5 pm Thurs.\, May 30 for $29 each\, 2/$55 or 4/$99. \nRide tickets are also available at the carnival for $1.50 each\, $32/20 tickets\, or $62/50 tickets plus 1 free ride. ($2 cash discount. Rides take 2 or more tickets each.) Online pre-sale special: $45/50 tickets + 1 free ride \nVisit the website for ride and food coupons and event updates. \nMidway hours: 5-10 pm Monday – Thursday\, 5-11 pm Friday\, noon-11 pm Saturday\, noon-10 pm Sunday. Guests under age 21 must be accompanied by a parent or guardian age 21+. \nFor more information\, call 866-666-3247.
URL:https://parentguidenews.com/event/south-shore-mall-carnival/
LOCATION:South Shore Mall\, 1701 Sunrise Hwy.\, Bay Shore\, NY\, 11706\, United States
CATEGORIES:Festivals & Fairs
ATTACH;FMTTYPE=image/jpeg:https://parentguidenews.com/wp-content/uploads/2024/05/Dreamland-Largo-rides-970x770-1.jpg
GEO:40.7396345;-73.24668
X-APPLE-STRUCTURED-LOCATION;VALUE=URI;X-ADDRESS=South Shore Mall 1701 Sunrise Hwy. Bay Shore NY 11706 United States;X-APPLE-RADIUS=500;X-TITLE=1701 Sunrise Hwy.:geo:-73.24668,40.7396345
END:VEVENT
BEGIN:VEVENT
DTSTART;VALUE=DATE:20240601
DTEND;VALUE=DATE:20240701
DTSTAMP:20260420T055758
CREATED:20240619T191240Z
LAST-MODIFIED:20240619T191240Z
UID:10023042-1717200000-1719791999@parentguidenews.com
SUMMARY:Streaming in June: TADA! Youth Theater’s Common Ground
DESCRIPTION:TADA! Youth Theater\, a unique Drama Desk award-winning nonprofit youth theater\, presents a virtual event to watch its most recent production via online streaming. TADA!’s first two act musical and world premiere of Common Ground is available now through June 30\, 2024 for your viewing pleasure at home (or anywhere you like)! \nThis 90 minute musical\, performed by a diverse cast of talented young actors\, ages 11-18\, is recommended for ages 11 and up. This production contains mature language and flashing lights.  \nFor more information and to purchase tickets: https://tadayouththeater.anywhereseat.com/channel.php\nTickets cost $10 for two views. \nSynopsis: America is a story that we keep telling. Until it comes true. It’s 2018. Immigration crackdowns. Family separation. Life is scary for immigrants in the U.S. But 15-year-old Ysabella Martinez hits town with stars in her eyes\, ready to conquer New York and win fame and fortune as an influencer. She joins an after school program for fellow immigrants from all over the world\, finds a prickly new best friend in NYC-born Emma\, and begins to build her new life. But when ICE detains her and her family\, she and her new friends discover that America is nothing like they thought it was.  \nPerformances took place at TADA! Theater from April 20th through May 11th and were presented by talented members of the Resident Youth Ensemble of TADA! (RYET). The young actors showcase the rich diversity of New York City.  They come from various neighborhoods and boroughs of New York City\, encompassing different economic\, racial\, ethnic\, and cultural backgrounds\, as well as diverse abilities and members of the LGBTQIA+ community.
URL:https://parentguidenews.com/event/streaming-in-june-tada-youth-theaters-common-ground/
LOCATION:Virtual (Online)
CATEGORIES:performance
ORGANIZER;CN="TADA!":MAILTO:education@tadatheater.com
END:VEVENT
BEGIN:VEVENT
DTSTART;VALUE=DATE:20240605
DTEND;VALUE=DATE:20240610
DTSTAMP:20260420T055758
CREATED:20240530T205955Z
LAST-MODIFIED:20240530T205955Z
UID:10023024-1717545600-1717977599@parentguidenews.com
SUMMARY:Astoria Park Carnival
DESCRIPTION:Queens’ picturesque Astoria Park comes alive with the sights\, sounds and aromas of the electrifying midway with exciting rides and games for all ages and deep-fried treats\, sweets and other carnival eats. \nEvent admission is free. \nRide tickets are $1.50 each\, $32/20 tickets\, or $62/50 tickets plus 1 free ride. ($2 cash discount. Rides take 2 or more tickets each.) \nMidway hours are 4-10 pm Wednesday – Thursday\, 4-11 pm Friday\, noon-11:59 pm Saturday\, and noon-11 pm Sunday under the RFK Bridge at Hoyt Avenue North & 19th Street. Guests under age 21 must be accompanied by a parent or guardian age 21+. \nFor more information\, call 866-666-3247. \nThe annual carnival is presented by the Central Astoria LDC (Local Development Coalition)\, a not-for-profit community organization dedicated to preserving and enhancing the neighborhood of Astoria.
URL:https://parentguidenews.com/event/astoria-park-carnival-2/
LOCATION:Astoria Park\, 19 19th Street\, Astoria\, NY\, 11102\, United States
CATEGORIES:Family Friendly,Festivals
ATTACH;FMTTYPE=image/jpeg:https://parentguidenews.com/wp-content/uploads/2024/05/Dreamland-Dream-Wheel-new-1500x1200-1.jpg
GEO:40.7772039;-73.9241333
X-APPLE-STRUCTURED-LOCATION;VALUE=URI;X-ADDRESS=Astoria Park 19 19th Street Astoria NY 11102 United States;X-APPLE-RADIUS=500;X-TITLE=19 19th Street:geo:-73.9241333,40.7772039
END:VEVENT
BEGIN:VEVENT
DTSTART;TZID=America/New_York:20240607T100000
DTEND;TZID=America/New_York:20240607T110000
DTSTAMP:20260420T055758
CREATED:20230829T030517Z
LAST-MODIFIED:20230829T030517Z
UID:10007866-1717754400-1717758000@parentguidenews.com
SUMMARY:Friday Storytime at the Museum
DESCRIPTION:Museum staff and other guest readers share stories\, rhymes and sing-alongs with children ages 2 to 5 years and their caregivers every Friday at 10:00 am. A $5 suggested donation is appreciated. \nLaunched in 2005 by librarian and former Museum Trustee Penny Metsch\, the program is open to all on a first-come\, first-served basis\, and children must be accompanied by a parent or guardian. \nDue to weather or staffing shortages\, the program may be canceled without advance notice. To confirm on the day of the event\, please call 201/656-2240\, or contact us at info@hobokenmuseum.org. \nTips and Guidelines for making Storytime successful: \n\nIf your child is crying or having a difficult time\, please take him or her outside so as not to disturb the others and try to come back another time.\nIf your child is not being gentle with another child\, please separate the children and make sure it doesn’t happen again.\nCell phones are fine for taking pictures of your child\, but not for talking on or texting.\nAll the adults are role models for the children. If they see you sitting and listening to the story\, they will too. If they see you talking or texting\, they won’t.\nPlease enjoy your food AFTER Storytime\, not during\, and take any cups or wrappers with you.\n\nThank you for your cooperation!
URL:https://parentguidenews.com/event/friday-storytime-at-the-museum/2024-06-07/
LOCATION:Hoboken Historical Museum\, 1301 Hudson St\, Hoboken\, NJ\, United States
CATEGORIES:Storytime
GEO:40.7521954;-74.0251241
X-APPLE-STRUCTURED-LOCATION;VALUE=URI;X-ADDRESS=Hoboken Historical Museum 1301 Hudson St Hoboken NJ United States;X-APPLE-RADIUS=500;X-TITLE=1301 Hudson St:geo:-74.0251241,40.7521954
END:VEVENT
BEGIN:VEVENT
DTSTART;TZID=America/New_York:20240607T100000
DTEND;TZID=America/New_York:20240607T120000
DTSTAMP:20260420T055758
CREATED:20240405T150206Z
LAST-MODIFIED:20240425T192715Z
UID:10021825-1717754400-1717761600@parentguidenews.com
SUMMARY:Prospect Park Wellness Walk
DESCRIPTION:Join Prospect Park Alliance at the Prospect Park Audubon Center for an uplifting and energizing morning walk.
URL:https://parentguidenews.com/event/prospect-park-wellness-walk-10/
LOCATION:Prospect Park Audubon Center\, 101 East Drive\, Brooklyn\, NY\, 11225\, United States
CATEGORIES:Parks & Outdoors
ATTACH;FMTTYPE=image/jpeg:https://parentguidenews.com/wp-content/uploads/2024/04/73ada56861ce6fad30672958ee5e6eb4.jpg
GEO:40.6608531;-73.9652942
X-APPLE-STRUCTURED-LOCATION;VALUE=URI;X-ADDRESS=Prospect Park Audubon Center 101 East Drive Brooklyn NY 11225 United States;X-APPLE-RADIUS=500;X-TITLE=101 East Drive:geo:-73.9652942,40.6608531
END:VEVENT
BEGIN:VEVENT
DTSTART;TZID=America/New_York:20240607T100000
DTEND;TZID=America/New_York:20240607T170000
DTSTAMP:20260420T055758
CREATED:20240405T144456Z
LAST-MODIFIED:20240405T144456Z
UID:10020026-1717754400-1717779600@parentguidenews.com
SUMMARY:Story Time/ Music and Movement
DESCRIPTION:Story time- Spark children’s imagination and nurture their love for reading through monthly themed picture books and read-aloud- Every Day at 10 am and 4 pm \nMusic and Movement- Interactive class featuring puppets\, musical instruments\, and props.\n-Every day at 11am and 3 pm
URL:https://parentguidenews.com/event/story-time-music-and-movement-2/2024-06-07/
LOCATION:Westchester Children’s Museum\, 100 Playland Parkway\, Rye\, New York\, 10580
ATTACH;FMTTYPE=image/png:https://parentguidenews.com/wp-content/uploads/2024/04/Music-and-Movement.png
ORGANIZER;CN="westchester childrens museusum":MAILTO:info@discoverwcm.org
GEO:40.9642816;-73.6774881
X-APPLE-STRUCTURED-LOCATION;VALUE=URI;X-ADDRESS=Westchester Children’s Museum 100 Playland Parkway Rye New York 10580;X-APPLE-RADIUS=500;X-TITLE=100 Playland Parkway:geo:-73.6774881,40.9642816
END:VEVENT
BEGIN:VEVENT
DTSTART;TZID=America/New_York:20240607T110000
DTEND;TZID=America/New_York:20240607T111500
DTSTAMP:20260420T055758
CREATED:20231204T143851Z
LAST-MODIFIED:20231204T212500Z
UID:10012101-1717758000-1717758900@parentguidenews.com
SUMMARY:Music & Movement
DESCRIPTION:Interactive class featuring puppets\, musical instruments\, and props.
URL:https://parentguidenews.com/event/music-movement/2024-06-07/
LOCATION:Westchester Children’s Museum\, 100 Playland Parkway\, Rye\, New York\, 10580
CATEGORIES:Children,Classes for Kids,For Children,For the Family,Museums
ATTACH;FMTTYPE=image/png:https://parentguidenews.com/wp-content/uploads/2023/11/3.png
GEO:40.9642816;-73.6774881
X-APPLE-STRUCTURED-LOCATION;VALUE=URI;X-ADDRESS=Westchester Children’s Museum 100 Playland Parkway Rye New York 10580;X-APPLE-RADIUS=500;X-TITLE=100 Playland Parkway:geo:-73.6774881,40.9642816
END:VEVENT
BEGIN:VEVENT
DTSTART;TZID=America/New_York:20240607T110000
DTEND;TZID=America/New_York:20240607T160000
DTSTAMP:20260420T055758
CREATED:20231113T165807Z
LAST-MODIFIED:20231116T203910Z
UID:10011545-1717758000-1717776000@parentguidenews.com
SUMMARY:Walk-in Workshop: Purple Collage
DESCRIPTION:What could you make if you only could use purple materials?  You’ll get a chance to see in our Walk-in! Workshop in November. We’ll be making vibrant abstract art only in shades of purple in honor of Alzheimer’s Awareness Month. Come and join this fun challenge!
URL:https://parentguidenews.com/event/walk-in-workshop-purple-collage/2024-06-07/
LOCATION:Staten Island Children’s Museum\, 1000 Richmond Terrace\, Building M\, Staten Island\, NY\, 10301\, United States
CATEGORIES:art,Art-Making,crafts
ATTACH;FMTTYPE=image/png:https://parentguidenews.com/wp-content/uploads/2023/11/Purple-Collage-Rhombus-MGQewx.tmp_.png
GEO:40.6445604;-74.1027528
X-APPLE-STRUCTURED-LOCATION;VALUE=URI;X-ADDRESS=Staten Island Children’s Museum 1000 Richmond Terrace Building M Staten Island NY 10301 United States;X-APPLE-RADIUS=500;X-TITLE=1000 Richmond Terrace\, Building M:geo:-74.1027528,40.6445604
END:VEVENT
BEGIN:VEVENT
DTSTART;TZID=America/New_York:20240607T113000
DTEND;TZID=America/New_York:20240607T170000
DTSTAMP:20260420T055758
CREATED:20231220T121312Z
LAST-MODIFIED:20231220T121312Z
UID:10014252-1717759800-1717779600@parentguidenews.com
SUMMARY:Museum Minis
DESCRIPTION:Music\, stories\, play\, and activities encourage caregiver interaction.
URL:https://parentguidenews.com/event/museum-minis-2/2024-06-07/
LOCATION:Westchester Children’s Museum\, 100 Playland Parkway\, Rye\, New York\, 10580
CATEGORIES:Children,Dance,Kids,Museums,Toddler
ATTACH;FMTTYPE=image/png:https://parentguidenews.com/wp-content/uploads/2023/12/5.png
ORGANIZER;CN="westchester childrens museusum":MAILTO:info@discoverwcm.org
GEO:40.9642816;-73.6774881
X-APPLE-STRUCTURED-LOCATION;VALUE=URI;X-ADDRESS=Westchester Children’s Museum 100 Playland Parkway Rye New York 10580;X-APPLE-RADIUS=500;X-TITLE=100 Playland Parkway:geo:-73.6774881,40.9642816
END:VEVENT
BEGIN:VEVENT
DTSTART;TZID=America/New_York:20240607T130000
DTEND;TZID=America/New_York:20240607T140000
DTSTAMP:20260420T055758
CREATED:20240408T154142Z
LAST-MODIFIED:20240408T154142Z
UID:10022006-1717765200-1717768800@parentguidenews.com
SUMMARY:Backyard Sugaring @ Muscoot Farm
DESCRIPTION:Did you know that you can make your own maple syrup right in your backyard? Come by to learn about the equipment you will need\, identifying sugar maples in all seasons\, the right way to tap trees\, and how to turn sap from maples in your yard into syrup on your pancakes! Sessions will meet at 1:00pm and 2:00pm at Muscoot’s Sugar Shack to tour our equipment and see our maples.
URL:https://parentguidenews.com/event/backyard-sugaring-muscoot-farm-144/
CATEGORIES:Westchester
END:VEVENT
BEGIN:VEVENT
DTSTART;TZID=America/New_York:20240607T190000
DTEND;TZID=America/New_York:20240607T220000
DTSTAMP:20260420T055758
CREATED:20231102T010735Z
LAST-MODIFIED:20231102T010735Z
UID:10010903-1717786800-1717797600@parentguidenews.com
SUMMARY:Alvin Ailey American Dance Theater’s New York City Center Season November 29 – December 31\, 2023
DESCRIPTION:Alvin Ailey American Dance Theater\, beloved as one of the world’s most popular dance companies\, returns to New York City Center November 29 – December 31\, 2023\, for an engagement that has become a joyous holiday tradition. Ailey’s extraordinary dancers will move audiences with world premieres by Amy Hall Garner and Elizabeth Roxas-Dobrish along with new productions and a variety of repertory favorites. For this 65th anniversary season\, highlights of a dozen works by founder Alvin Ailey will be presented in special programs\, including performances featuring music by jazz greats and his American masterpiece Revelations\, both danced to live music at some performances. Tickets starting at $32 go on sale September 19 at the New York City Center Box Office\, through Customer Care at 212-581-1212\, or online at www.alvinailey.org or www.nycitycenter.org. For further information\, visit www.alvinailey.org. \nPerformance Times:\nOpening Night Gala (November 29) 7pm (note earlier curtain time)\nTuesday – Thursday evenings 7:30pm\nWednesday matinee (Dec. 20 & 27) 2pm\nFriday & Saturday evenings 8pm\nSaturday Family matinees 2pm\nSunday matinees 3pm\nNew Year’s Eve matinee 2pm
URL:https://parentguidenews.com/event/alvin-ailey-american-dance-theaters-new-york-city-center-season-november-29-december-31-2023/2024-06-07/
ATTACH;FMTTYPE=image/jpeg:https://parentguidenews.com/wp-content/uploads/2023/11/Alvin-Ailey-American-Dance-Theater-in-Alvin-Aileys-Revelations.-Photo-by-Dario-Calmese_012-1.jpg
END:VEVENT
END:VCALENDAR